BEGIN:VCALENDAR
VERSION:2.0
PRODID:-//Visit The Malverns - ECPv6.15.20//NONSGML v1.0//EN
CALSCALE:GREGORIAN
METHOD:PUBLISH
X-ORIGINAL-URL:https://www.visitthemalverns.org
X-WR-CALDESC:Events for Visit The Malverns
REFRESH-INTERVAL;VALUE=DURATION:PT1H
X-Robots-Tag:noindex
X-PUBLISHED-TTL:PT1H
BEGIN:VTIMEZONE
TZID:Europe/London
BEGIN:DAYLIGHT
TZOFFSETFROM:+0000
TZOFFSETTO:+0100
TZNAME:BST
DTSTART:20240331T010000
END:DAYLIGHT
BEGIN:STANDARD
TZOFFSETFROM:+0100
TZOFFSETTO:+0000
TZNAME:GMT
DTSTART:20241027T010000
END:STANDARD
BEGIN:DAYLIGHT
TZOFFSETFROM:+0000
TZOFFSETTO:+0100
TZNAME:BST
DTSTART:20250330T010000
END:DAYLIGHT
BEGIN:STANDARD
TZOFFSETFROM:+0100
TZOFFSETTO:+0000
TZNAME:GMT
DTSTART:20251026T010000
END:STANDARD
BEGIN:DAYLIGHT
TZOFFSETFROM:+0000
TZOFFSETTO:+0100
TZNAME:BST
DTSTART:20260329T010000
END:DAYLIGHT
BEGIN:STANDARD
TZOFFSETFROM:+0100
TZOFFSETTO:+0000
TZNAME:GMT
DTSTART:20261025T010000
END:STANDARD
BEGIN:DAYLIGHT
TZOFFSETFROM:+0000
TZOFFSETTO:+0100
TZNAME:BST
DTSTART:20270328T010000
END:DAYLIGHT
BEGIN:STANDARD
TZOFFSETFROM:+0100
TZOFFSETTO:+0000
TZNAME:GMT
DTSTART:20271031T010000
END:STANDARD
END:VTIMEZONE
BEGIN:VEVENT
DTSTART;TZID=Europe/London:20250124T080000
DTEND;TZID=Europe/London:20260301T170000
DTSTAMP:20260425T211713
CREATED:20250124T150306Z
LAST-MODIFIED:20250519T133051Z
UID:10017685-1737705600-1772384400@www.visitthemalverns.org
SUMMARY:Pages from Nature: Walk through the Pleasure Grounds
DESCRIPTION:Purchase a booklet inspired by the 1824 guidebook to Croome\, the Hortus Croomensis\, to explore the garden. Discover the history behind the landscape design; take time to sketch in the booklet\, pause along the way to appreciate the scents in the special scent boxes – can you guess what they are? Delve into quotes from the two-hundred-year-old text to feel transported back two centuries. \nA copy of the booklet costs £3 and the route is approximately 2 miles long (on hard-surface paths). Booking is not needed\, but normal admission charges apply. \nVisit the website for Croome’s opening hours and further information.
URL:https://www.visitthemalverns.org/event/pages-from-nature-walk-through-the-pleasure-grounds/
LOCATION:Croome Park\, High Green\, Worcester\, Worcs\, WR8 9DW
CATEGORIES:Garden,Trail,Walks
ATTACH;FMTTYPE=image/jpeg:https://www.visitthemalverns.org/wp-content/uploads/2025/01/Croome-2-by-Roger-Chapman-on-Unsplash-1.jpg
GEO:52.1042101;-2.1644462
X-APPLE-STRUCTURED-LOCATION;VALUE=URI;X-ADDRESS=Croome Park High Green Worcester Worcs WR8 9DW;X-APPLE-RADIUS=500;X-TITLE=High Green:geo:-2.1644462,52.1042101
END:VEVENT
BEGIN:VEVENT
DTSTART;TZID=Europe/London:20250306T123000
DTEND;TZID=Europe/London:20250306T133000
DTSTAMP:20260425T211713
CREATED:20241123T152153Z
LAST-MODIFIED:20241123T152450Z
UID:10016835-1741264200-1741267800@www.visitthemalverns.org
SUMMARY:Spring Lunchbox at Great Malvern Priory
DESCRIPTION:Thursday lunchtime talks and concerts in Great Malvern Priory\, held fortnightly. \nBring your own lunch to eat at 12.30pm\, followed by talk or concert from 1pm – 1.30pm. \nThursday 9 January 2025\n40 Things You May Not Know About Malvern\nTalk by Carl Flint \nThursday 23 January 2025\nMalvern’s Ancient History – Volcanoes\, Tropical Seas\, Deserts and Ice Ages\nTalk by Moira Jenkins \nThursday 6 February 2025\nConcert by Students from Malvern College \nThursday 20 February 2025\nThe Home Front in Malvern\, 1914\nTalk by Faith Renger \nThursday 6 March 2025\nConcerts by Students from Malvern St. James \nThursday 20 March 2025\nAn Insight into Asperger’s/Autism\nTalk by Julia Micklewright \nThursday 3 April 2025\nLaura Knight (1877 – 1970): The Famous Artist and Her Time in Malvern\nTalk by Heather Whatley
URL:https://www.visitthemalverns.org/event/spring-lunchbox-at-great-malvern-priory/2025-03-06/
LOCATION:Great Malvern Priory\, WR14 2AY
ATTACH;FMTTYPE=image/jpeg:https://www.visitthemalverns.org/wp-content/uploads/2021/08/Lunch-Box-Spring-2022.jpg
GEO:52.11060672681;-2.3285150529525
X-APPLE-STRUCTURED-LOCATION;VALUE=URI;X-ADDRESS=Great Malvern Priory WR14 2AY;X-APPLE-RADIUS=500;X-TITLE=WR14 2AY:geo:-2.3285150529525,52.11060672681
END:VEVENT
BEGIN:VEVENT
DTSTART;TZID=Europe/London:20250306T130000
DTEND;TZID=Europe/London:20250306T134500
DTSTAMP:20260425T211713
CREATED:20250207T132856Z
LAST-MODIFIED:20250207T132856Z
UID:10017954-1741266000-1741268700@www.visitthemalverns.org
SUMMARY:On Falling (15) PREVIEW (Borderlines Film Festival)
DESCRIPTION:DIRECTOR: Laura Carreira\nSTARRING: Joana Santos\, Inês Vaz\, Piotr Sikora\nUK/PORTUGAL\, 2024\,\n1 HOUR 44 MINUTES\,\nENGLISH/PORTUGUESE + ENGLISH SUBTITLES \nLaura Carreira’s impressive feature debut is a powerful and nuanced meditation on social isolation and alienation. \nWorking round the clock at a vast fulfilment centre in Edinburgh\, warehouse picker Aurora (Portuguese screen star Joana Santos) is a slave to the algorithm. Trapped between the\nconfines of her workplace and the solitude of her flat share\, she is desperate to build a rich and meaningful life but enjoys only the slightest of exchanges with her co-workers and flatmates. \nWithin a culture dominated by an anonymising gig economy and the wider social and technological forces that seem designed to keep us apart\, On Falling explores the struggle to find real connection. \nBest Director\, San Sebastián International Film Festival 2024\nSutherland Prize for First Feature\, BFI London Film Festival 2024 \nPreview courtesy of Conic \nShow Times\n*Film starts at advertised time*\nSunday 2nd March at 7pm – STUDIO ONE\nThursday 6th March at 1pm – CINEMA
URL:https://www.visitthemalverns.org/event/on-falling-15-preview-borderlines-film-festival/2025-03-06/
CATEGORIES:Film,Malvern
ATTACH;FMTTYPE=image/jpeg:https://www.visitthemalverns.org/wp-content/uploads/2024/11/Borderlines-Film-Festival-2025-v2.jpg
END:VEVENT
BEGIN:VEVENT
DTSTART;TZID=Europe/London:20250306T131500
DTEND;TZID=Europe/London:20250306T150000
DTSTAMP:20260425T211713
CREATED:20250207T120302Z
LAST-MODIFIED:20250207T120302Z
UID:10017950-1741266900-1741273200@www.visitthemalverns.org
SUMMARY:To a Land Unknown (15) (Borderlines Film Festival)
DESCRIPTION:DIRECTOR: Mahdi Fleifel\nSTARRING: Mahmood Bakri\, Aram Sabbah\, Angeliki Papoulia\nUK/PALESTINE/FRANCE/GREECE/NETHERLANDS/GERMANY/QATAR/ SAUDI ARABIA\, 2024\,\n1 HOUR 45 MINUTES\,\nARABIC/GREEK/ENGLISH + ENGLISH SUBTITLES \nFleifel’s first feature about two Palestinian refugees stranded in Athens is an intense thriller with high moral stakes. \nCousins Chatila and Reda dream of opening a café in Germany. For now\, they’re reduced to begging\, borrowing and grifting their way through the city streets to raise money for fake passports. But when Reda loses their stash to his drug addiction\, it barrels them towards a knife-edge scheme to make one big score and get out. \nPainting refugees as neither victims\, martyrs nor saints\, this modern neorealist tale that recalls Bicycle Thieves and Midnight Cowboy is a powerful exercise in wringing extreme tension from the most human of impulses: to live in safety\, to bring comfort to ourselves and our families. \nShow Times\n*Film starts at advertised time*\nSunday 2nd March at 4.30pm – STUDIO ONE\nWednesday 5th March at 4.30pm – CINEMA\nThursday 6th March at 1.15pm – STUDIO ONE
URL:https://www.visitthemalverns.org/event/to-a-land-unknown-15-borderlines-film-festival/2025-03-06/
LOCATION:Malvern Theatres\, WR14 3HB
CATEGORIES:Film,Malvern
ATTACH;FMTTYPE=image/jpeg:https://www.visitthemalverns.org/wp-content/uploads/2024/11/Borderlines-Film-Festival-2025-v2.jpg
GEO:52.1106766;-2.3267752
X-APPLE-STRUCTURED-LOCATION;VALUE=URI;X-ADDRESS=Malvern Theatres WR14 3HB;X-APPLE-RADIUS=500;X-TITLE=WR14 3HB:geo:-2.3267752,52.1106766
END:VEVENT
BEGIN:VEVENT
DTSTART;TZID=Europe/London:20250306T160000
DTEND;TZID=Europe/London:20250306T173000
DTSTAMP:20260425T211713
CREATED:20250203T163637Z
LAST-MODIFIED:20250203T163637Z
UID:10017829-1741276800-1741282200@www.visitthemalverns.org
SUMMARY:Hard Truths (12A) (Borderlines Film Festival)
DESCRIPTION:Director: Mike Leigh\nStarring: Marianne Jean-Baptiste\, Michele Austin\, David Webber\, Tuwaine Barrett\, Ani Nelson\nUK\, 2024\, 1 hour 37 minutes\nAD Audio description available\nDS Descriptive subtitles: Thursday 6th March at 4pm \nMike Leigh returns with a fierce\, compassionate and darkly funny character study. \nAngry\, depressed and wracked by fear\, Pansy (BAFTA-winner Jean-Baptiste) lashes out at family and strangers alike. She simply cannot help herself. Her constant criticism isolates her from others save her warm\, easy-going sister Chantal who remains sympathetic despite their clashing temperaments. Inverting the optimism of Leigh’s Happy-Go-Lucky\, this rich and expansive film from a master dramatist explores family\, sisterhood and the enduring mysteries of character. \nThe screening on Saturday is sponsored by Simon Payton \nShow times\n*Film starts at advertised time*\nFriday 28th February at 5pm\nSaturday 1st March at 1.15pm\nThursday 6th March at 4pm (with Descriptive Subtitles)\nVenue: Cinema
URL:https://www.visitthemalverns.org/event/hard-truths-12a-borderlines-film-festival/2025-03-06/
LOCATION:Malvern Theatres\, WR14 3HB
CATEGORIES:Cinema,Festival,Film
ATTACH;FMTTYPE=image/jpeg:https://www.visitthemalverns.org/wp-content/uploads/2024/11/Borderlines-Film-Festival-2025-v2.jpg
GEO:52.1106766;-2.3267752
X-APPLE-STRUCTURED-LOCATION;VALUE=URI;X-ADDRESS=Malvern Theatres WR14 3HB;X-APPLE-RADIUS=500;X-TITLE=WR14 3HB:geo:-2.3267752,52.1106766
END:VEVENT
BEGIN:VEVENT
DTSTART;TZID=Europe/London:20250306T170000
DTEND;TZID=Europe/London:20250306T184500
DTSTAMP:20260425T211713
CREATED:20250210T104513Z
LAST-MODIFIED:20250210T105322Z
UID:10017973-1741280400-1741286700@www.visitthemalverns.org
SUMMARY:Julie Keeps Quiet (12A) PREVIEW (Borderlines Film Festival
DESCRIPTION:DIRECTOR: Leonardo Van Dijl\nSTARRING: Tessa Van den Broeck\, Grace Biot\, Alyssa Lorette\nBELGIUM/SWEDEN\, 2024\,\n1 HOUR 40 MINUTES\,\nDUTCH/FRENCH + ENGLISH SUBTITLES \nA taut and controlled study of power\, abuse and repression is set in an elite tennis academy. \nJulie\, superbly played by newcomer and teen tennis player Tessa Van den Broeck\, excels in her sport of choice. She’s a star student\, heading for a professional career. When her\ncoach Jérémy is suspended\, suspicions of inappropriate conduct link him to the suicide of a former top pupil. As investigations into further possible abuse are pursued\, Julie is encouraged to speak up. She remains silent\, fixed on her game. This quietly potent drama speaks volumes about the inner turmoil and outward repression of abuse and trauma. \n“…a tense\, absorbing movie of silences and absences\, of difficult terrain skirted around\, of subjects avoided.” ★★★★ Peter Bradshaw\, The Guardian \nPreview courtesy of Curzon Film \nShow Times\n*Film starts at advertised time*\nThursday 6th March at 5pm\nVenue: Forum Theatr
URL:https://www.visitthemalverns.org/event/julie-keeps-quiet-12a-preview-borderlines-film-festival/
LOCATION:Malvern Theatres\, WR14 3HB
CATEGORIES:Film,Malvern
ATTACH;FMTTYPE=image/jpeg:https://www.visitthemalverns.org/wp-content/uploads/2024/11/Borderlines-Film-Festival-2025-v2.jpg
GEO:52.1106766;-2.3267752
X-APPLE-STRUCTURED-LOCATION;VALUE=URI;X-ADDRESS=Malvern Theatres WR14 3HB;X-APPLE-RADIUS=500;X-TITLE=WR14 3HB:geo:-2.3267752,52.1106766
END:VEVENT
BEGIN:VEVENT
DTSTART;TZID=Europe/London:20250306T191500
DTEND;TZID=Europe/London:20250306T210000
DTSTAMP:20260425T211713
CREATED:20250203T172109Z
LAST-MODIFIED:20250203T172109Z
UID:10017853-1741288500-1741294800@www.visitthemalverns.org
SUMMARY:When Autumn Falls (15) (Preview) (Borderlines Film Festival)
DESCRIPTION:Director: François Ozon\,\nStarring: Hélène Vincent\, Josiane Balasko\nFrance\, 2024\, 1 hour 43 minutes\, French + English subtitles \nEver-inventive\, French auteur François Ozon (8 Women\, Swimming Pool\, Potiche\, Frantz) returns with a twisty\, bittersweet story about age\, youth\, the past and the art of breaking the rules. \nIn a picturesque Burgundy village\, Michelle is enjoying what looks like blissful rural retirement close to her old friend Marie-Claude. But tensions with the younger generation – between Michelle and her own hostile daughter and the return of Marie-Claude’s scoundrel of a son – cause ructions. \nA straightforward character portrait and tense drama with a thriller element turns into something else as secrets from the past make their way to the surface. Elegant\, slippery storytelling\, daring tonal shifts and a wonderful lead performance from Vincent make this a delightful offering. \nPreview courtesy of Parkland Entertainment \nShow times\n*Film starts at advertised time*\nSaturday 2nd March at 12.30pm\nThursday 6th March at 7.15pm\nVenue: Cinema
URL:https://www.visitthemalverns.org/event/when-autumn-falls-15-preview-borderlines-film-festival/2025-03-06/
LOCATION:Malvern Theatres\, WR14 3HB
CATEGORIES:Cinema,Festival,Film
ATTACH;FMTTYPE=image/jpeg:https://www.visitthemalverns.org/wp-content/uploads/2024/11/Borderlines-Film-Festival-2025-v2.jpg
GEO:52.1106766;-2.3267752
X-APPLE-STRUCTURED-LOCATION;VALUE=URI;X-ADDRESS=Malvern Theatres WR14 3HB;X-APPLE-RADIUS=500;X-TITLE=WR14 3HB:geo:-2.3267752,52.1106766
END:VEVENT
BEGIN:VEVENT
DTSTART;TZID=Europe/London:20250306T193000
DTEND;TZID=Europe/London:20250306T213000
DTSTAMP:20260425T211713
CREATED:20240816T165052Z
LAST-MODIFIED:20240816T165052Z
UID:10015986-1741289400-1741296600@www.visitthemalverns.org
SUMMARY:Worcestershire Wildlife Trust: Talk Organised by Malvern Local Group
DESCRIPTION:The Malvern Local Group of the Worcestershire Wildlife Trust organises a series of talks running monthly from September to May. They are held at the Lyttelton Rooms on Church Street and all are welcome (both members and non-members). A small charge of £3 (including refreshments) per meeting is payable on the door and each talk starts at 7.30pm. \nProgramme for 2024/25\n5/9/24\nDr Kate Ashbrook\nSustainable Food Production \n3/10/24\nJean Young\nRe insects \n7/11/24\nChantal Lyons\nWild Boar \n5/12/24\nHelen Mugridge\nWildlife of Finland \n16/1/25\nEden Tanner\nJust Scratching the Surface (Parasites) \n6/2/25\nRepresentative\nWork of the Vale Wildlife Hospital Tewkesbury \n6/3/25\nGordon Forest\nBirds and History of Upton Warren \n3/4/25\nPhilip Seaton\nOrchid Conservation \n1/5/25\nDominique Craig\nMammals of Worcestershire
URL:https://www.visitthemalverns.org/event/worcestershire-wildlife-trust-talk-organised-by-malvern-local-group/2025-03-06/
LOCATION:The Lyttelton Well Hall\, 6 Church Street\, Malvern\, WR14 2AY
CATEGORIES:Talk
ATTACH;FMTTYPE=image/jpeg:https://www.visitthemalverns.org/wp-content/uploads/2024/08/WWT-Logo-Stacked-Landscape-2024.jpg
GEO:52.11127;-2.32785
X-APPLE-STRUCTURED-LOCATION;VALUE=URI;X-ADDRESS=The Lyttelton Well Hall 6 Church Street Malvern WR14 2AY;X-APPLE-RADIUS=500;X-TITLE=6 Church Street:geo:-2.32785,52.11127
END:VEVENT
BEGIN:VEVENT
DTSTART;TZID=Europe/London:20250306T193000
DTEND;TZID=Europe/London:20250306T213000
DTSTAMP:20260425T211713
CREATED:20241209T163910Z
LAST-MODIFIED:20241209T164223Z
UID:10017001-1741289400-1741296600@www.visitthemalverns.org
SUMMARY:Hairspray
DESCRIPTION:Starring Strictly Come Dancing’s Joanne Clifton (Shrek the Musical\, The Addams Family) as the fierce-yet-fabulous Velma von Tussle\, this production of the big\, bold and beautiful musical Hairspray is directed by Hairspray royalty in the form of Brenda Edwards (Hairspray\, We Will Rock You)\, who will bring new energy from behind the scenes. \nOriginally performed back in 2002\, Hairspray took Broadway by storm\, winning 8 Tony awards. The production went on to garner 4 Olivier awards in the West End\, and multiple other awards worldwide. Now this feel-good classic is back. \nBoasting some of musical theatre’s biggest hit songs\, including Welcome to the ’60s\, You Can’t Stop the Beat\, Good Morning Baltimore and many more\, Hairspray is the hilarious\, joyous\, and inspiring musical for all! \nJoin big-hearted Tracy Turnblad and her new friends – the spirited Seaweed and his sister Little Inez\, heartthrob Link Larkin and the resolute Motormouth Maybelle – as they strive to change the world. Hairspray has wowed audiences in the West End and on Broadway over thousands of performances and still packs a punch today with its pertinent message of tolerance and the fight against racial discrimination. \nThis fun-filled production is bursting with show-stopping numbers and dizzying dance routines. So\, come and join the beat because just to sit still would be a crime! \nShow times\nMonday 3 March 2025\, 7.30pm\nTuesday 4 March 2025\, 7.30pm\nWednesday 5 March 2025\, 2.30pm\nWednesday 5 March 2025\, 7.30pm\nThursday 6 March 2025\, 7.30pm\nFriday 7 March 2025\, 7.30pm\nSaturday 8 March 2025\, 2.30pm\nSaturday 8 March 2025\, 7.30pm
URL:https://www.visitthemalverns.org/event/hairspray/2025-03-06/
LOCATION:Malvern Theatres\, WR14 3HB
CATEGORIES:Dance,Malvern,Music,Theatre
ATTACH;FMTTYPE=image/jpeg:https://www.visitthemalverns.org/wp-content/uploads/2021/06/iStock-178357283-theatre-resized-1-e1758120760526.jpg
GEO:52.1106766;-2.3267752
X-APPLE-STRUCTURED-LOCATION;VALUE=URI;X-ADDRESS=Malvern Theatres WR14 3HB;X-APPLE-RADIUS=500;X-TITLE=WR14 3HB:geo:-2.3267752,52.1106766
END:VEVENT
BEGIN:VEVENT
DTSTART;TZID=Europe/London:20250306T193000
DTEND;TZID=Europe/London:20250306T220000
DTSTAMP:20260425T211713
CREATED:20250210T105217Z
LAST-MODIFIED:20250210T105217Z
UID:10017974-1741289400-1741298400@www.visitthemalverns.org
SUMMARY:La Cocina (15) PREVIEW (Borderlines Film Festival)
DESCRIPTION:DIRECTOR: Alonso Ruizpalacios\nSTARRING: Raúl Briones\, Rooney Mara\, Anna Diaz\, Motell Foster\nUS/MEXICO\, 2024\,\n2 HOURS 19 MINUTES\,\nENGLISH/SPANISH + ENGLISH SUBTITLES \nTensions simmer in a busy Times Square restaurant where back-of-house staff chase the American dream. \nHere\, in fine-grained black and white\, is the pressure cooker of the modern professional kitchen\, shifting away from haute cuisine to the phenomenally tough lives of the immigrant workers who keep the line running. Newcomer Estela pitches up seeking work on a day when money goes missing\, with swaggerer Pedro the prime suspect. Meanwhile\, hostess Julia grapples with her own commitments. \nDerived from Arnold Wesker’s play\, The Kitchen\, but informed by Ruizpalacios’ own experiences\, this microcosm of contemporary capitalism teeters on the edge of total chaos. \n“The Bear on steroids” Deadline \nPreview courtesy of Picturehouse Entertainment \nThe screening on Thursday in Malvern is sponsored by BAR LIMÓN \nShow Times\n*Film starts at advertised time*\nThursday 6th March at 7.30pm – FORUM\nSunday 9th March at 4pm – CINEMA
URL:https://www.visitthemalverns.org/event/la-cocina-15-preview-borderlines-film-festival/2025-03-06/
LOCATION:Malvern Theatres\, WR14 3HB
CATEGORIES:Film,Malvern
ATTACH;FMTTYPE=image/jpeg:https://www.visitthemalverns.org/wp-content/uploads/2024/11/Borderlines-Film-Festival-2025-v2.jpg
GEO:52.1106766;-2.3267752
X-APPLE-STRUCTURED-LOCATION;VALUE=URI;X-ADDRESS=Malvern Theatres WR14 3HB;X-APPLE-RADIUS=500;X-TITLE=WR14 3HB:geo:-2.3267752,52.1106766
END:VEVENT
END:VCALENDAR