BEGIN:VCALENDAR
VERSION:2.0
PRODID:-//Visit The Malverns - ECPv6.15.20//NONSGML v1.0//EN
CALSCALE:GREGORIAN
METHOD:PUBLISH
X-ORIGINAL-URL:https://www.visitthemalverns.org
X-WR-CALDESC:Events for Visit The Malverns
REFRESH-INTERVAL;VALUE=DURATION:PT1H
X-Robots-Tag:noindex
X-PUBLISHED-TTL:PT1H
BEGIN:VTIMEZONE
TZID:Europe/London
BEGIN:DAYLIGHT
TZOFFSETFROM:+0000
TZOFFSETTO:+0100
TZNAME:BST
DTSTART:20240331T010000
END:DAYLIGHT
BEGIN:STANDARD
TZOFFSETFROM:+0100
TZOFFSETTO:+0000
TZNAME:GMT
DTSTART:20241027T010000
END:STANDARD
BEGIN:DAYLIGHT
TZOFFSETFROM:+0000
TZOFFSETTO:+0100
TZNAME:BST
DTSTART:20250330T010000
END:DAYLIGHT
BEGIN:STANDARD
TZOFFSETFROM:+0100
TZOFFSETTO:+0000
TZNAME:GMT
DTSTART:20251026T010000
END:STANDARD
BEGIN:DAYLIGHT
TZOFFSETFROM:+0000
TZOFFSETTO:+0100
TZNAME:BST
DTSTART:20260329T010000
END:DAYLIGHT
BEGIN:STANDARD
TZOFFSETFROM:+0100
TZOFFSETTO:+0000
TZNAME:GMT
DTSTART:20261025T010000
END:STANDARD
BEGIN:DAYLIGHT
TZOFFSETFROM:+0000
TZOFFSETTO:+0100
TZNAME:BST
DTSTART:20270328T010000
END:DAYLIGHT
BEGIN:STANDARD
TZOFFSETFROM:+0100
TZOFFSETTO:+0000
TZNAME:GMT
DTSTART:20271031T010000
END:STANDARD
END:VTIMEZONE
BEGIN:VEVENT
DTSTART;TZID=Europe/London:20250124T080000
DTEND;TZID=Europe/London:20260301T170000
DTSTAMP:20260425T194831
CREATED:20250124T150306Z
LAST-MODIFIED:20250519T133051Z
UID:10017685-1737705600-1772384400@www.visitthemalverns.org
SUMMARY:Pages from Nature: Walk through the Pleasure Grounds
DESCRIPTION:Purchase a booklet inspired by the 1824 guidebook to Croome\, the Hortus Croomensis\, to explore the garden. Discover the history behind the landscape design; take time to sketch in the booklet\, pause along the way to appreciate the scents in the special scent boxes – can you guess what they are? Delve into quotes from the two-hundred-year-old text to feel transported back two centuries. \nA copy of the booklet costs £3 and the route is approximately 2 miles long (on hard-surface paths). Booking is not needed\, but normal admission charges apply. \nVisit the website for Croome’s opening hours and further information.
URL:https://www.visitthemalverns.org/event/pages-from-nature-walk-through-the-pleasure-grounds/
LOCATION:Croome Park\, High Green\, Worcester\, Worcs\, WR8 9DW
CATEGORIES:Garden,Trail,Walks
ATTACH;FMTTYPE=image/jpeg:https://www.visitthemalverns.org/wp-content/uploads/2025/01/Croome-2-by-Roger-Chapman-on-Unsplash-1.jpg
GEO:52.1042101;-2.1644462
X-APPLE-STRUCTURED-LOCATION;VALUE=URI;X-ADDRESS=Croome Park High Green Worcester Worcs WR8 9DW;X-APPLE-RADIUS=500;X-TITLE=High Green:geo:-2.1644462,52.1042101
END:VEVENT
BEGIN:VEVENT
DTSTART;TZID=Europe/London:20250327T143000
DTEND;TZID=Europe/London:20250327T160000
DTSTAMP:20260425T194831
CREATED:20250312T171116Z
LAST-MODIFIED:20250312T171116Z
UID:10018611-1743085800-1743091200@www.visitthemalverns.org
SUMMARY:Lecture: Madresfield – The Real Brideshead by Marguerite Collins
DESCRIPTION:The Friends of Malvern Museum organise a series of fascinating lectures on various topics. \nOn 27 March 2025\, come along and listen to the knowledgeable speaker as she explains more about the personalities within the illustrious Lygon family of Madresfield Court\, and unravels the fiction from the facts that lie behind Evelyn Waugh’s great novel\, Brideshead Revisited. \nLectures begin at 2.30pm and admission is free to Friends of Malvern Museum or £3 for visitors. \nRefreshments are served during the meeting at a small charge.
URL:https://www.visitthemalverns.org/event/lecture-madresfield-the-real-brideshead-by-marguerite-collins/
LOCATION:Christchurch Hall\, Avenue Road\, Malvern\, WR14 3AY
CATEGORIES:Community,History,Malvern,Talk
ATTACH;FMTTYPE=image/jpeg:https://www.visitthemalverns.org/wp-content/uploads/2022/06/ilyass-seddoug-unsplash-microphone.jpg
GEO:52.10995;-2.31611
X-APPLE-STRUCTURED-LOCATION;VALUE=URI;X-ADDRESS=Christchurch Hall Avenue Road Malvern WR14 3AY;X-APPLE-RADIUS=500;X-TITLE=Avenue Road:geo:-2.31611,52.10995
END:VEVENT
BEGIN:VEVENT
DTSTART;TZID=Europe/London:20250327T143000
DTEND;TZID=Europe/London:20250327T163000
DTSTAMP:20260425T194831
CREATED:20250220T165949Z
LAST-MODIFIED:20250220T165949Z
UID:10018193-1743085800-1743093000@www.visitthemalverns.org
SUMMARY:She Stoops to Conquer
DESCRIPTION:Here to There Productions presents She Stoops to Conquer by Oliver Goldsmith. \nWhen everyone is up to something – how is anything ever going to get done..? \nConfusion\, mis-communication\, deceit\, chaos and lots and lots of frilly bits\, in Oliver Goldsmith’s classic farce. \nWith all the characters pursuing their own agendas\, a practical joker in their midst\, and no one entirely certain who is up to what\, will the lovers ever get together? And which lovers? \nShow times\nMonday 24 March 2025\, 7.30pm\nTuesday 25 March 2025\, 7.30pm\nWednesday 26 March 2025\, 7.30pm\nThursday 27 March 2025\, 2.30pm\nThursday 27 March 2025\, 7.30pm\nFriday 28 March 2025\, 7.30pm\nSaturday 29 March 2025\, 2.30pm\nSaturday 29 March 2025\, 7.30pm
URL:https://www.visitthemalverns.org/event/she-stoops-to-conquer/2025-03-27/1/
LOCATION:Coach House Theatre\, WR14 3HA
CATEGORIES:Theatre
ATTACH;FMTTYPE=image/jpeg:https://www.visitthemalverns.org/wp-content/uploads/2021/06/iStock-178357283-theatre-resized-1-e1758120760526.jpg
GEO:52.1111548;-2.3261654
X-APPLE-STRUCTURED-LOCATION;VALUE=URI;X-ADDRESS=Coach House Theatre WR14 3HA;X-APPLE-RADIUS=500;X-TITLE=WR14 3HA:geo:-2.3261654,52.1111548
END:VEVENT
BEGIN:VEVENT
DTSTART;TZID=Europe/London:20250327T153000
DTEND;TZID=Europe/London:20250327T160000
DTSTAMP:20260425T194831
CREATED:20250315T153452Z
LAST-MODIFIED:20250315T153452Z
UID:10018708-1743089400-1743091200@www.visitthemalverns.org
SUMMARY:Mickey 17 (15)
DESCRIPTION:Unlikely hero\, Mickey Barnes (Robert Pattinson) finds himself in the extraordinary position of working for an employer who demands the ultimate commitment to the job – to die\, for a living.\nFrom the Academy Award-winning writer/director of Parasite\, Mickey 17 is Bong Joon Ho’s next groundbreaking cinematic experience.\nMickey 17 also stars Naomi Ackie\, Steven Yeun\, Toni Collette and Mark Ruffalo. \nCert:  15 \nAD  Audio Description available \nDS  Descriptive Subtitles:  Monday 24 March at 7:15pm \nPrices:  \nEvenings:  £9/£10 (Premium seats)\nMornings and matinees:  £8/£9 (Premium seats)\nConcessions and members discounts apply \nShow Times:\nFriday 21 March at 7:15pm\nSaturday 22 March at 7:15pm\nSunday 23 March at 3pm\nMonday 24 March at 7:15pm (with DS)\nTuesday 25 March at 4pm\nWednesday 26 March at 7:15pm\nThursday 27 March at 3:30pm
URL:https://www.visitthemalverns.org/event/mickey-17-15/2025-03-27/
LOCATION:Malvern Theatres\, WR14 3HB
CATEGORIES:Cinema,Film
ATTACH;FMTTYPE=image/jpeg:https://www.visitthemalverns.org/wp-content/uploads/2021/07/iStock-1191001701-cinema-resized-1.jpg
GEO:52.1106766;-2.3267752
X-APPLE-STRUCTURED-LOCATION;VALUE=URI;X-ADDRESS=Malvern Theatres WR14 3HB;X-APPLE-RADIUS=500;X-TITLE=WR14 3HB:geo:-2.3267752,52.1106766
END:VEVENT
BEGIN:VEVENT
DTSTART;TZID=Europe/London:20250327T183000
DTEND;TZID=Europe/London:20250327T193000
DTSTAMP:20260425T194831
CREATED:20250206T154028Z
LAST-MODIFIED:20250206T154034Z
UID:10017864-1743100200-1743103800@www.visitthemalverns.org
SUMMARY:The Art and Science of Sourdough Baking  (Charity Talk & Tasting in Aid of Heartstart Malvern)
DESCRIPTION:Join us on the evening of the 27 March for a 1 hour talk and tasting on the art and science of sourdough baking with Aleksandra Moore from Malvern Bakehouse.\nIn this engaging talk on the art and science of sourdough baking\, attendees will learn where tradition meets craftsmanship as well as receiving insights into the fascinating world of fermentation\, the secrets behind creating artisanal sourdough bread\, and how Malvern Bakehouse has embraced these time-honoured techniques to craft delicious\, naturally leavened bakes. You’ll leave with practical tips for home baking and a deeper appreciation for the history and process behind sourdough. \nThis event will include samples from Malvern Bakehouse. \nEvent details\nThe talk will take place in the Park View Community Room\, running from 6.30pm – 7.30pm. \nTickets are £5 per person with all money going to Heartstart Malvern – book online via the Malvern Town Council website.
URL:https://www.visitthemalverns.org/event/the-art-and-science-of-sourdough-baking-charity-talk-tasting-in-aid-of-heartstart-malvern/
LOCATION:Community Hub\, Victoria Park Road\, Malvern\, WR14 2JY
CATEGORIES:Charity,Food,Talk
ATTACH;FMTTYPE=image/png:https://www.visitthemalverns.org/wp-content/uploads/2025/02/The-art-and-science-of-sourdough-baking.png
GEO:52.12683;-2.31288
X-APPLE-STRUCTURED-LOCATION;VALUE=URI;X-ADDRESS=Community Hub Victoria Park Road Malvern WR14 2JY;X-APPLE-RADIUS=500;X-TITLE=Victoria Park Road:geo:-2.31288,52.12683
END:VEVENT
BEGIN:VEVENT
DTSTART;TZID=Europe/London:20250327T190000
DTEND;TZID=Europe/London:20250327T210000
DTSTAMP:20260425T194831
CREATED:20241214T172755Z
LAST-MODIFIED:20241214T172755Z
UID:10017236-1743102000-1743109200@www.visitthemalverns.org
SUMMARY:NT Live: Dr Strangelove (Pre-Recorded Broadcast)
DESCRIPTION:National Theatre Live 2025 \nSteve Coogan stars in Dr. Strangelove\, co-adapted by Armando Iannucci & co-adapted and directed by Sean Foley. \nSeven-time BAFTA Award-winner Coogan (Alan Partridge\, The Trip) plays four roles in the world premiere stage adaptation of Stanley Kubrick’s comedy masterpiece. \nWhen a rogue U.S. general triggers a nuclear attack\, a surreal race takes place\, seeing the Government and one eccentric scientist scramble to prevent global destruction. \nThis explosively funny satire is helmed by a world-renowned creative team including Emmy Award-winner Armando Iannucci (The Thick of It\, Veep) and Olivier Award-winner Sean Foley (The Upstart Crow\, The Play What I Wrote).
URL:https://www.visitthemalverns.org/event/nt-live-dr-strangelove-pre-recorded-broadcast/
LOCATION:Malvern Theatres\, WR14 3HB
CATEGORIES:Theatre
ATTACH;FMTTYPE=image/jpeg:https://www.visitthemalverns.org/wp-content/uploads/2021/06/iStock-178357283-theatre-resized-1-e1758120760526.jpg
GEO:52.1106766;-2.3267752
X-APPLE-STRUCTURED-LOCATION;VALUE=URI;X-ADDRESS=Malvern Theatres WR14 3HB;X-APPLE-RADIUS=500;X-TITLE=WR14 3HB:geo:-2.3267752,52.1106766
END:VEVENT
BEGIN:VEVENT
DTSTART;TZID=Europe/London:20250327T190000
DTEND;TZID=Europe/London:20250327T210000
DTSTAMP:20260425T194831
CREATED:20250315T134735Z
LAST-MODIFIED:20250315T134735Z
UID:10018701-1743102000-1743109200@www.visitthemalverns.org
SUMMARY:Talk: Oliver Cromwell and the Battle of Worcester
DESCRIPTION:A talk by local historian Howard Robinson on Oliver Cromwell and the Battle of Worcester. \nDoors open at 6.30pm\, then talk starts at 7pm. \nBar selling alcohol and soft drinks will be open and a pizza van will be in the car park. \nEntry to the talk is free.
URL:https://www.visitthemalverns.org/event/talk-oliver-cromwell-and-the-battle-of-worcester/
LOCATION:Great Witley Village Hall\, Worcester Road\, Great Witley\, WR6 6HR
CATEGORIES:Community,Free,History,Talk
ATTACH;FMTTYPE=image/jpeg:https://www.visitthemalverns.org/wp-content/uploads/2022/06/ilyass-seddoug-unsplash-microphone.jpg
GEO:52.28991;-2.35653
X-APPLE-STRUCTURED-LOCATION;VALUE=URI;X-ADDRESS=Great Witley Village Hall Worcester Road Great Witley WR6 6HR;X-APPLE-RADIUS=500;X-TITLE=Worcester Road:geo:-2.35653,52.28991
END:VEVENT
BEGIN:VEVENT
DTSTART;TZID=Europe/London:20250327T191500
DTEND;TZID=Europe/London:20250327T213000
DTSTAMP:20260425T194831
CREATED:20241231T150503Z
LAST-MODIFIED:20241231T150503Z
UID:10017434-1743102900-1743111000@www.visitthemalverns.org
SUMMARY:A Chorus of Disapproval - Presented by Regal Community Theatre
DESCRIPTION:Join the Regal Community Theatre for their Spring 2025 production: A Chorus of Disapproval by Alan Ayckbourn \nA diffident widower tries to overcome loneliness by joining the local amateur light operatic society. By accident rather than by design (in fact\, by not saying “no” to anything be it a request to obtain confidential information from his company or an offer of illicit sex)\, he progresses from a small part to the lead role. Parallels are skilfully drawn between The Beggar’s Opera and the daily activities of the society that’s performing it.  \nShow times\nThursday 27 March 2025\, 7.15pm\nFriday 28 March 2025\, 7.15pm\nSaturday 29 March 2025\, 2.15pm\nSaturday 29 March 2025\, 7.15pm
URL:https://www.visitthemalverns.org/event/a-chorus-of-disapproval-presented-by-regal-community-theatre/2025-03-27/
LOCATION:Regal Tenbury Wells\, 49 Teme Street\, Tenbury Wells WR15 8AE
CATEGORIES:Tenbury Wells,Theatre
ATTACH;FMTTYPE=image/jpeg:https://www.visitthemalverns.org/wp-content/uploads/2021/06/iStock-178357283-theatre-resized-1-e1758120760526.jpg
GEO:52.3124173;-2.5943612
X-APPLE-STRUCTURED-LOCATION;VALUE=URI;X-ADDRESS=Regal Tenbury Wells 49 Teme Street Tenbury Wells WR15 8AE;X-APPLE-RADIUS=500;X-TITLE=49 Teme Street\, Tenbury Wells WR15 8AE:geo:-2.5943612,52.3124173
END:VEVENT
BEGIN:VEVENT
DTSTART;TZID=Europe/London:20250327T193000
DTEND;TZID=Europe/London:20250327T210000
DTSTAMP:20260425T194831
CREATED:20250308T131556Z
LAST-MODIFIED:20250308T154257Z
UID:10018230-1743103800-1743109200@www.visitthemalverns.org
SUMMARY:The Jenny Lind Singers: Swing into Spring
DESCRIPTION:Featuring Bob Chilcott’s toe-tapping A Little Jazz Mass\, as well as several works by contemporary female composers\, including our very own Malvern-based composer Liz Dilnot Johnson who has created a new arrangement for the Jenny Lind Singers to perform – for the first time! \nDoors will open at. 7pm for a 7.30pm start. \nRefreshments will be available at the concert. \nTickets: £12 from Malvern Tourist Information Centre or on the door / £13.70 (inclusive of booking fee) from Eventbrite
URL:https://www.visitthemalverns.org/event/the-jenny-lind-singers-swing-into-spring/
LOCATION:Elmslie House\, WR14 3AG
CATEGORIES:Concert,Malvern,Music
ATTACH;FMTTYPE=image/jpeg:https://www.visitthemalverns.org/wp-content/uploads/2025/03/Choir-image-by-David-Beale-on-Unsplash.jpg
GEO:52.11065;-2.32279
X-APPLE-STRUCTURED-LOCATION;VALUE=URI;X-ADDRESS=Elmslie House WR14 3AG;X-APPLE-RADIUS=500;X-TITLE=WR14 3AG:geo:-2.32279,52.11065
END:VEVENT
BEGIN:VEVENT
DTSTART;TZID=Europe/London:20250327T193000
DTEND;TZID=Europe/London:20250327T213000
DTSTAMP:20260425T194831
CREATED:20241214T170520Z
LAST-MODIFIED:20241214T170520Z
UID:10017227-1743103800-1743111000@www.visitthemalverns.org
SUMMARY:Peter James: Picture You Dead
DESCRIPTION:Following hot on the heels of the latest instalment of the acclaimed ITV series Grace\, Superintendent Roy Grace is back in a brand-new Peter James stage adaptation and world premiere of the bestselling Picture You Dead. \nStarring TV favourite Peter Ash\, winner of multiple awards in 2024\, including a National Television Award for his unforgettable performance in Coronation Street\, whose previous stage credits include the Olivier Award-winning War Horse\, with further star casting to be announced soon\, Picture You Dead\, the seventh and latest thrilling stage adaption\, cements Peter James’s Grace series as the most successful modern-day crime stage franchise since Agatha Christie. \nBack home in Brighton\, DSI Grace investigates a cold case that leads him to the secretive world of fine art\, where beneath the respectable veneer lurks a dark underworld of greed\, deception and murder. \nWhen one unsuspecting couple uncovers a potentially priceless masterpiece\, they find that their dream is about to turn into their worst nightmare\, and only Superintendent Grace can save them from paying the ultimate price. \nAge guidance: age 13+ \nContent warning: This performance may include flashing lights\, loud sounds including gunshots and depictions of criminal activity and violence. \nShow times\nTuesday 25 March 2025\, 7.30pm\nWednesday 26 March 2025\, 2.30pm\nWednesday 26 March 2025\, 7.30pm\nThursday 27 March 2025\, 7.30pm\nFriday 28 March 2025\, 7.30pm\nSaturday 29 March 2025\, 2.30pm\nSaturday 29 March 2025\, 7.30pm
URL:https://www.visitthemalverns.org/event/peter-james-picture-you-dead/2025-03-27/
LOCATION:Malvern Theatres\, WR14 3HB
CATEGORIES:Theatre
ATTACH;FMTTYPE=image/jpeg:https://www.visitthemalverns.org/wp-content/uploads/2021/06/iStock-178357283-theatre-resized-1-e1758120760526.jpg
GEO:52.1106766;-2.3267752
X-APPLE-STRUCTURED-LOCATION;VALUE=URI;X-ADDRESS=Malvern Theatres WR14 3HB;X-APPLE-RADIUS=500;X-TITLE=WR14 3HB:geo:-2.3267752,52.1106766
END:VEVENT
BEGIN:VEVENT
DTSTART;TZID=Europe/London:20250327T193000
DTEND;TZID=Europe/London:20250327T213000
DTSTAMP:20260425T194831
CREATED:20241214T172205Z
LAST-MODIFIED:20241214T172205Z
UID:10017231-1743103800-1743111000@www.visitthemalverns.org
SUMMARY:…Earnest?
DESCRIPTION:The Edinburgh Fringe smash-hit …Earnest? arrives at Malvern Theatres on 27 March 2025 (until 30 March) following rave reviews ahead of an eagerly awaited West End run. \nWhen a traditional production of Oscar Wilde’s The Importance of Being Earnest gets underway\, everything seems to be going perfectly to plan…that is\, until the lead actor fails to arrive on cue and an actual audience member is chosen to star in the show. \nThis one-of-a-kind comedy sensation is completely different\, completely chaotic\, and completely Wild(e) every single night. And who knows\, you as an audience member might even become a star yourself! Guaranteed to get you laughing\, whether you’re sitting in the audience…or performing onstage …Earnest? is perfect for fans of The Play That Goes Wrong and Noises Off! \nShow times\nThursday 27 March 2025\, 7.30pm\nFriday 28 March 2025\, 7.30pm\nSaturday 29 March 2025\, 2.30pm\nSaturday 29 March 2025\, 7.30pm\nSunday 30 March 2025\, 3pm
URL:https://www.visitthemalverns.org/event/earnest/2025-03-27/
LOCATION:Malvern Theatres\, WR14 3HB
CATEGORIES:Comedy,Theatre
ATTACH;FMTTYPE=image/jpeg:https://www.visitthemalverns.org/wp-content/uploads/2021/06/iStock-178357283-theatre-resized-1-e1758120760526.jpg
GEO:52.1106766;-2.3267752
X-APPLE-STRUCTURED-LOCATION;VALUE=URI;X-ADDRESS=Malvern Theatres WR14 3HB;X-APPLE-RADIUS=500;X-TITLE=WR14 3HB:geo:-2.3267752,52.1106766
END:VEVENT
BEGIN:VEVENT
DTSTART;TZID=Europe/London:20250327T193000
DTEND;TZID=Europe/London:20250327T213000
DTSTAMP:20260425T194831
CREATED:20250220T165949Z
LAST-MODIFIED:20250220T165949Z
UID:10018194-1743103800-1743111000@www.visitthemalverns.org
SUMMARY:She Stoops to Conquer
DESCRIPTION:Here to There Productions presents She Stoops to Conquer by Oliver Goldsmith. \nWhen everyone is up to something – how is anything ever going to get done..? \nConfusion\, mis-communication\, deceit\, chaos and lots and lots of frilly bits\, in Oliver Goldsmith’s classic farce. \nWith all the characters pursuing their own agendas\, a practical joker in their midst\, and no one entirely certain who is up to what\, will the lovers ever get together? And which lovers? \nShow times\nMonday 24 March 2025\, 7.30pm\nTuesday 25 March 2025\, 7.30pm\nWednesday 26 March 2025\, 7.30pm\nThursday 27 March 2025\, 2.30pm\nThursday 27 March 2025\, 7.30pm\nFriday 28 March 2025\, 7.30pm\nSaturday 29 March 2025\, 2.30pm\nSaturday 29 March 2025\, 7.30pm
URL:https://www.visitthemalverns.org/event/she-stoops-to-conquer/2025-03-27/2/
LOCATION:Coach House Theatre\, WR14 3HA
CATEGORIES:Theatre
ATTACH;FMTTYPE=image/jpeg:https://www.visitthemalverns.org/wp-content/uploads/2021/06/iStock-178357283-theatre-resized-1-e1758120760526.jpg
GEO:52.1111548;-2.3261654
X-APPLE-STRUCTURED-LOCATION;VALUE=URI;X-ADDRESS=Coach House Theatre WR14 3HA;X-APPLE-RADIUS=500;X-TITLE=WR14 3HA:geo:-2.3261654,52.1111548
END:VEVENT
END:VCALENDAR