BEGIN:VCALENDAR
VERSION:2.0
PRODID:-//Visit The Malverns - ECPv6.15.20//NONSGML v1.0//EN
CALSCALE:GREGORIAN
METHOD:PUBLISH
X-WR-CALNAME:Visit The Malverns
X-ORIGINAL-URL:https://www.visitthemalverns.org
X-WR-CALDESC:Events for Visit The Malverns
REFRESH-INTERVAL;VALUE=DURATION:PT1H
X-Robots-Tag:noindex
X-PUBLISHED-TTL:PT1H
BEGIN:VTIMEZONE
TZID:Europe/London
BEGIN:DAYLIGHT
TZOFFSETFROM:+0000
TZOFFSETTO:+0100
TZNAME:BST
DTSTART:20240331T010000
END:DAYLIGHT
BEGIN:STANDARD
TZOFFSETFROM:+0100
TZOFFSETTO:+0000
TZNAME:GMT
DTSTART:20241027T010000
END:STANDARD
BEGIN:DAYLIGHT
TZOFFSETFROM:+0000
TZOFFSETTO:+0100
TZNAME:BST
DTSTART:20250330T010000
END:DAYLIGHT
BEGIN:STANDARD
TZOFFSETFROM:+0100
TZOFFSETTO:+0000
TZNAME:GMT
DTSTART:20251026T010000
END:STANDARD
BEGIN:DAYLIGHT
TZOFFSETFROM:+0000
TZOFFSETTO:+0100
TZNAME:BST
DTSTART:20260329T010000
END:DAYLIGHT
BEGIN:STANDARD
TZOFFSETFROM:+0100
TZOFFSETTO:+0000
TZNAME:GMT
DTSTART:20261025T010000
END:STANDARD
BEGIN:DAYLIGHT
TZOFFSETFROM:+0000
TZOFFSETTO:+0100
TZNAME:BST
DTSTART:20270328T010000
END:DAYLIGHT
BEGIN:STANDARD
TZOFFSETFROM:+0100
TZOFFSETTO:+0000
TZNAME:GMT
DTSTART:20271031T010000
END:STANDARD
END:VTIMEZONE
BEGIN:VEVENT
DTSTART;TZID=Europe/London:20250124T080000
DTEND;TZID=Europe/London:20260301T170000
DTSTAMP:20260419T195041
CREATED:20250124T150306Z
LAST-MODIFIED:20250519T133051Z
UID:10017685-1737705600-1772384400@www.visitthemalverns.org
SUMMARY:Pages from Nature: Walk through the Pleasure Grounds
DESCRIPTION:Purchase a booklet inspired by the 1824 guidebook to Croome\, the Hortus Croomensis\, to explore the garden. Discover the history behind the landscape design; take time to sketch in the booklet\, pause along the way to appreciate the scents in the special scent boxes – can you guess what they are? Delve into quotes from the two-hundred-year-old text to feel transported back two centuries. \nA copy of the booklet costs £3 and the route is approximately 2 miles long (on hard-surface paths). Booking is not needed\, but normal admission charges apply. \nVisit the website for Croome’s opening hours and further information.
URL:https://www.visitthemalverns.org/event/pages-from-nature-walk-through-the-pleasure-grounds/
LOCATION:Croome Park\, High Green\, Worcester\, Worcs\, WR8 9DW
CATEGORIES:Garden,Trail,Walks
ATTACH;FMTTYPE=image/jpeg:https://www.visitthemalverns.org/wp-content/uploads/2025/01/Croome-2-by-Roger-Chapman-on-Unsplash-1.jpg
GEO:52.1042101;-2.1644462
X-APPLE-STRUCTURED-LOCATION;VALUE=URI;X-ADDRESS=Croome Park High Green Worcester Worcs WR8 9DW;X-APPLE-RADIUS=500;X-TITLE=High Green:geo:-2.1644462,52.1042101
END:VEVENT
BEGIN:VEVENT
DTSTART;TZID=Europe/London:20250501T080000
DTEND;TZID=Europe/London:20250531T170000
DTSTAMP:20260419T195041
CREATED:20250509T154622Z
LAST-MODIFIED:20250519T133120Z
UID:10019297-1746086400-1748710800@www.visitthemalverns.org
SUMMARY:Farewell to Malvern Hills Gallery
DESCRIPTION:After 25 years supporting and showcasing local artists and craftspeople\, Malvern Hills Gallery will be closing its doors at the end of May 2025. Whether you’re a regular customer\, an occasional visitor or have never been before\, we welcome you to pop in for a chat and a browse. Unique\, locally crafted items as usual\, plus some items on sale at reduced prices. To find out what our artists are doing next\, please visit the Malvern Hills Gallery Facebook page. \nThe Malvern Hills Gallery hopes to be open every day until the end of May. Please do call ahead if making a special journey. \nHandmade Malvern is a new curated directory celebrating the vibrant community of artists and craftspeople living and working in the area.
URL:https://www.visitthemalverns.org/event/farewell-to-malvern-hills-gallery/
LOCATION:Malvern Hills Art Gallery\, 1 Worcester Road\, Malvern WR14 4QY
CATEGORIES:Community,Craft,Exhibition,Malvern,Shopping
ATTACH;FMTTYPE=image/jpeg:https://www.visitthemalverns.org/wp-content/uploads/2025/05/Farewell-to-Malvern-Hills-Gallery-banner.jpg
GEO:52.11218;-2.3303619
X-APPLE-STRUCTURED-LOCATION;VALUE=URI;X-ADDRESS=Malvern Hills Art Gallery 1 Worcester Road Malvern WR14 4QY;X-APPLE-RADIUS=500;X-TITLE=1 Worcester Road\, Malvern WR14 4QY:geo:-2.3303619,52.11218
END:VEVENT
BEGIN:VEVENT
DTSTART;TZID=Europe/London:20250502T080000
DTEND;TZID=Europe/London:20250505T170000
DTSTAMP:20260419T195041
CREATED:20250417T132058Z
LAST-MODIFIED:20250417T132058Z
UID:10019162-1746172800-1746464400@www.visitthemalverns.org
SUMMARY:Artstrands: Art Exhibition
DESCRIPTION:Exhibition runs from Friday 2 May – Monday 5 May 2025 and is open from 10am – 5pm daily \nArtstrands – a group of ten Malvern Hills-based artists working across a broad range of disciplines. Coming from diverse backgrounds\, each member of the group brings different skills and life experiences to their artworks and creative endeavours.
URL:https://www.visitthemalverns.org/event/artstrands-art-exhibition/
LOCATION:Coach House Theatre\, WR14 3HA
CATEGORIES:Community,Exhibition,Shopping
ATTACH;FMTTYPE=image/jpeg:https://www.visitthemalverns.org/wp-content/uploads/2025/04/Artstrands-2025-exhibition.jpg
GEO:52.1111548;-2.3261654
X-APPLE-STRUCTURED-LOCATION;VALUE=URI;X-ADDRESS=Coach House Theatre WR14 3HA;X-APPLE-RADIUS=500;X-TITLE=WR14 3HA:geo:-2.3261654,52.1111548
END:VEVENT
BEGIN:VEVENT
DTSTART;TZID=Europe/London:20250503T080000
DTEND;TZID=Europe/London:20250505T170000
DTSTAMP:20260419T195041
CREATED:20250412T155930Z
LAST-MODIFIED:20250412T155930Z
UID:10019131-1746259200-1746464400@www.visitthemalverns.org
SUMMARY:Top Barn Big Weekend
DESCRIPTION:Top Barn’s Big Weekend is nearly here! \nWe’re delighted to invite you to our Farm Park near Worcester for an exciting family-fun event this Spring! Top Barn’s Big Weekend is happening from 3 – 5 May 2025\, open daily until 5pm. Even better\, it’s free entry\, so you pay only for the activities you choose. \nHighlights include:‍ \n\nMeet Mr Tumble\nMeet the Dinosaurs\nPopular Character Meets\nPony Rides\nInflatables\nKiddies Rides\nCrazy Golf\nTrailer Tours\n\nFor more information about the many activities to enjoy on the day\, visit the Top Barn website.
URL:https://www.visitthemalverns.org/event/top-barn-big-weekend/
LOCATION:Top Barn Farm Park\, Top Barn Farm\, Worcester Rd\, Holt Heath\, Worcester\, Worcester\, Worcestershire\, WR6 6NH\, United Kingdom
CATEGORIES:Children,Family
GEO:52.2552594;-2.2262283
X-APPLE-STRUCTURED-LOCATION;VALUE=URI;X-ADDRESS=Top Barn Farm Park Top Barn Farm Worcester Rd Holt Heath Worcester Worcester Worcestershire WR6 6NH United Kingdom;X-APPLE-RADIUS=500;X-TITLE=Top Barn Farm\, Worcester Rd\, Holt Heath\, Worcester:geo:-2.2262283,52.2552594
END:VEVENT
BEGIN:VEVENT
DTSTART;TZID=Europe/London:20250503T080000
DTEND;TZID=Europe/London:20250505T170000
DTSTAMP:20260419T195041
CREATED:20250503T154407Z
LAST-MODIFIED:20250503T154407Z
UID:10019243-1746259200-1746464400@www.visitthemalverns.org
SUMMARY:Flower Festival (VE Day Commemoration)
DESCRIPTION:Several teams of arrangers have got together and planned a special floral tribute to mark the 80th anniversary of VE Day. \nParking\, toilets and cream teas are available at St Gabriel’s. \nThe Flower Festival is part of Hanley Swan Open Gardens\, which runs from Saturday 3 May – Monday 5 May 2025 (12pm – 5pm daily). Tickets\, which cost £7.50 for adults (children: free)\, are available at any participating venue.
URL:https://www.visitthemalverns.org/event/flower-festival-ve-day-commemoration/
LOCATION:St Gabriel’s Church\, Hanley Swan\, WR8 0DY
CATEGORIES:Community,Festival,Garden,Malvern,Upton upon Severn
ATTACH;FMTTYPE=image/jpeg:https://www.visitthemalverns.org/wp-content/uploads/2025/04/Tulip-photo-by-Giu-Vicente-on-Unsplash.jpg
GEO:52.0834016;-2.2766222
X-APPLE-STRUCTURED-LOCATION;VALUE=URI;X-ADDRESS=St Gabriel’s Church Hanley Swan WR8 0DY;X-APPLE-RADIUS=500;X-TITLE=Hanley Swan:geo:-2.2766222,52.0834016
END:VEVENT
BEGIN:VEVENT
DTSTART;TZID=Europe/London:20250504T103000
DTEND;TZID=Europe/London:20250505T173000
DTSTAMP:20260419T195041
CREATED:20240122T125853Z
LAST-MODIFIED:20250307T143547Z
UID:10004039-1746354600-1746466200@www.visitthemalverns.org
SUMMARY:Eastnor ChilliFest
DESCRIPTION:The return of Eastnor’s popular Chilli Festival celebrating everything hot! \nSunday 4 May and Monday 5 May\n10:30am-5:30pm \nStalls selling everything to do with chilli plus hot food\, cocktails\, beer and cider. \nBars\nHot Food\nChildren’s Cookery School – book on the day\nChilli Eating Competition\nCookery Demonstrations\nLive Music and Entertainment \nAdults: £15.50 (aged 16 and over)\nChildren: £9.50 (aged 3-15 years)\nFamily: £45.00 (2 adults + up to 3 children)\nFamily: £30.00 (1 adults + up to 3 children) \nAlso included in your entrance ticket Eastnor’s usual attractions: Castle\, lake\, arboretum\, maze\, playgrounds \nChildren aged 2 and under do not require a ticket. \nTickets MUST be booked online \nDogs welcome
URL:https://www.visitthemalverns.org/event/eastnor-chillifest/
LOCATION:Eastnor Castle\, HR8 1RL
CATEGORIES:Dog Friendly,Drink,Family,Festival,Food,Shopping
ATTACH;FMTTYPE=image/jpeg:https://www.visitthemalverns.org/wp-content/uploads/2022/04/Eastnor_Chilli_Festival-1200.jpg
GEO:52.0300328;-2.3906147
X-APPLE-STRUCTURED-LOCATION;VALUE=URI;X-ADDRESS=Eastnor Castle HR8 1RL;X-APPLE-RADIUS=500;X-TITLE=HR8 1RL:geo:-2.3906147,52.0300328
END:VEVENT
BEGIN:VEVENT
DTSTART;TZID=Europe/London:20250505T100000
DTEND;TZID=Europe/London:20250505T163000
DTSTAMP:20260419T195041
CREATED:20250411T120016Z
LAST-MODIFIED:20250411T120016Z
UID:10019015-1746439200-1746462600@www.visitthemalverns.org
SUMMARY:Festival of Blossom at The Firs: Elgar's Birthplace
DESCRIPTION:The gardens at The Firs\, birthplace of Sir Edward Elgar\, are starting to bloom with blossom from our flowers and fruit trees. Why not join us in celebrating the arrival of spring by immersing yourself in the beauty of blossom? \nWe invite you to connect to the wonders of nature\, to press pause on your day. Be inspired by the gardens to compose your own Haiku poem\, lie beneath the blossoming trees and take inspiration from nature. \nThe National Trust Blossom pin badges will be available from visitor reception. \nThis event is free\, but normal admission charges apply for the venue. \nEvent dates\nFriday 2 May – Monday 5 May 2025\, 10am – 4.30pm\nFriday 9 May – Monday 12 May 2025\, 10am – 4.30pm\nFriday 16 May – Monday 19 May 2025\, 10am – 4.30pm\nFriday 23 May 2025\, 10am – 4.30pm
URL:https://www.visitthemalverns.org/event/festival-of-blossom-at-the-firs-elgars-birthplace/2025-05-05/
LOCATION:The Firs\, Elgar's Birthplace Museum\, Crown East Lane\, Lower Broadheath\, WR2 6RH
CATEGORIES:Charity,Festival
ATTACH;FMTTYPE=image/jpeg:https://www.visitthemalverns.org/wp-content/uploads/2025/04/Blossom-photo-by-Vladimir-Vinogradov-on-Unsplash.jpg
GEO:52.1977068;-2.2822622
X-APPLE-STRUCTURED-LOCATION;VALUE=URI;X-ADDRESS=The Firs Elgar's Birthplace Museum Crown East Lane Lower Broadheath WR2 6RH;X-APPLE-RADIUS=500;X-TITLE=Elgar's Birthplace Museum:geo:-2.2822622,52.1977068
END:VEVENT
BEGIN:VEVENT
DTSTART;TZID=Europe/London:20250505T103000
DTEND;TZID=Europe/London:20250505T120000
DTSTAMP:20260419T195041
CREATED:20240203T134832Z
LAST-MODIFIED:20250828T151217Z
UID:10018093-1746441000-1746446400@www.visitthemalverns.org
SUMMARY:Malvern Town Walk
DESCRIPTION:Cost\nAdults: £7 (plus small booking fee online; no booking fee if booking direct in person or on 01684 892289)\nCarers and children under 14: Free \nAbout the walk\nWhy not join one of Malvern Civic Society’s walks and find out about the fascinating history of Malvern? \n– See how Malvern’s famous Water Cure and Spa flourished in the 19th Century\n– Learn about the mediaeval Priory\n– Find out about the town’s Elgar connections\n– Hear of important visitors to the town and the story behind some ‘blue plaques’\n– Discover more about the coming of radar \nWalks last approximately 90 minutes. \nPlease be aware that Great Malvern is a hillside town and our tour follows its steep gradients and steps along narrow pavements. \nIf you have a disability that requires support from a carer\, the carer goes free. Children under 14 and vulnerable adults should be accompanied by an appropriate adult. If you are under 14 or the carer of a vulnerable adult\, there is no charge. \nSorry – no dogs are allowed\, except assistance dogs. \nWalks are led by enthusiastic and knowledgeable guides from Malvern Civic Society. \nDates and times\nWalks run every Monday (including Bank Holidays) and Saturday at 10.30am from 5 April until 27 October 2025. \nPlease note – the following dates are fully booked: 2 June 2025\, 4 October 2025 \nBooking\nPlease book in advance to avoid disappointment. Ten places are available on each walk: four are available to book through Malvern Tourist Information Centre either on 01684 892289 or in person; the other six are available to book online at Ticketsource (small booking fee applies to online transactions). Any tickets for Saturday unsold online by noon on Friday\, or tickets for Monday unsold online by 8am on Monday\, will become available to purchase through Malvern Tourist Information Centre during opening hours. Please note that children’s tickets cannot be booked online and should instead be booked through Malvern Tourist Information Centre. \nMalvern Tourist Information Centre is located at The Lyttelton Well Courtyard\, 6 Church Street\, Malvern WR14 2AY (close to the Lyttelton Well Cafe). Telephone: 01684 892289 \nNew specialist tour (2024 onwards)\nSome guides now offer a specialist tour\, by arrangement\, for those with a particular interest in the arts: “The Culture and The Cure”. This walk\, for pre-booked groups only (minimum group size may apply)\, explores Malvern’s cultural connections alongside the history of the town as a centre for the controversial Water Cure. Writers\, artists and musicians have been attracted to Malvern for over a hundred years – hear their stories plus how this small Worcestershire town became a major spa. \nFor more details regarding this bespoke tour\, please contact the Malvern Tourist Information Centre in the first instance. All walks are subject to guide availability.
URL:https://www.visitthemalverns.org/event/malvern-town-walk-2-2/2025-05-05/
LOCATION:Malvern Tourist Information Centre\, The Lyttelton Well Courtyard\, 6 Church Street\, Malvern\, Worcestershire\, WR14 2AY\, United Kingdom
CATEGORIES:Talk,Walks
ATTACH;FMTTYPE=image/jpeg:https://www.visitthemalverns.org/wp-content/uploads/2021/05/Great-Malvern-Town-Centre.jpg
GEO:52.111183;-2.327865
X-APPLE-STRUCTURED-LOCATION;VALUE=URI;X-ADDRESS=Malvern Tourist Information Centre The Lyttelton Well Courtyard 6 Church Street Malvern Worcestershire WR14 2AY United Kingdom;X-APPLE-RADIUS=500;X-TITLE=The Lyttelton Well Courtyard\, 6 Church Street:geo:-2.327865,52.111183
END:VEVENT
BEGIN:VEVENT
DTSTART;TZID=Europe/London:20250505T103000
DTEND;TZID=Europe/London:20250505T120000
DTSTAMP:20260419T195041
CREATED:20250403T114603Z
LAST-MODIFIED:20250503T155633Z
UID:10018957-1746441000-1746446400@www.visitthemalverns.org
SUMMARY:Well Dressing Minibus Tour
DESCRIPTION:In 2025\, Malvern Spa Association is again organising minibus tours that will give customers the chance to see the best-dressed wells\, which this year are inspired by the theme ‘folklore and fairytales’. \nDates & times\nSaturday 3 May 2025\, 10.30am\nSaturday 3 May 2025\, 2.30pm\nSunday 4 May 2025\, 11.30am\nSunday 4 May 2025\, 2.30pm\nMonday 5 May 2025\, 10.30am\nMonday 5 May 2025\, 2.30pm\nTuesday 6 May 2025\, 10.30am\nTuesday 6 May 2025\, 2.30pm \nEach tour lasts approximately 90 minutes and has 15 seats available. \nPrices\nAdult: £20\nChild (8 – 18): £10\nChild under 8: Free \nLocation\nAll trips depart from and return to the Rosebank Gardens bus stop in Great Malvern (see map below). \nBooking\nPlease book your tickets in advance by visiting Malvern Tourist Information Centre (open Monday – Saturday: 10am – 1pm & 1.30pm – 5pm\, plus Sunday 4 May: 11am – 3pm) or calling 01684 892289.
URL:https://www.visitthemalverns.org/event/well-dressing-minibus-tour/2025-05-05/1/
LOCATION:Rosebank Gardens Bus Stop\, Wells Road\, Malvern\, WR14 4RQ
CATEGORIES:Community,Craft,Malvern
ATTACH;FMTTYPE=image/jpeg:https://www.visitthemalverns.org/wp-content/uploads/2025/04/Malvern-Water-Fest-logo-2025-1200x675-1.jpg
GEO:52.110132;-2.330238
X-APPLE-STRUCTURED-LOCATION;VALUE=URI;X-ADDRESS=Rosebank Gardens Bus Stop Wells Road Malvern WR14 4RQ;X-APPLE-RADIUS=500;X-TITLE=Wells Road:geo:-2.330238,52.110132
END:VEVENT
BEGIN:VEVENT
DTSTART;TZID=Europe/London:20250505T110000
DTEND;TZID=Europe/London:20250505T113000
DTSTAMP:20260419T195041
CREATED:20250422T112331Z
LAST-MODIFIED:20250422T112331Z
UID:10019196-1746442800-1746444600@www.visitthemalverns.org
SUMMARY:Bluey at the Cinema:  Let's Play Chef Collection (Cert TBC)
DESCRIPTION:An hour long treat for fans of Bluey to enjoy\, Bluey at the Cinema: Let’s Play Chef Collection is made up of eight episodes from the TV show’s three series\, all based around the fun of food!  Cooking has never been so fun! \nCert:  TBC \nPrices:\nAll Seats £5\nMembers Discounts Apply\nRelaxed Screening:  £3.50 (Carers Free) \nShow Times:\nSaturday 3 May at 11am (Relaxed Screening)\nSunday 4 May at 3pm\nMonday 5 May at 11am
URL:https://www.visitthemalverns.org/event/bluey-at-the-cinema-lets-play-chef-collection-cert-tbc/2025-05-05/
LOCATION:Malvern Theatres\, WR14 3HB
CATEGORIES:Children,Cinema,Film
ATTACH;FMTTYPE=image/jpeg:https://www.visitthemalverns.org/wp-content/uploads/2021/07/iStock-1191001701-cinema-resized-1.jpg
GEO:52.1106766;-2.3267752
X-APPLE-STRUCTURED-LOCATION;VALUE=URI;X-ADDRESS=Malvern Theatres WR14 3HB;X-APPLE-RADIUS=500;X-TITLE=WR14 3HB:geo:-2.3267752,52.1106766
END:VEVENT
BEGIN:VEVENT
DTSTART;TZID=Europe/London:20250505T120000
DTEND;TZID=Europe/London:20250505T140000
DTSTAMP:20260419T195041
CREATED:20250320T163958Z
LAST-MODIFIED:20250320T164106Z
UID:10018751-1746446400-1746453600@www.visitthemalverns.org
SUMMARY:A Minecraft Movie (PG)
DESCRIPTION:Welcome to the world of Minecraft\, where creativity doesn’t just help you craft\, it’s required for survival! Four misfits — Garrett “The Garbage Man” Garrison (Momoa)\, Henry (Hansen)\, Natalie (Myers) and Dawn (Brooks) — find themselves struggling with ordinary problems when they are abruptly pulled through a mysterious portal into the Overworld: a bizarre\, cubic wonderland that thrives on imagination. In order to make their way back home\, they’ll have to master this world (and protect it from evil things like Piglins and Zombies\, too) while setting out on a magical quest with an unexpected\, expert crafter\, Steve (Black). Together\, their adventure in the Overworld will challenge all five to show boldness and to reconnect with the qualities that make each of them uniquely creative…the very skills they need to thrive back in the real world.
URL:https://www.visitthemalverns.org/event/a-minecraft-movie-certificate-tbc/
LOCATION:Regal Tenbury Wells\, 49 Teme Street\, Tenbury Wells WR15 8AE
CATEGORIES:Cinema,Family,Film
ATTACH;FMTTYPE=image/jpeg:https://www.visitthemalverns.org/wp-content/uploads/2021/07/iStock-1191001701-cinema-resized-1.jpg
GEO:52.3124173;-2.5943612
X-APPLE-STRUCTURED-LOCATION;VALUE=URI;X-ADDRESS=Regal Tenbury Wells 49 Teme Street Tenbury Wells WR15 8AE;X-APPLE-RADIUS=500;X-TITLE=49 Teme Street\, Tenbury Wells WR15 8AE:geo:-2.5943612,52.3124173
END:VEVENT
BEGIN:VEVENT
DTSTART;TZID=Europe/London:20250505T120000
DTEND;TZID=Europe/London:20250505T140000
DTSTAMP:20260419T195041
CREATED:20250504T145240Z
LAST-MODIFIED:20250504T145240Z
UID:10019256-1746446400-1746453600@www.visitthemalverns.org
SUMMARY:Carnival-inspired Lunch at The Cottage in the Wood
DESCRIPTION:The Cottage in the Wood Malvern marks a remarkable milestone – ten years of exceptional service\, warm hospitality\, and unforgettable stays. To celebrate\, you’re invited to a special 10th Anniversary Carnival lunch\, packed with delicious food\, live music\, and immersive experiences that pay tribute to a decade of excellence. This family-friendly lunch offers exciting cocktails and mocktails to set the tone as Carnival dancers bring energy and flair to the afternoon. With the rhythm building and the atmosphere buzzing\, settle in for a relaxed dining experience featuring a laid-back menu that captures the spirit of the day. DJ Ed Steelfox will keep the vibes high\, ensuring the good times continue throughout the afternoon. \nAdding to the excitement\, there will also be a chance to see The Brasserie – a fresh take on relaxed-yet-refined dining. Inspired by the Malvern Hills and local seasonal ingredients\, this new concept provides a welcoming space for guests to enjoy comforting and elegant dishes that stay true to the hotel’s ethos of quality and care. \nPlease confirm available times and book by calling 01684 588860.
URL:https://www.visitthemalverns.org/event/carnival-inspired-lunch-at-the-cottage-in-the-wood/
LOCATION:The Cottage in the Wood\, Holywell Road\, Malvern\, WR14 4LG
CATEGORIES:Food,Malvern,Music
ATTACH;FMTTYPE=image/jpeg:https://www.visitthemalverns.org/wp-content/uploads/2025/05/Dining-image-by-Bady-Abbas-on-Unsplash-1.jpg
GEO:52.08276;-2.33529
X-APPLE-STRUCTURED-LOCATION;VALUE=URI;X-ADDRESS=The Cottage in the Wood Holywell Road Malvern WR14 4LG;X-APPLE-RADIUS=500;X-TITLE=Holywell Road:geo:-2.33529,52.08276
END:VEVENT
BEGIN:VEVENT
DTSTART;TZID=Europe/London:20250505T143000
DTEND;TZID=Europe/London:20250505T160000
DTSTAMP:20260419T195041
CREATED:20250403T114603Z
LAST-MODIFIED:20250503T155633Z
UID:10018958-1746455400-1746460800@www.visitthemalverns.org
SUMMARY:Well Dressing Minibus Tour
DESCRIPTION:In 2025\, Malvern Spa Association is again organising minibus tours that will give customers the chance to see the best-dressed wells\, which this year are inspired by the theme ‘folklore and fairytales’. \nDates & times\nSaturday 3 May 2025\, 10.30am\nSaturday 3 May 2025\, 2.30pm\nSunday 4 May 2025\, 11.30am\nSunday 4 May 2025\, 2.30pm\nMonday 5 May 2025\, 10.30am\nMonday 5 May 2025\, 2.30pm\nTuesday 6 May 2025\, 10.30am\nTuesday 6 May 2025\, 2.30pm \nEach tour lasts approximately 90 minutes and has 15 seats available. \nPrices\nAdult: £20\nChild (8 – 18): £10\nChild under 8: Free \nLocation\nAll trips depart from and return to the Rosebank Gardens bus stop in Great Malvern (see map below). \nBooking\nPlease book your tickets in advance by visiting Malvern Tourist Information Centre (open Monday – Saturday: 10am – 1pm & 1.30pm – 5pm\, plus Sunday 4 May: 11am – 3pm) or calling 01684 892289.
URL:https://www.visitthemalverns.org/event/well-dressing-minibus-tour/2025-05-05/2/
LOCATION:Rosebank Gardens Bus Stop\, Wells Road\, Malvern\, WR14 4RQ
CATEGORIES:Community,Craft,Malvern
ATTACH;FMTTYPE=image/jpeg:https://www.visitthemalverns.org/wp-content/uploads/2025/04/Malvern-Water-Fest-logo-2025-1200x675-1.jpg
GEO:52.110132;-2.330238
X-APPLE-STRUCTURED-LOCATION;VALUE=URI;X-ADDRESS=Rosebank Gardens Bus Stop Wells Road Malvern WR14 4RQ;X-APPLE-RADIUS=500;X-TITLE=Wells Road:geo:-2.330238,52.110132
END:VEVENT
BEGIN:VEVENT
DTSTART;TZID=Europe/London:20250505T150000
DTEND;TZID=Europe/London:20250505T153000
DTSTAMP:20260419T195041
CREATED:20250422T150300Z
LAST-MODIFIED:20250422T150300Z
UID:10019198-1746457200-1746459000@www.visitthemalverns.org
SUMMARY:Flow (U)
DESCRIPTION:When a solitary cat finds its home washed away by a flood of biblical proportions\, it has to seek refuge with a motley crew of animals\, who gradually learn to get along in this endearing Oscar-winning animation. \nCert: U \nShow Times:\nSaturday 3 May at 4:30pm\nMonday 5 May at 3pm \n 
URL:https://www.visitthemalverns.org/event/flow-u/2025-05-05/
LOCATION:Malvern Theatres\, WR14 3HB
CATEGORIES:Children,Cinema,Film
ATTACH;FMTTYPE=image/jpeg:https://www.visitthemalverns.org/wp-content/uploads/2021/07/iStock-1191001701-cinema-resized-1.jpg
GEO:52.1106766;-2.3267752
X-APPLE-STRUCTURED-LOCATION;VALUE=URI;X-ADDRESS=Malvern Theatres WR14 3HB;X-APPLE-RADIUS=500;X-TITLE=WR14 3HB:geo:-2.3267752,52.1106766
END:VEVENT
BEGIN:VEVENT
DTSTART;TZID=Europe/London:20250505T191500
DTEND;TZID=Europe/London:20250505T194500
DTSTAMP:20260419T195041
CREATED:20250422T153054Z
LAST-MODIFIED:20250422T153054Z
UID:10019199-1746472500-1746474300@www.visitthemalverns.org
SUMMARY:The Amateur (12A)
DESCRIPTION:When a CIA cryptographer finds out that terrorists were responsible for his fiancee’s death in a suspicious plane crash\, he receives special training in order to plot his revenge. \nCert:  12A \nAD  Audio Description available \nDS  Descriptive Subtitles:  Monday 5 May at 7:15pm \nPrices:\nEvenings:  £9/£10 (Premium seats)\nMornings and matinees:  £8/£9 (Premium seats)\nConcessions and members discounts apply \nShow Times:\nMonday 5 May at 7:15pm (with DS)\nTuesday 6 May at 7:15pm\nWednesday 7 May at 7:15pm\nThursday 8 May at 4:30pm
URL:https://www.visitthemalverns.org/event/the-amateur-12a/2025-05-05/
LOCATION:Malvern Theatres\, WR14 3HB
CATEGORIES:Cinema,Film
ATTACH;FMTTYPE=image/jpeg:https://www.visitthemalverns.org/wp-content/uploads/2021/07/iStock-1191001701-cinema-resized-1.jpg
GEO:52.1106766;-2.3267752
X-APPLE-STRUCTURED-LOCATION;VALUE=URI;X-ADDRESS=Malvern Theatres WR14 3HB;X-APPLE-RADIUS=500;X-TITLE=WR14 3HB:geo:-2.3267752,52.1106766
END:VEVENT
END:VCALENDAR