BEGIN:VCALENDAR
VERSION:2.0
PRODID:-//Visit The Malverns - ECPv6.15.20//NONSGML v1.0//EN
CALSCALE:GREGORIAN
METHOD:PUBLISH
X-ORIGINAL-URL:https://www.visitthemalverns.org
X-WR-CALDESC:Events for Visit The Malverns
REFRESH-INTERVAL;VALUE=DURATION:PT1H
X-Robots-Tag:noindex
X-PUBLISHED-TTL:PT1H
BEGIN:VTIMEZONE
TZID:Europe/London
BEGIN:DAYLIGHT
TZOFFSETFROM:+0000
TZOFFSETTO:+0100
TZNAME:BST
DTSTART:20240331T010000
END:DAYLIGHT
BEGIN:STANDARD
TZOFFSETFROM:+0100
TZOFFSETTO:+0000
TZNAME:GMT
DTSTART:20241027T010000
END:STANDARD
BEGIN:DAYLIGHT
TZOFFSETFROM:+0000
TZOFFSETTO:+0100
TZNAME:BST
DTSTART:20250330T010000
END:DAYLIGHT
BEGIN:STANDARD
TZOFFSETFROM:+0100
TZOFFSETTO:+0000
TZNAME:GMT
DTSTART:20251026T010000
END:STANDARD
BEGIN:DAYLIGHT
TZOFFSETFROM:+0000
TZOFFSETTO:+0100
TZNAME:BST
DTSTART:20260329T010000
END:DAYLIGHT
BEGIN:STANDARD
TZOFFSETFROM:+0100
TZOFFSETTO:+0000
TZNAME:GMT
DTSTART:20261025T010000
END:STANDARD
BEGIN:DAYLIGHT
TZOFFSETFROM:+0000
TZOFFSETTO:+0100
TZNAME:BST
DTSTART:20270328T010000
END:DAYLIGHT
BEGIN:STANDARD
TZOFFSETFROM:+0100
TZOFFSETTO:+0000
TZNAME:GMT
DTSTART:20271031T010000
END:STANDARD
END:VTIMEZONE
BEGIN:VEVENT
DTSTART;TZID=Europe/London:20250124T080000
DTEND;TZID=Europe/London:20260301T170000
DTSTAMP:20260419T184353
CREATED:20250124T150306Z
LAST-MODIFIED:20250519T133051Z
UID:10017685-1737705600-1772384400@www.visitthemalverns.org
SUMMARY:Pages from Nature: Walk through the Pleasure Grounds
DESCRIPTION:Purchase a booklet inspired by the 1824 guidebook to Croome\, the Hortus Croomensis\, to explore the garden. Discover the history behind the landscape design; take time to sketch in the booklet\, pause along the way to appreciate the scents in the special scent boxes – can you guess what they are? Delve into quotes from the two-hundred-year-old text to feel transported back two centuries. \nA copy of the booklet costs £3 and the route is approximately 2 miles long (on hard-surface paths). Booking is not needed\, but normal admission charges apply. \nVisit the website for Croome’s opening hours and further information.
URL:https://www.visitthemalverns.org/event/pages-from-nature-walk-through-the-pleasure-grounds/
LOCATION:Croome Park\, High Green\, Worcester\, Worcs\, WR8 9DW
CATEGORIES:Garden,Trail,Walks
ATTACH;FMTTYPE=image/jpeg:https://www.visitthemalverns.org/wp-content/uploads/2025/01/Croome-2-by-Roger-Chapman-on-Unsplash-1.jpg
GEO:52.1042101;-2.1644462
X-APPLE-STRUCTURED-LOCATION;VALUE=URI;X-ADDRESS=Croome Park High Green Worcester Worcs WR8 9DW;X-APPLE-RADIUS=500;X-TITLE=High Green:geo:-2.1644462,52.1042101
END:VEVENT
BEGIN:VEVENT
DTSTART;TZID=Europe/London:20250501T080000
DTEND;TZID=Europe/London:20250531T170000
DTSTAMP:20260419T184353
CREATED:20250509T154622Z
LAST-MODIFIED:20250519T133120Z
UID:10019297-1746086400-1748710800@www.visitthemalverns.org
SUMMARY:Farewell to Malvern Hills Gallery
DESCRIPTION:After 25 years supporting and showcasing local artists and craftspeople\, Malvern Hills Gallery will be closing its doors at the end of May 2025. Whether you’re a regular customer\, an occasional visitor or have never been before\, we welcome you to pop in for a chat and a browse. Unique\, locally crafted items as usual\, plus some items on sale at reduced prices. To find out what our artists are doing next\, please visit the Malvern Hills Gallery Facebook page. \nThe Malvern Hills Gallery hopes to be open every day until the end of May. Please do call ahead if making a special journey. \nHandmade Malvern is a new curated directory celebrating the vibrant community of artists and craftspeople living and working in the area.
URL:https://www.visitthemalverns.org/event/farewell-to-malvern-hills-gallery/
LOCATION:Malvern Hills Art Gallery\, 1 Worcester Road\, Malvern WR14 4QY
CATEGORIES:Community,Craft,Exhibition,Malvern,Shopping
ATTACH;FMTTYPE=image/jpeg:https://www.visitthemalverns.org/wp-content/uploads/2025/05/Farewell-to-Malvern-Hills-Gallery-banner.jpg
GEO:52.11218;-2.3303619
X-APPLE-STRUCTURED-LOCATION;VALUE=URI;X-ADDRESS=Malvern Hills Art Gallery 1 Worcester Road Malvern WR14 4QY;X-APPLE-RADIUS=500;X-TITLE=1 Worcester Road\, Malvern WR14 4QY:geo:-2.3303619,52.11218
END:VEVENT
BEGIN:VEVENT
DTSTART;TZID=Europe/London:20250519T080000
DTEND;TZID=Europe/London:20250629T170000
DTSTAMP:20260419T184353
CREATED:20250531T122411Z
LAST-MODIFIED:20250531T122411Z
UID:10019401-1747641600-1751216400@www.visitthemalverns.org
SUMMARY:Open Air Poetry Exhibition
DESCRIPTION:Poetry makes life worth living! \nCome and explore twenty-six beautifully illustrated poems by local poets on public display along Exhibition Walk\, Great Malvern running from Waitrose to Church Street\, Monday 19 May – Sunday 29 June 2025. \nIn addition\, there will be three evening readings with open mic: \n\nThursday 29 May 2025 at Malvern Book Coop\, St Ann’s Road (£5 including drink)\nTuesday 10 & Wednesday 25 June 2025 at the Great Malvern Hotel\, Graham Road (free – buy drinks at pub bar)\nN.B. As space is limited\, please book in advance at Malvern Book Cooperative (for all events).\n\nFor more information visit the websites of Malvern Spoken Word and Malvern Writers’ Circle.
URL:https://www.visitthemalverns.org/event/open-air-poetry-exhibition/
LOCATION:Exhibition Walk (Church Walk & Waitrose)\, Church Walk\, Malvern\, WR14 2XH
CATEGORIES:Malvern,Poetry
ATTACH;FMTTYPE=image/jpeg:https://www.visitthemalverns.org/wp-content/uploads/2025/05/Poetry-photo-by-Alvaro-Serrano-on-Unsplash.jpg
GEO:52.1117742;-2.3283848
X-APPLE-STRUCTURED-LOCATION;VALUE=URI;X-ADDRESS=Exhibition Walk (Church Walk & Waitrose) Church Walk Malvern WR14 2XH;X-APPLE-RADIUS=500;X-TITLE=Church Walk:geo:-2.3283848,52.1117742
END:VEVENT
BEGIN:VEVENT
DTSTART;TZID=Europe/London:20250522T080000
DTEND;TZID=Europe/London:20250526T170000
DTSTAMP:20260419T184353
CREATED:20250413T114125Z
LAST-MODIFIED:20250519T133137Z
UID:10019133-1747900800-1748278800@www.visitthemalverns.org
SUMMARY:Dubs in the Middle
DESCRIPTION:The ultimate family-friendly VW festival celebrates its 10th anniversary show with a move to a beautiful new venue\, Severn End near Upton upon Severn. \nThe jam-packed 2025 event includes: \n\nWorkshops (60+ sessions)\nClub camping\nLive music (55+ acts)\nTribute Sunday (7 acts)\nSilent disco – 3 channels\nTrade stalls\nFood stalls\nFun fair & inflatables\nShow ‘n’ Shine (Saturday)\nRace Night\nDog show (Sunday)\nInter-club games\nLots of free kids’ entertainment\nLive shows\n\nPlus much much more… \nThe event is marking the 80th anniversary of VE Day with its fancy dress theme. \nFor more information and tickets\, visit the Dubs in the Middle website.
URL:https://www.visitthemalverns.org/event/dubs-in-the-middle/
LOCATION:Severn End\, Hanley Castle\, Worcester\, WR8 0BW
CATEGORIES:Automotive,Children,Dance,Fair,Family,Festival,Food,Music,Shopping,Upton upon Severn
ATTACH;FMTTYPE=image/jpeg:https://www.visitthemalverns.org/wp-content/uploads/2021/08/iStock-688015678-music-Resized-1.jpg
GEO:52.081944;-2.2267197
X-APPLE-STRUCTURED-LOCATION;VALUE=URI;X-ADDRESS=Severn End Hanley Castle Worcester WR8 0BW;X-APPLE-RADIUS=500;X-TITLE=Hanley Castle:geo:-2.2267197,52.081944
END:VEVENT
BEGIN:VEVENT
DTSTART;TZID=Europe/London:20250525T100000
DTEND;TZID=Europe/London:20250525T130000
DTSTAMP:20260419T184353
CREATED:20250129T171356Z
LAST-MODIFIED:20250603T153407Z
UID:10019203-1748167200-1748178000@www.visitthemalverns.org
SUMMARY:Malvern Hills Literary Loop: Tolkien\, Lewis\, Darwin & Dickens
DESCRIPTION:Legendary fantasy authors JRR Tolkien and CS Lewis were frequent visitors to the Malvern Hills around the middle of the 20th century and the distinctive landscape may have inspired features of Middle Earth and Narnia\, like the Giant’s Cave from the Hobbit and the Victorian gas lamps from The Lion\, the Witch & the Wardrobe. \nA century earlier\, authors Charles Darwin and Charles Dickens visited Malvern for the Water Cure and most of the treatment centres and guest houses still remain. \nThe Malvern Hills Literary Loop starts at the Mr. Tumnus bench in Priory Park and heads up past Knotsford House where Dickens stayed to Lewis’s former school Cherbourg House before pausing at the Lewis Memorial in Rosebank Gardens and following the gas lamps up to St. Ann’s Well cafe. \nAfter admiring the views around North Hill\, the trail descends to Alexandra Rd where Lewis’s close friend & biographer George Sayers lived\, opposite the former home of composer Edward Elgar. \nThe loop then heads up past Montreal House where Darwin stayed during his daughter’s treatment and past Lewis & Tolkien’s favourite pub The Unicorn Inn before passing the Hobbit door and down to Malvern Priory to find Anne Darwin’s grave and potentially the original Narnian gas lamp. \nDates and booking\nThe walks are available on many dates\, often with the option of two start times on the same day. For more information\, including prices\, availability and to book. visit the Malvern Hills Literary Loop: Tolkien\, Lewis\, Darwin & Dickens page on Airbnb.
URL:https://www.visitthemalverns.org/event/malvern-hills-cultural-walk-3/2025-05-25/1/
CATEGORIES:History,Malvern,Talk,Trail,Walks
ATTACH;FMTTYPE=image/jpeg:https://www.visitthemalverns.org/wp-content/uploads/2024/04/Priory-and-Gas-Lamps-from-D-Johnson.jpg
END:VEVENT
BEGIN:VEVENT
DTSTART;TZID=Europe/London:20250525T100000
DTEND;TZID=Europe/London:20250525T170000
DTSTAMP:20260419T184353
CREATED:20250104T111607Z
LAST-MODIFIED:20250104T111607Z
UID:10017461-1748167200-1748192400@www.visitthemalverns.org
SUMMARY:Mathon and Malvern Hills Geology and Landscape (Malvern Walking Festival)
DESCRIPTION:A circular walk taking in a central section of the Malvern Hills and returning through rolling Herefordshire countryside. We will visit the Worcestershire Beacon and the medieval churches at Cradley and Mathon. There will be a gentle introduction to the geology of the area and how that has shaped the landscape. There will be plenty of time to check out the show of Spring flowers and listen to the birdsong! Up down of 1\,640 feet. \nThere’s a small number of stiles to negotiate and we can expect some sections of muddy ground and moderately steep slopes. \nBring snacks\, a packed lunch and drinks. There is a pub at the end where we can take some refreshments for anybody who is interested. Public toilets at start/end of walk. \n£5.00 \nDistance:	10 miles\nDuration:	7 hours\nDifficulty:	Hard\nDate:	25 May\nStart time:	10:00 am\nWalk leader:	Ged Elliott\nStart location:	Lower Beacon Road car park (at Upper Wyche)\nWR14 4EQ\nGrid reference:	SO 769440\nWhat3Words:	bagpipes.chipper.bridge\nFurther details:\nCar park is pay and display
URL:https://www.visitthemalverns.org/event/mathon-and-malvern-hills-geology-and-landscape-malvern-walking-festival/
CATEGORIES:Festival,Walks
ATTACH;FMTTYPE=image/jpeg:https://www.visitthemalverns.org/wp-content/uploads/2022/01/Malvern-Walking-Festival-Logo.jpg
END:VEVENT
BEGIN:VEVENT
DTSTART;TZID=Europe/London:20250525T103000
DTEND;TZID=Europe/London:20250526T173000
DTSTAMP:20260419T184353
CREATED:20240122T130116Z
LAST-MODIFIED:20250519T140528Z
UID:10004040-1748169000-1748280600@www.visitthemalverns.org
SUMMARY:Eastnor Steam and Vintage Days
DESCRIPTION:Sunday 25 & Monday 26 May\n10:30am-5:30pm \nA nostalgic family day out.\nSteam engines\, vintage cars\, giant garden games\, model steam engine riders\, vintage fair ground rides\, nostalgic dance workshops and more. \nPlus all of the usual attractions at Eastnor Castle \nAdults: £15.50 (aged 16 and over)\nChildren: £9.50 (aged 3-15 years)\nFamily: £45.00 (2 adults + up to 3 children)\nFamily: £30.00 (1 adult + up to 3 children) \nChildren aged 2 and under do not require a ticket. \nDogs welcome
URL:https://www.visitthemalverns.org/event/eastnor-steam-weekend/
LOCATION:Eastnor Castle\, HR8 1RL
CATEGORIES:Automotive,Children,Dog Friendly,Exhibition,Family,History,Malvern
ATTACH;FMTTYPE=image/jpeg:https://www.visitthemalverns.org/wp-content/uploads/2022/01/Eastnor-Steam-resized-1-1.jpg
GEO:52.0300328;-2.3906147
X-APPLE-STRUCTURED-LOCATION;VALUE=URI;X-ADDRESS=Eastnor Castle HR8 1RL;X-APPLE-RADIUS=500;X-TITLE=HR8 1RL:geo:-2.3906147,52.0300328
END:VEVENT
BEGIN:VEVENT
DTSTART;TZID=Europe/London:20250525T140000
DTEND;TZID=Europe/London:20250525T170000
DTSTAMP:20260419T184353
CREATED:20250129T171356Z
LAST-MODIFIED:20250603T153407Z
UID:10019204-1748181600-1748192400@www.visitthemalverns.org
SUMMARY:Malvern Hills Literary Loop: Tolkien\, Lewis\, Darwin & Dickens
DESCRIPTION:Legendary fantasy authors JRR Tolkien and CS Lewis were frequent visitors to the Malvern Hills around the middle of the 20th century and the distinctive landscape may have inspired features of Middle Earth and Narnia\, like the Giant’s Cave from the Hobbit and the Victorian gas lamps from The Lion\, the Witch & the Wardrobe. \nA century earlier\, authors Charles Darwin and Charles Dickens visited Malvern for the Water Cure and most of the treatment centres and guest houses still remain. \nThe Malvern Hills Literary Loop starts at the Mr. Tumnus bench in Priory Park and heads up past Knotsford House where Dickens stayed to Lewis’s former school Cherbourg House before pausing at the Lewis Memorial in Rosebank Gardens and following the gas lamps up to St. Ann’s Well cafe. \nAfter admiring the views around North Hill\, the trail descends to Alexandra Rd where Lewis’s close friend & biographer George Sayers lived\, opposite the former home of composer Edward Elgar. \nThe loop then heads up past Montreal House where Darwin stayed during his daughter’s treatment and past Lewis & Tolkien’s favourite pub The Unicorn Inn before passing the Hobbit door and down to Malvern Priory to find Anne Darwin’s grave and potentially the original Narnian gas lamp. \nDates and booking\nThe walks are available on many dates\, often with the option of two start times on the same day. For more information\, including prices\, availability and to book. visit the Malvern Hills Literary Loop: Tolkien\, Lewis\, Darwin & Dickens page on Airbnb.
URL:https://www.visitthemalverns.org/event/malvern-hills-cultural-walk-3/2025-05-25/2/
CATEGORIES:History,Malvern,Talk,Trail,Walks
ATTACH;FMTTYPE=image/jpeg:https://www.visitthemalverns.org/wp-content/uploads/2024/04/Priory-and-Gas-Lamps-from-D-Johnson.jpg
END:VEVENT
BEGIN:VEVENT
DTSTART;TZID=Europe/London:20250525T143000
DTEND;TZID=Europe/London:20250525T163000
DTSTAMP:20260419T184353
CREATED:20250519T140604Z
LAST-MODIFIED:20250622T131424Z
UID:10019140-1748183400-1748190600@www.visitthemalverns.org
SUMMARY:Music in the Park 2025
DESCRIPTION:Back for 2025\, join Malvern Town Council for an 18-week programme running throughout the summer months (with the exception of 6 July) that will see bands from around Worcestershire coming to play in the Priory Park Bandstand. There is something for everyone\, with many genres covered over the season including brass band\, jazz\, pop\, folk\, blues and many more. \nAll concerts run from 2.30pm – 4.30pm and are free to attend. \nBring a rug or folding chair to sit on if you wish. It’s just a three-minute walk from the park to some of Great Malvern’s wide range of shops and cafes\, where you can purchase a drink\, lunch or treat to enjoy whilst listening to the music. This is a family-friendly event and Well-behaved dogs are welcome (on a lead) in Priory Park. \nProgramme for 2025\nSunday 11 May: Worcestershire Youth Concert Band\nSunday 18 May: Waiting for Gary\nSunday 25 May: Impact Steel\nSunday 1 June: Appleby Stone\nSunday 8 June: Malvern Hills District Brass Band\nSunday 15 June: Sunset Levels\nSunday 22 June: West Coast Sound\nSunday 29 June: Forest of Dean Brass Band\nSunday 13 July: The Retros (Blues retrospective)\nSunday 20 July: The Barflys\nSunday 27 July: Family3Steel Band\nSunday 3 August: Totally Stu’d\nSunday 10 August: Nothin’ but Dust\nSunday 17 August: Tewkesbury Town Band\nSunday 24 August: Lee Richardson & Friends\nSunday 31 August: Bourbon Alley\nSunday 7 September: Flat Tonic\nSunday 14 September: Worcester Concert Band
URL:https://www.visitthemalverns.org/event/music-in-the-park-2025-2/
LOCATION:Priory Park\, Great Malvern
CATEGORIES:Concert,Malvern,Music
ATTACH;FMTTYPE=image/jpeg:https://www.visitthemalverns.org/wp-content/uploads/2025/04/Music-in-the-Park.jpg
GEO:52.109991323292;-2.3260413614411
X-APPLE-STRUCTURED-LOCATION;VALUE=URI;X-ADDRESS=Priory Park Great Malvern;X-APPLE-RADIUS=500;X-TITLE=Great Malvern:geo:-2.3260413614411,52.109991323292
END:VEVENT
BEGIN:VEVENT
DTSTART;TZID=Europe/London:20250525T150000
DTEND;TZID=Europe/London:20250525T153000
DTSTAMP:20260419T184353
CREATED:20250505T151310Z
LAST-MODIFIED:20250519T141903Z
UID:10019273-1748185200-1748187000@www.visitthemalverns.org
SUMMARY:Mission Impossible: The Final Reckoning (Cert: TBC)
DESCRIPTION:Our Lives are the sum of our choices. \nTom Cruise is Ethan Hunt in Mission Impossible: The Final Reckoning. \nCert:  TBC \nAD  Audio Description available \nDS  Descriptive Subtitles:  Thursday 29 May at 4pm and Monday 2 June at 7:15pm \nPrices:\nEvenings:  £9/£10 (Premium seats)\nMornings and matinees:  £8/£9 (Premium seats)\nConcessions and members discounts apply \nShow Times:\nFriday 23 May at 3pm and 7:15pm\nSaturday 24 May at 3pm and 7:15pm\nSunday 25 May at 3pm and 7pm\nMonday 26 May at 7:15pm\nTuesday 27 May at 11am\, 3pm and 7:15pm\nWednesday 28 May at 7:15pm\nThursday 29 May at 4pm (with DS) and 7:45pm\nFriday 30 May at 3pm and 7:15pm\nSaturday 31 May at 2pm\nSunday 1 June at 3pm and 7pm\nMonday 2 June at 7:15pm (with DS)\nTuesday 3 June at 11am\, 3pm and 7:15pm\nWednesday 4 June at 7:15pm\nThursday 5 June at 3pm
URL:https://www.visitthemalverns.org/event/mission-impossible-the-final-reckoning-cert-tbc/2025-05-25/1/
LOCATION:Malvern Theatres\, WR14 3HB
CATEGORIES:Cinema,Film
ATTACH;FMTTYPE=image/jpeg:https://www.visitthemalverns.org/wp-content/uploads/2021/07/iStock-1191001701-cinema-resized-1.jpg
GEO:52.1106766;-2.3267752
X-APPLE-STRUCTURED-LOCATION;VALUE=URI;X-ADDRESS=Malvern Theatres WR14 3HB;X-APPLE-RADIUS=500;X-TITLE=WR14 3HB:geo:-2.3267752,52.1106766
END:VEVENT
BEGIN:VEVENT
DTSTART;TZID=Europe/London:20250525T190000
DTEND;TZID=Europe/London:20250525T193000
DTSTAMP:20260419T184353
CREATED:20250505T151310Z
LAST-MODIFIED:20250519T141903Z
UID:10019274-1748199600-1748201400@www.visitthemalverns.org
SUMMARY:Mission Impossible: The Final Reckoning (Cert: TBC)
DESCRIPTION:Our Lives are the sum of our choices. \nTom Cruise is Ethan Hunt in Mission Impossible: The Final Reckoning. \nCert:  TBC \nAD  Audio Description available \nDS  Descriptive Subtitles:  Thursday 29 May at 4pm and Monday 2 June at 7:15pm \nPrices:\nEvenings:  £9/£10 (Premium seats)\nMornings and matinees:  £8/£9 (Premium seats)\nConcessions and members discounts apply \nShow Times:\nFriday 23 May at 3pm and 7:15pm\nSaturday 24 May at 3pm and 7:15pm\nSunday 25 May at 3pm and 7pm\nMonday 26 May at 7:15pm\nTuesday 27 May at 11am\, 3pm and 7:15pm\nWednesday 28 May at 7:15pm\nThursday 29 May at 4pm (with DS) and 7:45pm\nFriday 30 May at 3pm and 7:15pm\nSaturday 31 May at 2pm\nSunday 1 June at 3pm and 7pm\nMonday 2 June at 7:15pm (with DS)\nTuesday 3 June at 11am\, 3pm and 7:15pm\nWednesday 4 June at 7:15pm\nThursday 5 June at 3pm
URL:https://www.visitthemalverns.org/event/mission-impossible-the-final-reckoning-cert-tbc/2025-05-25/2/
LOCATION:Malvern Theatres\, WR14 3HB
CATEGORIES:Cinema,Film
ATTACH;FMTTYPE=image/jpeg:https://www.visitthemalverns.org/wp-content/uploads/2021/07/iStock-1191001701-cinema-resized-1.jpg
GEO:52.1106766;-2.3267752
X-APPLE-STRUCTURED-LOCATION;VALUE=URI;X-ADDRESS=Malvern Theatres WR14 3HB;X-APPLE-RADIUS=500;X-TITLE=WR14 3HB:geo:-2.3267752,52.1106766
END:VEVENT
BEGIN:VEVENT
DTSTART;TZID=Europe/London:20250525T190000
DTEND;TZID=Europe/London:20250525T203000
DTSTAMP:20260419T184353
CREATED:20241227T154748Z
LAST-MODIFIED:20250519T140736Z
UID:10017355-1748199600-1748205000@www.visitthemalverns.org
SUMMARY:An Audience with Lucy Worsley on Jane Austen
DESCRIPTION:Following the success of her sold-out Agatha Christie tour\, acclaimed historian Lucy Worsley\, familiar to many from her TV appearances\, leads us into the life of one of English literature’s most cherished figures. \nFor these beautifully-illustrated live talks\, Lucy invites audiences to step into the world of Jane Austen\, the beloved author of timeless classics including Pride and Prejudice\, Sense and Sensibility and Persuasion. \nBy examining the houses\, places and possessions that mattered to Austen\, Lucy takes a fascinating look at what home meant to Jane and to the women like her who populate her novels. Austen famously lived a ‘life without incident’\, but with new research and insights Lucy uncovers a passionate woman who fought for her freedom – a woman who\, far from being a lonely spinster\, in fact had at least five marriage prospects\, but in the end refused to settle for anything less than Mr Darcy.
URL:https://www.visitthemalverns.org/event/an-audience-with-lucy-worsley-on-jane-austen/
LOCATION:Malvern Theatres\, WR14 3HB
CATEGORIES:History,Talk
ATTACH;FMTTYPE=image/jpeg:https://www.visitthemalverns.org/wp-content/uploads/2022/06/ilyass-seddoug-unsplash-microphone.jpg
GEO:52.1106766;-2.3267752
X-APPLE-STRUCTURED-LOCATION;VALUE=URI;X-ADDRESS=Malvern Theatres WR14 3HB;X-APPLE-RADIUS=500;X-TITLE=WR14 3HB:geo:-2.3267752,52.1106766
END:VEVENT
BEGIN:VEVENT
DTSTART;TZID=Europe/London:20250525T193000
DTEND;TZID=Europe/London:20250525T213000
DTSTAMP:20260419T184353
CREATED:20250323T145032Z
LAST-MODIFIED:20250519T140755Z
UID:10018806-1748201400-1748208600@www.visitthemalverns.org
SUMMARY:Malvern XL Comedy Club
DESCRIPTION:Chuckl. proudly presents Malvern XL Comedy Club at Malvern Theatres. \nGet ready to enjoy an evening of the very best in comedy. All of the performers at Malvern XL Comedy Club (including the ‘support acts’) are amongst the very best in the comedy business\, many of whom have TV credits\, including Live at the Apollo on the BBC\, so you can be certain that you’ll have the very best comedy club experience. \nThis evening showcases the talents of the magnificent Simon Brodkin\, Seann Walsh\, John Robertson and Suzy Bennett\, all in one special evening of comedy!
URL:https://www.visitthemalverns.org/event/malvern-xl-comedy-club/
LOCATION:Malvern Theatres\, WR14 3HB
CATEGORIES:Comedy,Malvern
ATTACH;FMTTYPE=image/jpeg:https://www.visitthemalverns.org/wp-content/uploads/2023/01/Comedy.jpg
GEO:52.1106766;-2.3267752
X-APPLE-STRUCTURED-LOCATION;VALUE=URI;X-ADDRESS=Malvern Theatres WR14 3HB;X-APPLE-RADIUS=500;X-TITLE=WR14 3HB:geo:-2.3267752,52.1106766
END:VEVENT
END:VCALENDAR