BEGIN:VCALENDAR
VERSION:2.0
PRODID:-//Visit The Malverns - ECPv6.15.20//NONSGML v1.0//EN
CALSCALE:GREGORIAN
METHOD:PUBLISH
X-WR-CALNAME:Visit The Malverns
X-ORIGINAL-URL:https://www.visitthemalverns.org
X-WR-CALDESC:Events for Visit The Malverns
REFRESH-INTERVAL;VALUE=DURATION:PT1H
X-Robots-Tag:noindex
X-PUBLISHED-TTL:PT1H
BEGIN:VTIMEZONE
TZID:Europe/London
BEGIN:DAYLIGHT
TZOFFSETFROM:+0000
TZOFFSETTO:+0100
TZNAME:BST
DTSTART:20240331T010000
END:DAYLIGHT
BEGIN:STANDARD
TZOFFSETFROM:+0100
TZOFFSETTO:+0000
TZNAME:GMT
DTSTART:20241027T010000
END:STANDARD
BEGIN:DAYLIGHT
TZOFFSETFROM:+0000
TZOFFSETTO:+0100
TZNAME:BST
DTSTART:20250330T010000
END:DAYLIGHT
BEGIN:STANDARD
TZOFFSETFROM:+0100
TZOFFSETTO:+0000
TZNAME:GMT
DTSTART:20251026T010000
END:STANDARD
BEGIN:DAYLIGHT
TZOFFSETFROM:+0000
TZOFFSETTO:+0100
TZNAME:BST
DTSTART:20260329T010000
END:DAYLIGHT
BEGIN:STANDARD
TZOFFSETFROM:+0100
TZOFFSETTO:+0000
TZNAME:GMT
DTSTART:20261025T010000
END:STANDARD
BEGIN:DAYLIGHT
TZOFFSETFROM:+0000
TZOFFSETTO:+0100
TZNAME:BST
DTSTART:20270328T010000
END:DAYLIGHT
BEGIN:STANDARD
TZOFFSETFROM:+0100
TZOFFSETTO:+0000
TZNAME:GMT
DTSTART:20271031T010000
END:STANDARD
END:VTIMEZONE
BEGIN:VEVENT
DTSTART;TZID=Europe/London:20250124T080000
DTEND;TZID=Europe/London:20260301T170000
DTSTAMP:20260420T001634
CREATED:20250124T150306Z
LAST-MODIFIED:20250519T133051Z
UID:10017685-1737705600-1772384400@www.visitthemalverns.org
SUMMARY:Pages from Nature: Walk through the Pleasure Grounds
DESCRIPTION:Purchase a booklet inspired by the 1824 guidebook to Croome\, the Hortus Croomensis\, to explore the garden. Discover the history behind the landscape design; take time to sketch in the booklet\, pause along the way to appreciate the scents in the special scent boxes – can you guess what they are? Delve into quotes from the two-hundred-year-old text to feel transported back two centuries. \nA copy of the booklet costs £3 and the route is approximately 2 miles long (on hard-surface paths). Booking is not needed\, but normal admission charges apply. \nVisit the website for Croome’s opening hours and further information.
URL:https://www.visitthemalverns.org/event/pages-from-nature-walk-through-the-pleasure-grounds/
LOCATION:Croome Park\, High Green\, Worcester\, Worcs\, WR8 9DW
CATEGORIES:Garden,Trail,Walks
ATTACH;FMTTYPE=image/jpeg:https://www.visitthemalverns.org/wp-content/uploads/2025/01/Croome-2-by-Roger-Chapman-on-Unsplash-1.jpg
GEO:52.1042101;-2.1644462
X-APPLE-STRUCTURED-LOCATION;VALUE=URI;X-ADDRESS=Croome Park High Green Worcester Worcs WR8 9DW;X-APPLE-RADIUS=500;X-TITLE=High Green:geo:-2.1644462,52.1042101
END:VEVENT
BEGIN:VEVENT
DTSTART;TZID=Europe/London:20260131T080000
DTEND;TZID=Europe/London:20260227T170000
DTSTAMP:20260420T001634
CREATED:20260119T122513Z
LAST-MODIFIED:20260210T141755Z
UID:10022272-1769846400-1772211600@www.visitthemalverns.org
SUMMARY:Rhythm & Resonance: Hargest Creative Exhibition
DESCRIPTION:Artists and wellbeing specialists Kevin and Mayuri have a joint exhibition in The Book & Cup Cafe at Malvern Library\, starting 31 January through to 27 February 2026 during library opening hours (closed Sundays). \nKevin’s work is abstract and conceptual\, drawing from life’s myriad of experiences to create pieces full of narrative and complexity. \nMayuri’s work draws on her Indian heritage\, using the graphical lines from mehndhi and saree patterns in hand drawn or relief printed works\, exploring nature\, ritual and peace in chaos. \nRhythm & Resonance is a celebration of over 20 years of creativity in its many forms\, including poetry\, prints and paintings\, with both older and newer pieces exhibited. \nNearby the venue is the awesome Priory Park\, so this half term\, take a visit to the cafe for the exhibition\, to explore the books in the library and have a run around in the park: a lovely day out for the kids and you! \nJust a note that the cafe is open for service Monday – Thursday only\, but the exhibition is still open and aligns to the library times.
URL:https://www.visitthemalverns.org/event/rhythm-resonance-hargest-creative-exhibition/
LOCATION:Malvern Library\, Graham Road\, Malvern\, Worcs\, WR14 2HU
CATEGORIES:Craft,Exhibition,Malvern
ATTACH;FMTTYPE=image/jpeg:https://www.visitthemalverns.org/wp-content/uploads/2026/01/Rhythm-and-Resonance-Exhibition.jpg
GEO:52.11288;-2.32671
X-APPLE-STRUCTURED-LOCATION;VALUE=URI;X-ADDRESS=Malvern Library Graham Road Malvern Worcs WR14 2HU;X-APPLE-RADIUS=500;X-TITLE=Graham Road:geo:-2.32671,52.11288
END:VEVENT
BEGIN:VEVENT
DTSTART;TZID=Europe/London:20260224T110000
DTEND;TZID=Europe/London:20260224T113000
DTSTAMP:20260420T001634
CREATED:20260124T123236Z
LAST-MODIFIED:20260124T123236Z
UID:10022331-1771930800-1771932600@www.visitthemalverns.org
SUMMARY:Wuthering Heights (15)
DESCRIPTION:Starring Margot Robbie as Cathy and Jacob Elordi as Heathcliff\, Emerald Fennell’s Wuthering Heights is a bold and original imagining of one of the greatest love stories of all time in which Cathy and Heathcliff’s forbidden passion for one another turns from romantic to intoxicating in an epic tale of lust\, love and madness. \nCert:  15\nRunning time:  2hrs 10mins\nAD:  Audio Description available\nDS:  Descriptive Subtitles:  Monday 23 February at 7:15pm \nPrices:\nEvenings:  £9/£10 (Premium seats)\nMornings and matinees:  £8/£9 (Premium seats)\nConcessions and members discounts apply \nShow Times:\nPlease note:  Film starts at advertised time\nFriday 20 February at 4pm and 7:15pm\nSaturday 21 February at 4pm and 7:15pm\nSunday 22 February at 3pm and 6:30pm\nMonday 23 February at 7:15pm (with DS)\nTuesday 24 February at 11am\, 4pm and 7:15pm\nWednesday 25 February at 7:15pm\nThursday 26 February at 1pm and 4pm\nFriday 27 February at 4pm\nSaturday 28 February at 7:15pm\nSunday 1 March at 3pm\nMonday 2 March at 7:15pm\nTuesday 3 March at 4pm\nThursday 5 March at 4:30pm
URL:https://www.visitthemalverns.org/event/wuthering-heights-15/2026-02-24/1/
LOCATION:Malvern Theatres\, WR14 3HB
CATEGORIES:Cinema,Film
ATTACH;FMTTYPE=image/jpeg:https://www.visitthemalverns.org/wp-content/uploads/2021/07/iStock-1191001701-cinema-resized-1.jpg
GEO:52.1106766;-2.3267752
X-APPLE-STRUCTURED-LOCATION;VALUE=URI;X-ADDRESS=Malvern Theatres WR14 3HB;X-APPLE-RADIUS=500;X-TITLE=WR14 3HB:geo:-2.3267752,52.1106766
END:VEVENT
BEGIN:VEVENT
DTSTART;TZID=Europe/London:20260224T160000
DTEND;TZID=Europe/London:20260224T163000
DTSTAMP:20260420T001634
CREATED:20260124T123236Z
LAST-MODIFIED:20260124T123236Z
UID:10022332-1771948800-1771950600@www.visitthemalverns.org
SUMMARY:Wuthering Heights (15)
DESCRIPTION:Starring Margot Robbie as Cathy and Jacob Elordi as Heathcliff\, Emerald Fennell’s Wuthering Heights is a bold and original imagining of one of the greatest love stories of all time in which Cathy and Heathcliff’s forbidden passion for one another turns from romantic to intoxicating in an epic tale of lust\, love and madness. \nCert:  15\nRunning time:  2hrs 10mins\nAD:  Audio Description available\nDS:  Descriptive Subtitles:  Monday 23 February at 7:15pm \nPrices:\nEvenings:  £9/£10 (Premium seats)\nMornings and matinees:  £8/£9 (Premium seats)\nConcessions and members discounts apply \nShow Times:\nPlease note:  Film starts at advertised time\nFriday 20 February at 4pm and 7:15pm\nSaturday 21 February at 4pm and 7:15pm\nSunday 22 February at 3pm and 6:30pm\nMonday 23 February at 7:15pm (with DS)\nTuesday 24 February at 11am\, 4pm and 7:15pm\nWednesday 25 February at 7:15pm\nThursday 26 February at 1pm and 4pm\nFriday 27 February at 4pm\nSaturday 28 February at 7:15pm\nSunday 1 March at 3pm\nMonday 2 March at 7:15pm\nTuesday 3 March at 4pm\nThursday 5 March at 4:30pm
URL:https://www.visitthemalverns.org/event/wuthering-heights-15/2026-02-24/2/
LOCATION:Malvern Theatres\, WR14 3HB
CATEGORIES:Cinema,Film
ATTACH;FMTTYPE=image/jpeg:https://www.visitthemalverns.org/wp-content/uploads/2021/07/iStock-1191001701-cinema-resized-1.jpg
GEO:52.1106766;-2.3267752
X-APPLE-STRUCTURED-LOCATION;VALUE=URI;X-ADDRESS=Malvern Theatres WR14 3HB;X-APPLE-RADIUS=500;X-TITLE=WR14 3HB:geo:-2.3267752,52.1106766
END:VEVENT
BEGIN:VEVENT
DTSTART;TZID=Europe/London:20260224T183000
DTEND;TZID=Europe/London:20260224T203000
DTSTAMP:20260420T001634
CREATED:20251229T163912Z
LAST-MODIFIED:20260210T142908Z
UID:10021949-1771957800-1771965000@www.visitthemalverns.org
SUMMARY:Shell & Sea Glass Framed Art Workshop
DESCRIPTION:Create your own coastal masterpiece in a relaxed and inspiring workshop.
URL:https://www.visitthemalverns.org/event/shell-sea-glass-framed-art-workshop/
LOCATION:FAUN Wine\, 40 Belle Vue Terrace\, Malvern\, WR14 4PZ
CATEGORIES:Malvern
ATTACH;FMTTYPE=image/jpeg:https://www.visitthemalverns.org/wp-content/uploads/2025/12/Ruth-shells.jpg
GEO:52.1110879;-2.3300956
X-APPLE-STRUCTURED-LOCATION;VALUE=URI;X-ADDRESS=FAUN Wine 40 Belle Vue Terrace Malvern WR14 4PZ;X-APPLE-RADIUS=500;X-TITLE=40 Belle Vue Terrace:geo:-2.3300956,52.1110879
END:VEVENT
BEGIN:VEVENT
DTSTART;TZID=Europe/London:20260224T191500
DTEND;TZID=Europe/London:20260224T194500
DTSTAMP:20260420T001634
CREATED:20260124T123236Z
LAST-MODIFIED:20260124T123236Z
UID:10022333-1771960500-1771962300@www.visitthemalverns.org
SUMMARY:Wuthering Heights (15)
DESCRIPTION:Starring Margot Robbie as Cathy and Jacob Elordi as Heathcliff\, Emerald Fennell’s Wuthering Heights is a bold and original imagining of one of the greatest love stories of all time in which Cathy and Heathcliff’s forbidden passion for one another turns from romantic to intoxicating in an epic tale of lust\, love and madness. \nCert:  15\nRunning time:  2hrs 10mins\nAD:  Audio Description available\nDS:  Descriptive Subtitles:  Monday 23 February at 7:15pm \nPrices:\nEvenings:  £9/£10 (Premium seats)\nMornings and matinees:  £8/£9 (Premium seats)\nConcessions and members discounts apply \nShow Times:\nPlease note:  Film starts at advertised time\nFriday 20 February at 4pm and 7:15pm\nSaturday 21 February at 4pm and 7:15pm\nSunday 22 February at 3pm and 6:30pm\nMonday 23 February at 7:15pm (with DS)\nTuesday 24 February at 11am\, 4pm and 7:15pm\nWednesday 25 February at 7:15pm\nThursday 26 February at 1pm and 4pm\nFriday 27 February at 4pm\nSaturday 28 February at 7:15pm\nSunday 1 March at 3pm\nMonday 2 March at 7:15pm\nTuesday 3 March at 4pm\nThursday 5 March at 4:30pm
URL:https://www.visitthemalverns.org/event/wuthering-heights-15/2026-02-24/3/
LOCATION:Malvern Theatres\, WR14 3HB
CATEGORIES:Cinema,Film
ATTACH;FMTTYPE=image/jpeg:https://www.visitthemalverns.org/wp-content/uploads/2021/07/iStock-1191001701-cinema-resized-1.jpg
GEO:52.1106766;-2.3267752
X-APPLE-STRUCTURED-LOCATION;VALUE=URI;X-ADDRESS=Malvern Theatres WR14 3HB;X-APPLE-RADIUS=500;X-TITLE=WR14 3HB:geo:-2.3267752,52.1106766
END:VEVENT
BEGIN:VEVENT
DTSTART;TZID=Europe/London:20260224T193000
DTEND;TZID=Europe/London:20260224T213000
DTSTAMP:20260420T001634
CREATED:20251212T170818Z
LAST-MODIFIED:20251212T170818Z
UID:10021624-1771961400-1771968600@www.visitthemalverns.org
SUMMARY:Inspector Morse: House of Ghosts
DESCRIPTION:A disturbing mystery unravels when a young actress suddenly dies on stage during a performance\, prompting Detective Chief Inspector Morse to set out on a gripping investigation. What starts out as a suspicious death inquiry takes a sinister turn when the legendary inspector\, together with DS Lewis\, discovers a connection to dark events in his own past\, a quarter of a century earlier. \nInspector Morse: House of Ghosts marks the first-ever stage adaptation of the iconic detective. ITV’s long-running Inspector Morse\, described by Radio Times as ‘The greatest British crime series of all time’\, has inspired equally beloved spin-offs\, Lewis and Endeavour. \nStarring Tom Chambers (Father Brown\, Strictly Come Dancing) in the title role\, this original story written for the stage is a must-see for fans of compelling detective stories and thrilling mysteries. \nRecommended for ages 12+ \nShow times\nTuesday 24 February 2026\, 7.30pm\nWednesday 25 February 2026\, 2.30pm\nWednesday 25 February 2026\, 7.30pm\nThursday 26 February 2026\, 2.30pm\nThursday 26 February 2026\, 7.30pm\nFriday 27 February 2026\, 7.30pm\nSaturday 28 February 2026\, 2.30pm\nSaturday 28 February 2026\, 7.30pm
URL:https://www.visitthemalverns.org/event/inspector-morse-house-of-ghosts/2026-02-24/
LOCATION:Malvern Theatres\, WR14 3HB
CATEGORIES:Malvern,Theatre
ATTACH;FMTTYPE=image/jpeg:https://www.visitthemalverns.org/wp-content/uploads/2021/06/iStock-178357283-theatre-resized-1-e1758120760526.jpg
GEO:52.1106766;-2.3267752
X-APPLE-STRUCTURED-LOCATION;VALUE=URI;X-ADDRESS=Malvern Theatres WR14 3HB;X-APPLE-RADIUS=500;X-TITLE=WR14 3HB:geo:-2.3267752,52.1106766
END:VEVENT
BEGIN:VEVENT
DTSTART;TZID=Europe/London:20260224T193000
DTEND;TZID=Europe/London:20260224T220000
DTSTAMP:20260420T001634
CREATED:20260123T161121Z
LAST-MODIFIED:20260123T161121Z
UID:10022311-1771961400-1771970400@www.visitthemalverns.org
SUMMARY:Di and Viv and Rose
DESCRIPTION:Friends stick together\, through thick and thin… don’t they? \nThree very different women meet at university and decide to live together during a period that will shape the rest of their lives\, for better or worse. \nA joyous romp through life’s highs\, lows\, and challenges. Amelia Bullmore’s play explores how events both large and small can echo down the years as relationships are formed\, nurtured\, strained\, and repaired \nThis production of Di And Viv And Rose is presented by special licence arrangement with Nick Hern \n23-28 Feb 7.30 pm (plus matinee at 2.30pm on Thursday and Saturday)
URL:https://www.visitthemalverns.org/event/di-and-viv-and-rose/2026-02-24/
LOCATION:Coach House Theatre\, WR14 3HA
CATEGORIES:Malvern
ATTACH;FMTTYPE=image/jpeg:https://www.visitthemalverns.org/wp-content/uploads/2021/06/iStock-178357283-theatre-resized-1-e1758120760526.jpg
GEO:52.1111548;-2.3261654
X-APPLE-STRUCTURED-LOCATION;VALUE=URI;X-ADDRESS=Coach House Theatre WR14 3HA;X-APPLE-RADIUS=500;X-TITLE=WR14 3HA:geo:-2.3261654,52.1111548
END:VEVENT
END:VCALENDAR