BEGIN:VCALENDAR
VERSION:2.0
PRODID:-//Visit The Malverns - ECPv6.15.20//NONSGML v1.0//EN
CALSCALE:GREGORIAN
METHOD:PUBLISH
X-WR-CALNAME:Visit The Malverns
X-ORIGINAL-URL:https://www.visitthemalverns.org
X-WR-CALDESC:Events for Visit The Malverns
REFRESH-INTERVAL;VALUE=DURATION:PT1H
X-Robots-Tag:noindex
X-PUBLISHED-TTL:PT1H
BEGIN:VTIMEZONE
TZID:Europe/London
BEGIN:DAYLIGHT
TZOFFSETFROM:+0000
TZOFFSETTO:+0100
TZNAME:BST
DTSTART:20250330T010000
END:DAYLIGHT
BEGIN:STANDARD
TZOFFSETFROM:+0100
TZOFFSETTO:+0000
TZNAME:GMT
DTSTART:20251026T010000
END:STANDARD
BEGIN:DAYLIGHT
TZOFFSETFROM:+0000
TZOFFSETTO:+0100
TZNAME:BST
DTSTART:20260329T010000
END:DAYLIGHT
BEGIN:STANDARD
TZOFFSETFROM:+0100
TZOFFSETTO:+0000
TZNAME:GMT
DTSTART:20261025T010000
END:STANDARD
BEGIN:DAYLIGHT
TZOFFSETFROM:+0000
TZOFFSETTO:+0100
TZNAME:BST
DTSTART:20270328T010000
END:DAYLIGHT
BEGIN:STANDARD
TZOFFSETFROM:+0100
TZOFFSETTO:+0000
TZNAME:GMT
DTSTART:20271031T010000
END:STANDARD
END:VTIMEZONE
BEGIN:VEVENT
DTSTART;TZID=Europe/London:20260321T093000
DTEND;TZID=Europe/London:20260412T170000
DTSTAMP:20260419T215449
CREATED:20260317T153007Z
LAST-MODIFIED:20260318T164359Z
UID:10023380-1774085400-1776013200@www.visitthemalverns.org
SUMMARY:Easter Adventure Trail at Croome
DESCRIPTION:From Saturday 21 March to Sunday 12 April\, take part in an Easter Adventure at Croome\, packed with hands-on activities and fun challenges to get the whole family exploring the outdoors together. \nThis Easter\, take part in a fun-filled adventure across Croome\, with 10 activity stations inspired by the Five Ways to Wellbeing.  Take Notice at the sound and sandpit stations\, Keep Learning with new skills and nature facts\, and Give the gift of poetry and nature pledges as you explore. \nThe trail takes place between Saturday 21 March and Sunday 12 April from 9:30am to 5pm.  Trails will be sold until 4pm with last egg collection at 5pm when the site closes. \nPrices are £3.50 per trail which includes an Easter trail sheet\, bunny ears and dairy or vegan and Free From* chocolate egg. \n*Suitable for people with milk\, egg\, gluten\, peanut and tree nut allergies. \nBooking Not Needed \nAdmission Applies
URL:https://www.visitthemalverns.org/event/easter-adventure-trail-at-croome/
LOCATION:Croome Park\, High Green\, Worcester\, Worcs\, WR8 9DW
CATEGORIES:Children,Family
ATTACH;FMTTYPE=image/jpeg:https://www.visitthemalverns.org/wp-content/uploads/2022/03/Easter-Egg-Hunt-1200-e1744369157356.jpg
GEO:52.1042101;-2.1644462
X-APPLE-STRUCTURED-LOCATION;VALUE=URI;X-ADDRESS=Croome Park High Green Worcester Worcs WR8 9DW;X-APPLE-RADIUS=500;X-TITLE=High Green:geo:-2.1644462,52.1042101
END:VEVENT
BEGIN:VEVENT
DTSTART;TZID=Europe/London:20260323T080000
DTEND;TZID=Europe/London:20260412T170000
DTSTAMP:20260419T215449
CREATED:20260323T160434Z
LAST-MODIFIED:20260323T160434Z
UID:10023400-1774252800-1776013200@www.visitthemalverns.org
SUMMARY:Easter Adventure Trail at The Firs
DESCRIPTION:Please note: The Firs is open Friday\, Saturday\, Sunday and Monday only; see the National Trust website for information about access by car \nThis Easter\, enter a world of music\, mischief\, and springtime wonder as you help to make the Robin Sing! \nOur little robin has lost its song\, and only the help of curious explorers can recover it. Follow a trail of ten enchanting nature‑themed stations\, each bursting with sound\, movement\, and hands‑on fun. \nWith each activity\, you’ll find clues\, awaken your senses\, and get one step closer to helping the robin find its voice again. \nIt’s playful\, musical\, and full of natural magic – the perfect Easter adventure for families ready to explore together. \nThe trail runs from Monday 23 March 2026 until Sunday 12 April 2026\, Friday to Monday\, from 10am to 5pm\, with last entry at 4.30pm. \nCost: £3.50 per trail\, which includes an Easter trail sheet\, bunny ears and dairy or vegan and Free From* chocolate egg. \n*Suitable for people with milk\, egg\, gluten\, peanut and tree nut allergies. \nBooking is not needed for this event; normal admission applies.
URL:https://www.visitthemalverns.org/event/easter-adventure-trail-at-the-firs/
LOCATION:The Firs\, Elgar's Birthplace Museum\, Crown East Lane\, Lower Broadheath\, WR2 6RH
CATEGORIES:Children,Family,Trail
ATTACH;FMTTYPE=image/jpeg:https://www.visitthemalverns.org/wp-content/uploads/2026/02/Robin-in-winter-by-gruendercoach-on-Pixabay.jpg
GEO:52.1977068;-2.2822622
X-APPLE-STRUCTURED-LOCATION;VALUE=URI;X-ADDRESS=The Firs Elgar's Birthplace Museum Crown East Lane Lower Broadheath WR2 6RH;X-APPLE-RADIUS=500;X-TITLE=Elgar's Birthplace Museum:geo:-2.2822622,52.1977068
END:VEVENT
BEGIN:VEVENT
DTSTART;TZID=Europe/London:20260323T080000
DTEND;TZID=Europe/London:20260529T170000
DTSTAMP:20260419T215449
CREATED:20260323T155757Z
LAST-MODIFIED:20260323T155757Z
UID:10023399-1774252800-1780074000@www.visitthemalverns.org
SUMMARY:Festival of Blossom
DESCRIPTION:The festival runs until 29 May\, but is unavailable during the Easter holidays (28 March – 12 April 2026). \nFrom the spring equinox\, Brockhampton will be celebrating the beauty of blossom and encouraging visitors to discover the beauty of orchards and take a mindful moment in nature. \nPick up a free nature‑rubbing trail from Visitor Reception and wander into the orchards to discover different varieties of blossom and the wildlife that makes its home there. (The trail is unavailable during the Easter holidays\, 28 March–12 April.) \nThis event is free\,  but normal admission applies.
URL:https://www.visitthemalverns.org/event/festival-of-blossom/
LOCATION:Brockhampton (National Trust)\, Bringsty\, Bromyard\, WR6 5TB
CATEGORIES:Children,Family,Trail,Walks
ATTACH;FMTTYPE=image/jpeg:https://www.visitthemalverns.org/wp-content/uploads/2025/04/Blossom-photo-by-Vladimir-Vinogradov-on-Unsplash.jpg
GEO:52.18827;-2.46718
X-APPLE-STRUCTURED-LOCATION;VALUE=URI;X-ADDRESS=Brockhampton (National Trust) Bringsty Bromyard WR6 5TB;X-APPLE-RADIUS=500;X-TITLE=Bringsty:geo:-2.46718,52.18827
END:VEVENT
BEGIN:VEVENT
DTSTART;TZID=Europe/London:20260328T080000
DTEND;TZID=Europe/London:20260411T170000
DTSTAMP:20260419T215449
CREATED:20260318T164020Z
LAST-MODIFIED:20260403T154901Z
UID:10023383-1774684800-1775926800@www.visitthemalverns.org
SUMMARY:Tenbury Wells Egg-citing Easter Trail (every day except Sunday)
DESCRIPTION:Join the search for 24 Easter chicks hiding around Tenbury. Collect letters along the way to solve the phrase and win a treat and free child’s cinema ticket for The Regal (terms and conditions apply; see voucher for details). \nThe trail runs from 28 March – 11 April 2026\, excluding Sundays. \nComplete your trail sheet\, then return it to Tenbury Tourist Information Centre to claim your prize (open Monday – Saturday\, 10am – 4pm). \nRead our blog for more information about the trail.
URL:https://www.visitthemalverns.org/event/tenbury-wells-egg-citing-easter-trail-every-day-except-sunday/
LOCATION:Tenbury Wells Tourist Information Centre\, 48 Teme Street\, Tenbury Wells\, WR15 8AA
CATEGORIES:Children,Community,Family,Tenbury Wells,Trail
ATTACH;FMTTYPE=image/jpeg:https://www.visitthemalverns.org/wp-content/uploads/2025/04/FB-landscape-Easter-Trail-Tenbury-1200.jpg
GEO:52.3127157;-2.5941418
X-APPLE-STRUCTURED-LOCATION;VALUE=URI;X-ADDRESS=Tenbury Wells Tourist Information Centre 48 Teme Street Tenbury Wells WR15 8AA;X-APPLE-RADIUS=500;X-TITLE=48 Teme Street:geo:-2.5941418,52.3127157
END:VEVENT
BEGIN:VEVENT
DTSTART;TZID=Europe/London:20260328T080000
DTEND;TZID=Europe/London:20260412T170000
DTSTAMP:20260419T215449
CREATED:20260323T154958Z
LAST-MODIFIED:20260323T154958Z
UID:10023398-1774684800-1776013200@www.visitthemalverns.org
SUMMARY:Easter Trail at Brockhampton
DESCRIPTION:Get ready to hop\, skip\, and sprint into spring with Brockhampton’s 2026 Easter Trail: Spring Sports Day Adventure – a lively outdoor challenge full of mini‑games\, playful competitions\, and Easter‑themed twists around every corner. Perfect for active families and energetic explorers\, this trail blends classic sports‑day favourites with springtime surprises. From bunny‑hop races and egg‑and‑spoon sprints to garden‑inspired challenges\, every activity is designed to get hearts pumping and smiles growing. \nCost: £3.50 per trail\, which includes an Easter trail sheet\, bunny ears and dairy or vegan and Free From* chocolate egg. \nBooking is not needed (trail available daily 28 March – 12 April\, 10am – 4.30pm); usual admission applies.
URL:https://www.visitthemalverns.org/event/easter-trail-at-brockhampton/
LOCATION:Brockhampton (National Trust)\, Bringsty\, Bromyard\, WR6 5TB
CATEGORIES:Children,Family,Food,Trail,Walks
ATTACH;FMTTYPE=image/jpeg:https://www.visitthemalverns.org/wp-content/uploads/2022/03/Easter-image-1-e1678549922622.jpg
GEO:52.18827;-2.46718
X-APPLE-STRUCTURED-LOCATION;VALUE=URI;X-ADDRESS=Brockhampton (National Trust) Bringsty Bromyard WR6 5TB;X-APPLE-RADIUS=500;X-TITLE=Bringsty:geo:-2.46718,52.18827
END:VEVENT
BEGIN:VEVENT
DTSTART;TZID=Europe/London:20260328T100000
DTEND;TZID=Europe/London:20260419T170000
DTSTAMP:20260419T215449
CREATED:20260317T154134Z
LAST-MODIFIED:20260318T164325Z
UID:10023381-1774692000-1776618000@www.visitthemalverns.org
SUMMARY:Easter Quest at Witley Court and Gardens
DESCRIPTION:This Easter holiday\, join us for a fun-filled adventure quest!  Follow the Easter trail\, hunt for eggs and answer questions along the way to earn a delicious chocolate reward. \nThe quest runs every day throughout the school holidays and is just £2 per child for both members and non-members.  This is in addition to your admission ticket.  There’s no need to book in advance – simply pay and join the quest when you arrive. \nBook early and save 15%.  Admission prices vary depending on the day you visit.
URL:https://www.visitthemalverns.org/event/easter-quest-at-witley-court-and-gardens/
LOCATION:Witley Court\, WR6 6JT
CATEGORIES:Children,Family
ATTACH;FMTTYPE=image/jpeg:https://www.visitthemalverns.org/wp-content/uploads/2022/03/Easter-Egg-Hunt-1200-e1744369157356.jpg
GEO:52.2851622;-2.3437742
X-APPLE-STRUCTURED-LOCATION;VALUE=URI;X-ADDRESS=Witley Court WR6 6JT;X-APPLE-RADIUS=500;X-TITLE=WR6 6JT:geo:-2.3437742,52.2851622
END:VEVENT
BEGIN:VEVENT
DTSTART;TZID=Europe/London:20260329T080000
DTEND;TZID=Europe/London:20260409T170000
DTSTAMP:20260419T215449
CREATED:20260318T162433Z
LAST-MODIFIED:20260318T162433Z
UID:10023382-1774771200-1775754000@www.visitthemalverns.org
SUMMARY:Super Smashing Easter Treasure Hunt at Eastnor Castle
DESCRIPTION:Eastnor Castle is open every day from Sunday 29 March to Thursday 9 April 2026. Entry is by pre-booked online ticket only (limited numbers available). \nThe Easter Bunny was preparing to bake his famous cakes – but oh no! He’s dropped all of his eggs\, and they’ve cracked and scattered across the castle and grounds. Easter is in danger of being cake-less! \nIt’s up to you to hop in and save the day! Your quest is to hunt down every lost egg and piece together the recipe. Expect fun\, giggles and plenty of egg-citement along the way. Let the great Easter adventure begin… there will be a chocolate reward for everyone who takes part! \nPlus\, all Eastnor Castle’s usual attractions will be open! \nFor more information and to book your non-refundable ticket\, visit the Eastnor Castle website.
URL:https://www.visitthemalverns.org/event/super-smashing-easter-treasure-hunt-at-eastnor-castle/
LOCATION:Eastnor Castle\, HR8 1RL
CATEGORIES:Children,Family,Trail
ATTACH;FMTTYPE=image/jpeg:https://www.visitthemalverns.org/wp-content/uploads/2022/03/Easter-Egg-Hunt-1200-e1744369157356.jpg
GEO:52.0300328;-2.3906147
X-APPLE-STRUCTURED-LOCATION;VALUE=URI;X-ADDRESS=Eastnor Castle HR8 1RL;X-APPLE-RADIUS=500;X-TITLE=HR8 1RL:geo:-2.3906147,52.0300328
END:VEVENT
BEGIN:VEVENT
DTSTART;TZID=Europe/London:20260330T080000
DTEND;TZID=Europe/London:20260409T170000
DTSTAMP:20260419T215449
CREATED:20260323T164555Z
LAST-MODIFIED:20260323T164555Z
UID:10023402-1774857600-1775754000@www.visitthemalverns.org
SUMMARY:Easter Trailer Tours at Top Barn Farm Park
DESCRIPTION:Between Monday 30 March and Thursday 9 April 2026\, join an Easter Trailer Tour at Top Barn Farm Park. \nHave you seen Harvey the Easter Bunny? We’ve spotted him roaming the grounds of Top Barn Farm Shop & Farm Park\, so we’re setting out on an adventure to try and find him around the Farm. Do you fancy joining the hunt? \nJump on the trailer as we tour our Worcestershire farm and search for Harvey. We think we know his favourite spots and our guests are tasked with keeping their eyes peeled for him. \nWe encourage all our younger guests to shout when they see the Easter Bunny\, in the hope of getting his attention! However\, sometimes he can accidentally head in the wrong direction\, so we have to continue the hunt. \nWhen we complete our Easter hunt and find the elusive Easter Bunny at Top Barn Farm Shop & Farm Park\, he often has a chocolate treat for everyone and thanks them for finding him!
URL:https://www.visitthemalverns.org/event/easter-trailer-tours-at-top-barn-farm-park/
LOCATION:Top Barn Farm Park\, Top Barn Farm\, Worcester Rd\, Holt Heath\, Worcester\, Worcester\, Worcestershire\, WR6 6NH\, United Kingdom
CATEGORIES:Children,Family
ATTACH;FMTTYPE=image/jpeg:https://www.visitthemalverns.org/wp-content/uploads/2026/03/Easter-image-by-Geralt-on-Pixabay.jpg
GEO:52.2552594;-2.2262283
X-APPLE-STRUCTURED-LOCATION;VALUE=URI;X-ADDRESS=Top Barn Farm Park Top Barn Farm Worcester Rd Holt Heath Worcester Worcester Worcestershire WR6 6NH United Kingdom;X-APPLE-RADIUS=500;X-TITLE=Top Barn Farm\, Worcester Rd\, Holt Heath\, Worcester:geo:-2.2262283,52.2552594
END:VEVENT
BEGIN:VEVENT
DTSTART;TZID=Europe/London:20260401T090000
DTEND;TZID=Europe/London:20260401T150000
DTSTAMP:20260419T215449
CREATED:20260228T145628Z
LAST-MODIFIED:20260228T145628Z
UID:10022863-1775034000-1775055600@www.visitthemalverns.org
SUMMARY:Tenbury Wells Round Market
DESCRIPTION:Dating back to 1858\, the historic Round Market hosts a market five days a week (Tuesday – Saturday\, 9am – 3pm).
URL:https://www.visitthemalverns.org/event/tenbury-wells-round-market/2026-04-01/
LOCATION:The Round Market\, The Round Market\, Market Street\, Tenbury Wells\, Worcestershire\, WR15 8BL\, United Kingdom
CATEGORIES:Community,Drink,Food,Market,Shopping,Tenbury Wells
ATTACH;FMTTYPE=image/jpeg:https://www.visitthemalverns.org/wp-content/uploads/2026/02/Tenbury-Wells-Round-Market-1.jpg
GEO:52.3106088;-2.5958064
X-APPLE-STRUCTURED-LOCATION;VALUE=URI;X-ADDRESS=The Round Market The Round Market Market Street Tenbury Wells Worcestershire WR15 8BL United Kingdom;X-APPLE-RADIUS=500;X-TITLE=The Round Market\, Market Street:geo:-2.5958064,52.3106088
END:VEVENT
BEGIN:VEVENT
DTSTART;TZID=Europe/London:20260401T100000
DTEND;TZID=Europe/London:20260401T120000
DTSTAMP:20260419T215449
CREATED:20260310T163109Z
LAST-MODIFIED:20260310T163109Z
UID:10023239-1775037600-1775044800@www.visitthemalverns.org
SUMMARY:Workshop: Needle Felt Your Own Easter Bunny!
DESCRIPTION:All materials are provided at this beginner-friendly workshop\, from which participants will come away with their own felt bunny and egg. \nCost: £20 \nWorkshop times: 10am – 12pm\, 2pm – 4pm & 6pm – 8pm \nContact and booking: museumoffashionmalvern@outlook.com
URL:https://www.visitthemalverns.org/event/workshop-needle-felt-your-own-easter-bunny/2026-04-01/1/
LOCATION:Museum of Fashion\, 32A Belle Vue Terrace\, Malvern\, WR14 4PZ
CATEGORIES:Craft,Malvern
ATTACH;FMTTYPE=image/jpeg:https://www.visitthemalverns.org/wp-content/uploads/2026/01/Museum-of-Fashion-Logo-1200.jpg
GEO:52.11126;-2.33004
X-APPLE-STRUCTURED-LOCATION;VALUE=URI;X-ADDRESS=Museum of Fashion 32A Belle Vue Terrace Malvern WR14 4PZ;X-APPLE-RADIUS=500;X-TITLE=32A Belle Vue Terrace:geo:-2.33004,52.11126
END:VEVENT
BEGIN:VEVENT
DTSTART;TZID=Europe/London:20260401T140000
DTEND;TZID=Europe/London:20260401T160000
DTSTAMP:20260419T215449
CREATED:20260310T163109Z
LAST-MODIFIED:20260310T163109Z
UID:10023240-1775052000-1775059200@www.visitthemalverns.org
SUMMARY:Workshop: Needle Felt Your Own Easter Bunny!
DESCRIPTION:All materials are provided at this beginner-friendly workshop\, from which participants will come away with their own felt bunny and egg. \nCost: £20 \nWorkshop times: 10am – 12pm\, 2pm – 4pm & 6pm – 8pm \nContact and booking: museumoffashionmalvern@outlook.com
URL:https://www.visitthemalverns.org/event/workshop-needle-felt-your-own-easter-bunny/2026-04-01/2/
LOCATION:Museum of Fashion\, 32A Belle Vue Terrace\, Malvern\, WR14 4PZ
CATEGORIES:Craft,Malvern
ATTACH;FMTTYPE=image/jpeg:https://www.visitthemalverns.org/wp-content/uploads/2026/01/Museum-of-Fashion-Logo-1200.jpg
GEO:52.11126;-2.33004
X-APPLE-STRUCTURED-LOCATION;VALUE=URI;X-ADDRESS=Museum of Fashion 32A Belle Vue Terrace Malvern WR14 4PZ;X-APPLE-RADIUS=500;X-TITLE=32A Belle Vue Terrace:geo:-2.33004,52.11126
END:VEVENT
BEGIN:VEVENT
DTSTART;TZID=Europe/London:20260401T143000
DTEND;TZID=Europe/London:20260401T170000
DTSTAMP:20260419T215449
CREATED:20251220T155639Z
LAST-MODIFIED:20251220T155639Z
UID:10021780-1775053800-1775062800@www.visitthemalverns.org
SUMMARY:The Woman in Black
DESCRIPTION:Adapted by Stephen Mallatratt from the novel by Susan Hill \nThe legendary and perennially popular production of Susan Hill’s chilling ghost story The Woman In Black returns to Malvern. \nAmongst the most successful and longest running theatre shows in the history of London’s West End\, this gripping production is a brilliantly successful study in atmosphere\, illusion and controlled horror. Having been seen by more than 7 million people around the world\, The Woman In Black continues to delight and terrify audiences of all generations. \nObsessed with a curse that he believes has been cast over him and his family by the spectre of a Woman in Black\, Arthur Kipps engages a sceptical young actor to help him tell his terrifying story and exorcise the fear that grips his soul. \nAge guidance: 12+ \nShow times\nTuesday 31 March 2026\, 7.30pm\nWednesday 1 April 2026\, 2.30pm\nWednesday 1 April 2026\, 7.30pm\nThursday 2 April 2026\, 7.30pm\nFriday 3 April 2026\, 7.30pm\nSaturday 4 April 2026\, 2.30pm\nSaturday 4 April 2026\, 7.30pm\nTuesday 31st March to Saturday 4th April
URL:https://www.visitthemalverns.org/event/the-woman-in-black-3/2026-04-01/1/
LOCATION:Malvern Theatres\, WR14 3HB
CATEGORIES:Malvern,Theatre
ATTACH;FMTTYPE=image/jpeg:https://www.visitthemalverns.org/wp-content/uploads/2021/06/iStock-178357283-theatre-resized-1-e1758120760526.jpg
GEO:52.1106766;-2.3267752
X-APPLE-STRUCTURED-LOCATION;VALUE=URI;X-ADDRESS=Malvern Theatres WR14 3HB;X-APPLE-RADIUS=500;X-TITLE=WR14 3HB:geo:-2.3267752,52.1106766
END:VEVENT
BEGIN:VEVENT
DTSTART;TZID=Europe/London:20260401T150000
DTEND;TZID=Europe/London:20260401T170000
DTSTAMP:20260419T215449
CREATED:20260323T171229Z
LAST-MODIFIED:20260323T171229Z
UID:10023411-1775055600-1775062800@www.visitthemalverns.org
SUMMARY:The Magic Faraway Tree (U)
DESCRIPTION:The Magic Faraway Tree tells the story of Polly (Claire Foy)\, Tim (Andrew Garfield) and their three children – a modern family forced to relocate to the remote English countryside. \nAs they adjust to their new lives\, the children find a magical tree and its extraordinary and eccentric residents including treasured characters Moonface (Nonso Anozie)\, Silky (Nicola Coughlan)\, Dame Washalot (Jessica Gunning) and Saucepan Man (Dustin Demri-Burns). At the top of the tree\, they find themselves transported to spectacular and fantastical lands and\, through the joys and challenges of their adventures\, the family learn to reconnect and value each other for the first time in years. \nCertificate: U\nRunning time: 1hr 50mins\nAD Audio Description available\nDS Descriptive Subtitles: Thursday 9 April at 5pm\nR Relaxed Screening: Saturday 4 April at 11am \nShow times\nPlease note: Film starts at advertised time\nFriday 27 March at 7pm\nSaturday 28 March at 11am & 4pm\nSunday 29 March at 3pm\nMonday 30 March at 3pm\nTuesday 31 March at 11am & 2pm\nWednesday 1 April at 3pm\nThursday 2 April at 2pm & 5pm\nFriday 3 April at 4pm\nSaturday 4 April at 11am (Relaxed Screening) & 4pm\nSunday 5 April at 3pm\nMonday 6 April at 11am & 3pm\nTuesday 7 April at 11am & 3pm\nWednesday 8 April at 3pm\nThursday 9 April at 2pm & 5pm (with Descriptive Subtitles)
URL:https://www.visitthemalverns.org/event/the-magic-faraway-tree-u/2026-04-01/
LOCATION:Malvern Theatres\, WR14 3HB
CATEGORIES:Children,Cinema,Family,Film,Malvern
ATTACH;FMTTYPE=image/jpeg:https://www.visitthemalverns.org/wp-content/uploads/2021/07/iStock-1191001701-cinema-resized-1.jpg
GEO:52.1106766;-2.3267752
X-APPLE-STRUCTURED-LOCATION;VALUE=URI;X-ADDRESS=Malvern Theatres WR14 3HB;X-APPLE-RADIUS=500;X-TITLE=WR14 3HB:geo:-2.3267752,52.1106766
END:VEVENT
BEGIN:VEVENT
DTSTART;TZID=Europe/London:20260401T180000
DTEND;TZID=Europe/London:20260401T200000
DTSTAMP:20260419T215449
CREATED:20260310T163109Z
LAST-MODIFIED:20260310T163109Z
UID:10023241-1775066400-1775073600@www.visitthemalverns.org
SUMMARY:Workshop: Needle Felt Your Own Easter Bunny!
DESCRIPTION:All materials are provided at this beginner-friendly workshop\, from which participants will come away with their own felt bunny and egg. \nCost: £20 \nWorkshop times: 10am – 12pm\, 2pm – 4pm & 6pm – 8pm \nContact and booking: museumoffashionmalvern@outlook.com
URL:https://www.visitthemalverns.org/event/workshop-needle-felt-your-own-easter-bunny/2026-04-01/3/
LOCATION:Museum of Fashion\, 32A Belle Vue Terrace\, Malvern\, WR14 4PZ
CATEGORIES:Craft,Malvern
ATTACH;FMTTYPE=image/jpeg:https://www.visitthemalverns.org/wp-content/uploads/2026/01/Museum-of-Fashion-Logo-1200.jpg
GEO:52.11126;-2.33004
X-APPLE-STRUCTURED-LOCATION;VALUE=URI;X-ADDRESS=Museum of Fashion 32A Belle Vue Terrace Malvern WR14 4PZ;X-APPLE-RADIUS=500;X-TITLE=32A Belle Vue Terrace:geo:-2.33004,52.11126
END:VEVENT
BEGIN:VEVENT
DTSTART;TZID=Europe/London:20260401T191500
DTEND;TZID=Europe/London:20260401T194500
DTSTAMP:20260419T215449
CREATED:20260311T163703Z
LAST-MODIFIED:20260311T163703Z
UID:10023363-1775070900-1775072700@www.visitthemalverns.org
SUMMARY:Mother's Pride (12A)
DESCRIPTION:From the team behind ‘Finding Your Feet’ and ‘Fisherman’s Friends’ comes Mother’s Pride\, a story about the Harley family who\, after losing their matriarch\, must come together to save their pub and village through the art of beer-brewing. \nStarring Martin Clunes\, James Buckley\, Mark Addy\, Luke Treadaway\, Gabriella Wilde and Jonno Davies. \nCert:  12A\nRunning Time:  1hr 33 mins\nAD  Audio Description available\nDS  Descriptive Subtitles:  Monday 30 March at 7:15pm \nPrices:\nEvenings:  £9.50/£10.50 (Premium seats)\nMornings and matinees:  £8.50/£9.50 (Premium seats)\nConcessions and members discounts apply \nShow Times:\nPlease note:  Film starts at advertised time\nFriday 27 March at 4:30pm\nSaturday 28 March at 7:15pm\nSunday 29 March at 6:30pm\nMonday 30 March at 7:15pm (with DS)\nWednesday 1 April at 7:15pm\nThursday 2 April at 7:45pm \n 
URL:https://www.visitthemalverns.org/event/mothers-pride-12a/2026-04-01/
LOCATION:Malvern Theatres\, WR14 3HB
CATEGORIES:Cinema,Film
ATTACH;FMTTYPE=image/jpeg:https://www.visitthemalverns.org/wp-content/uploads/2021/07/iStock-1191001701-cinema-resized-1.jpg
GEO:52.1106766;-2.3267752
X-APPLE-STRUCTURED-LOCATION;VALUE=URI;X-ADDRESS=Malvern Theatres WR14 3HB;X-APPLE-RADIUS=500;X-TITLE=WR14 3HB:geo:-2.3267752,52.1106766
END:VEVENT
BEGIN:VEVENT
DTSTART;TZID=Europe/London:20260401T193000
DTEND;TZID=Europe/London:20260401T210000
DTSTAMP:20260419T215449
CREATED:20251220T153253Z
LAST-MODIFIED:20251220T153253Z
UID:10021778-1775071800-1775077200@www.visitthemalverns.org
SUMMARY:The Invisible Man
DESCRIPTION:The thought of invisibility\, and the advantages it could bring to someone\, has captured the imagination of millions since HG Wells’s classic novel was first published in 1897. The Invisible Man has been adapted many times for film\, but seldom for the stage. \nThis original\, fast-paced and riotous adaptation features 15 characters\, played by just three energetic actors\, helped by quick and silly costume changes\, prop manipulation\, whacky imagination and tons of tongue-and-cheek fun! \nThis theatrical\, comedic re-telling is brought to you by Our Star Theatre Company\, after their hugely successful 2023 UK tour and critically acclaimed sell-out run at the Edinburgh Festival Fringe. \nShow times\nMonday 30 March 2026\, 7.30pm\nTuesday 31 March 2026\, 7.30pm\nWednesday 1 April 2026\, 7.30pm
URL:https://www.visitthemalverns.org/event/the-invisible-man/2026-04-01/
LOCATION:Malvern Theatres\, WR14 3HB
CATEGORIES:Malvern,Theatre
ATTACH;FMTTYPE=image/jpeg:https://www.visitthemalverns.org/wp-content/uploads/2021/06/iStock-178357283-theatre-resized-1-e1758120760526.jpg
GEO:52.1106766;-2.3267752
X-APPLE-STRUCTURED-LOCATION;VALUE=URI;X-ADDRESS=Malvern Theatres WR14 3HB;X-APPLE-RADIUS=500;X-TITLE=WR14 3HB:geo:-2.3267752,52.1106766
END:VEVENT
BEGIN:VEVENT
DTSTART;TZID=Europe/London:20260401T193000
DTEND;TZID=Europe/London:20260401T220000
DTSTAMP:20260419T215449
CREATED:20251220T155639Z
LAST-MODIFIED:20251220T155639Z
UID:10021781-1775071800-1775080800@www.visitthemalverns.org
SUMMARY:The Woman in Black
DESCRIPTION:Adapted by Stephen Mallatratt from the novel by Susan Hill \nThe legendary and perennially popular production of Susan Hill’s chilling ghost story The Woman In Black returns to Malvern. \nAmongst the most successful and longest running theatre shows in the history of London’s West End\, this gripping production is a brilliantly successful study in atmosphere\, illusion and controlled horror. Having been seen by more than 7 million people around the world\, The Woman In Black continues to delight and terrify audiences of all generations. \nObsessed with a curse that he believes has been cast over him and his family by the spectre of a Woman in Black\, Arthur Kipps engages a sceptical young actor to help him tell his terrifying story and exorcise the fear that grips his soul. \nAge guidance: 12+ \nShow times\nTuesday 31 March 2026\, 7.30pm\nWednesday 1 April 2026\, 2.30pm\nWednesday 1 April 2026\, 7.30pm\nThursday 2 April 2026\, 7.30pm\nFriday 3 April 2026\, 7.30pm\nSaturday 4 April 2026\, 2.30pm\nSaturday 4 April 2026\, 7.30pm\nTuesday 31st March to Saturday 4th April
URL:https://www.visitthemalverns.org/event/the-woman-in-black-3/2026-04-01/2/
LOCATION:Malvern Theatres\, WR14 3HB
CATEGORIES:Malvern,Theatre
ATTACH;FMTTYPE=image/jpeg:https://www.visitthemalverns.org/wp-content/uploads/2021/06/iStock-178357283-theatre-resized-1-e1758120760526.jpg
GEO:52.1106766;-2.3267752
X-APPLE-STRUCTURED-LOCATION;VALUE=URI;X-ADDRESS=Malvern Theatres WR14 3HB;X-APPLE-RADIUS=500;X-TITLE=WR14 3HB:geo:-2.3267752,52.1106766
END:VEVENT
END:VCALENDAR