BEGIN:VCALENDAR
VERSION:2.0
PRODID:-//Visit The Malverns - ECPv6.15.20//NONSGML v1.0//EN
CALSCALE:GREGORIAN
METHOD:PUBLISH
X-ORIGINAL-URL:https://www.visitthemalverns.org
X-WR-CALDESC:Events for Visit The Malverns
REFRESH-INTERVAL;VALUE=DURATION:PT1H
X-Robots-Tag:noindex
X-PUBLISHED-TTL:PT1H
BEGIN:VTIMEZONE
TZID:Europe/London
BEGIN:DAYLIGHT
TZOFFSETFROM:+0000
TZOFFSETTO:+0100
TZNAME:BST
DTSTART:20250330T010000
END:DAYLIGHT
BEGIN:STANDARD
TZOFFSETFROM:+0100
TZOFFSETTO:+0000
TZNAME:GMT
DTSTART:20251026T010000
END:STANDARD
BEGIN:DAYLIGHT
TZOFFSETFROM:+0000
TZOFFSETTO:+0100
TZNAME:BST
DTSTART:20260329T010000
END:DAYLIGHT
BEGIN:STANDARD
TZOFFSETFROM:+0100
TZOFFSETTO:+0000
TZNAME:GMT
DTSTART:20261025T010000
END:STANDARD
BEGIN:DAYLIGHT
TZOFFSETFROM:+0000
TZOFFSETTO:+0100
TZNAME:BST
DTSTART:20270328T010000
END:DAYLIGHT
BEGIN:STANDARD
TZOFFSETFROM:+0100
TZOFFSETTO:+0000
TZNAME:GMT
DTSTART:20271031T010000
END:STANDARD
END:VTIMEZONE
BEGIN:VEVENT
DTSTART;TZID=Europe/London:20260323T080000
DTEND;TZID=Europe/London:20260529T170000
DTSTAMP:20260419T215958
CREATED:20260323T155757Z
LAST-MODIFIED:20260323T155757Z
UID:10023399-1774252800-1780074000@www.visitthemalverns.org
SUMMARY:Festival of Blossom
DESCRIPTION:The festival runs until 29 May\, but is unavailable during the Easter holidays (28 March – 12 April 2026). \nFrom the spring equinox\, Brockhampton will be celebrating the beauty of blossom and encouraging visitors to discover the beauty of orchards and take a mindful moment in nature. \nPick up a free nature‑rubbing trail from Visitor Reception and wander into the orchards to discover different varieties of blossom and the wildlife that makes its home there. (The trail is unavailable during the Easter holidays\, 28 March–12 April.) \nThis event is free\,  but normal admission applies.
URL:https://www.visitthemalverns.org/event/festival-of-blossom/
LOCATION:Brockhampton (National Trust)\, Bringsty\, Bromyard\, WR6 5TB
CATEGORIES:Children,Family,Trail,Walks
ATTACH;FMTTYPE=image/jpeg:https://www.visitthemalverns.org/wp-content/uploads/2025/04/Blossom-photo-by-Vladimir-Vinogradov-on-Unsplash.jpg
GEO:52.18827;-2.46718
X-APPLE-STRUCTURED-LOCATION;VALUE=URI;X-ADDRESS=Brockhampton (National Trust) Bringsty Bromyard WR6 5TB;X-APPLE-RADIUS=500;X-TITLE=Bringsty:geo:-2.46718,52.18827
END:VEVENT
BEGIN:VEVENT
DTSTART;TZID=Europe/London:20260328T100000
DTEND;TZID=Europe/London:20260419T170000
DTSTAMP:20260419T215958
CREATED:20260317T154134Z
LAST-MODIFIED:20260318T164325Z
UID:10023381-1774692000-1776618000@www.visitthemalverns.org
SUMMARY:Easter Quest at Witley Court and Gardens
DESCRIPTION:This Easter holiday\, join us for a fun-filled adventure quest!  Follow the Easter trail\, hunt for eggs and answer questions along the way to earn a delicious chocolate reward. \nThe quest runs every day throughout the school holidays and is just £2 per child for both members and non-members.  This is in addition to your admission ticket.  There’s no need to book in advance – simply pay and join the quest when you arrive. \nBook early and save 15%.  Admission prices vary depending on the day you visit.
URL:https://www.visitthemalverns.org/event/easter-quest-at-witley-court-and-gardens/
LOCATION:Witley Court\, WR6 6JT
CATEGORIES:Children,Family
ATTACH;FMTTYPE=image/jpeg:https://www.visitthemalverns.org/wp-content/uploads/2022/03/Easter-Egg-Hunt-1200-e1744369157356.jpg
GEO:52.2851622;-2.3437742
X-APPLE-STRUCTURED-LOCATION;VALUE=URI;X-ADDRESS=Witley Court WR6 6JT;X-APPLE-RADIUS=500;X-TITLE=WR6 6JT:geo:-2.3437742,52.2851622
END:VEVENT
BEGIN:VEVENT
DTSTART;TZID=Europe/London:20260414T090000
DTEND;TZID=Europe/London:20260414T150000
DTSTAMP:20260419T215958
CREATED:20260228T145628Z
LAST-MODIFIED:20260228T145628Z
UID:10022872-1776157200-1776178800@www.visitthemalverns.org
SUMMARY:Tenbury Wells Round Market
DESCRIPTION:Dating back to 1858\, the historic Round Market hosts a market five days a week (Tuesday – Saturday\, 9am – 3pm).
URL:https://www.visitthemalverns.org/event/tenbury-wells-round-market/2026-04-14/
LOCATION:The Round Market\, The Round Market\, Market Street\, Tenbury Wells\, Worcestershire\, WR15 8BL\, United Kingdom
CATEGORIES:Community,Drink,Food,Market,Shopping,Tenbury Wells
ATTACH;FMTTYPE=image/jpeg:https://www.visitthemalverns.org/wp-content/uploads/2026/02/Tenbury-Wells-Round-Market-1.jpg
GEO:52.3106088;-2.5958064
X-APPLE-STRUCTURED-LOCATION;VALUE=URI;X-ADDRESS=The Round Market The Round Market Market Street Tenbury Wells Worcestershire WR15 8BL United Kingdom;X-APPLE-RADIUS=500;X-TITLE=The Round Market\, Market Street:geo:-2.5958064,52.3106088
END:VEVENT
BEGIN:VEVENT
DTSTART;TZID=Europe/London:20260414T093000
DTEND;TZID=Europe/London:20260414T120000
DTSTAMP:20260419T215958
CREATED:20260228T150444Z
LAST-MODIFIED:20260330T101329Z
UID:10023059-1776159000-1776168000@www.visitthemalverns.org
SUMMARY:Tenbury Wells Country Market
DESCRIPTION:Head to the local Country Market in Tenbury Wells for homemade\, home-grown and home-produced goodies. \nThe market takes place every Tuesday from 9.30am – 12pm (except closed for 3 weeks after Christmas) at Palmers Meadow. \nChoose from a selection of homemade products such as cakes\, savouries\, soups\, apple juice\, jams\, preserves\, honey\, eggs\, fruit and vegetables\, plants\, crafts\, soap\, cards\, gifts etc. \nRefreshments also provided.
URL:https://www.visitthemalverns.org/event/tenbury-wells-country-market-2-2/2026-04-14/
LOCATION:Palmers Meadow\, Tenbury Wells\, WR15 8SF\, United Kingdom
CATEGORIES:Community,Craft,Drink,Food,Market,Shopping,Tenbury Wells
ATTACH;FMTTYPE=image/jpeg:https://www.visitthemalverns.org/wp-content/uploads/2022/02/Produce-Markets-1-e1772290913109.jpg
GEO:52.3106427;-2.5926387
X-APPLE-STRUCTURED-LOCATION;VALUE=URI;X-ADDRESS=Palmers Meadow Tenbury Wells WR15 8SF United Kingdom;X-APPLE-RADIUS=500;X-TITLE=Tenbury Wells:geo:-2.5926387,52.3106427
END:VEVENT
BEGIN:VEVENT
DTSTART;TZID=Europe/London:20260414T140000
DTEND;TZID=Europe/London:20260414T160000
DTSTAMP:20260419T215958
CREATED:20260112T162940Z
LAST-MODIFIED:20260112T162940Z
UID:10022125-1776175200-1776182400@www.visitthemalverns.org
SUMMARY:Projectionist's Pick | 2001: A Space Odyssey (U)
DESCRIPTION:One of the most impactful sci-fi films of all time\, 2001: A Space Odyssey follows the crew of a spaceship sent to the planet Jupiter to investigate a mysterious artifact. Their journey is fated to be far from smooth\, however… \nDirected by: Stanley Kubrick\nCast includes: Keir Dullea\, Gary Lockwood\, Douglas Rain \nProjectionist’s Picks are films specially selected by the Regal’s own team of volunteer projectionists
URL:https://www.visitthemalverns.org/event/projectionists-pick-2001-a-space-odyssey-u/
LOCATION:Regal Tenbury Wells\, 49 Teme Street\, Tenbury Wells WR15 8AE
CATEGORIES:Cinema,Family,Tenbury Wells
ATTACH;FMTTYPE=image/jpeg:https://www.visitthemalverns.org/wp-content/uploads/2021/07/iStock-1191001701-cinema-resized-1.jpg
GEO:52.3124173;-2.5943612
X-APPLE-STRUCTURED-LOCATION;VALUE=URI;X-ADDRESS=Regal Tenbury Wells 49 Teme Street Tenbury Wells WR15 8AE;X-APPLE-RADIUS=500;X-TITLE=49 Teme Street\, Tenbury Wells WR15 8AE:geo:-2.5943612,52.3124173
END:VEVENT
BEGIN:VEVENT
DTSTART;TZID=Europe/London:20260414T163000
DTEND;TZID=Europe/London:20260414T170000
DTSTAMP:20260419T215958
CREATED:20260413T151016Z
LAST-MODIFIED:20260413T151016Z
UID:10023526-1776184200-1776186000@www.visitthemalverns.org
SUMMARY:Midwinter Break (12A)
DESCRIPTION:Based on the acclaimed novel\, Midwinter Break is a compelling story about the enduring power of love\, commitment\, and lost faith as a long-time couple takes a life-changing trip to Amsterdam. \nRetired long-time couple Stella and Gerry travel from their home in Glasgow to Amsterdam for an impromptu holiday.  As they cross the beautiful European city\, they find themselves freed from the staid routines that have come to define their lives and as the hours pass\, they realise that after decades together their relationship has reached a crossroads.  After so much time together and so many memories\, long-held promises and deeply concealed wounds threaten to come to light and force them to confront their future. \nCert:  12A\nRunning Time:  1 hr 37 mins \nPrices:\nEvenings:  £9.50/£10.50 (Premium seats)\nMornings and matinees:  £8.50/£9.50 (Premium seats)\nConcessions and members discounts apply \nShow Times:\nPlease note:  Film starts at advertised time\nTuesday 14 April at 4:30pm\nThursday 16 April at 4:30pm
URL:https://www.visitthemalverns.org/event/midwinter-break-12a-2/2026-04-14/
LOCATION:Malvern Theatres\, WR14 3HB
CATEGORIES:Cinema,Film
ATTACH;FMTTYPE=image/jpeg:https://www.visitthemalverns.org/wp-content/uploads/2021/07/iStock-1191001701-cinema-resized-1.jpg
GEO:52.1106766;-2.3267752
X-APPLE-STRUCTURED-LOCATION;VALUE=URI;X-ADDRESS=Malvern Theatres WR14 3HB;X-APPLE-RADIUS=500;X-TITLE=WR14 3HB:geo:-2.3267752,52.1106766
END:VEVENT
BEGIN:VEVENT
DTSTART;TZID=Europe/London:20260414T191500
DTEND;TZID=Europe/London:20260414T194500
DTSTAMP:20260419T215958
CREATED:20260413T141406Z
LAST-MODIFIED:20260413T141406Z
UID:10023524-1776194100-1776195900@www.visitthemalverns.org
SUMMARY:Project Hail Mary (12A)
DESCRIPTION:When Science teacher Ryland Grace (Ryan Gosling) wakes up on a spaceship light years from home\, he has no recollection of who he is or how he got there.  As his memory returns\, he begins to uncover his mission:  solve the riddle of the mysterious substance causing the sun to die out.  He must call on his scientific knowledge and unorthodox ideas to save everything on Earth from extinction….but an unexpected friendship means he may not have to do it alone. \nCert:  12A\nRunning time:  2 hrs 36mins\nAD  Audio Description available \nWarning:  Contains a sequence of flashing lights which might affect customers who are susceptible to photosensitive epilepsy. \nPrices:\nEvenings:  £9.50/£10.50 (Premium seats)\nMornings and matinees:  £8.50/£9.50 (Premium seats)\nConcessions and members discounts apply \nShow Times:\nPlease note:  Film starts at advertised time\nTuesday 14 April at 7:15pm\nWednesday 15 April at 7:15pm
URL:https://www.visitthemalverns.org/event/project-hail-mary-12a/2026-04-14/
LOCATION:Malvern Theatres\, WR14 3HB
CATEGORIES:Cinema,Film
ATTACH;FMTTYPE=image/jpeg:https://www.visitthemalverns.org/wp-content/uploads/2021/07/iStock-1191001701-cinema-resized-1.jpg
GEO:52.1106766;-2.3267752
X-APPLE-STRUCTURED-LOCATION;VALUE=URI;X-ADDRESS=Malvern Theatres WR14 3HB;X-APPLE-RADIUS=500;X-TITLE=WR14 3HB:geo:-2.3267752,52.1106766
END:VEVENT
BEGIN:VEVENT
DTSTART;TZID=Europe/London:20260414T193000
DTEND;TZID=Europe/London:20260414T213000
DTSTAMP:20260419T215958
CREATED:20251220T162609Z
LAST-MODIFIED:20251220T162609Z
UID:10021794-1776195000-1776202200@www.visitthemalverns.org
SUMMARY:The Beekeeper of Aleppo
DESCRIPTION:UK Productions present the Nottingham Playhouse production of The Beekeeper of Aleppo\, adapted for the stage by Nesrin Alrefaai and Matthew Spangler from the acclaimed novel by Christy Lefteri \nThe Beekeeper of Aleppo tells the story of Nuri\, a beekeeper\, and his wife\, Afra\, an artist. They live a simple life\, rich in family and friends\, in the beautiful Syrian city of Aleppo – until the unthinkable happens. When all they care about is destroyed by war\, they are forced to flee. On their terrifying journey\, they must endure the pain of their own unbearable loss alongside incredible danger. Above all\, they must journey to find each other again. \nShow times\nTuesday 14 April 2026\, 7.30pm\nWednesday 15 April 2026\, 2.30pm\nWednesday 15 April 2026\, 7.30pm\nThursday 16 April 2026\, 7.30pm\nFriday 17 April 2026\, 7.30pm\nSaturday 18 April 2026\, 2.30pm\nSaturday 18 April 2026\, 7.30pm
URL:https://www.visitthemalverns.org/event/the-beekeeper-of-aleppo/2026-04-14/
LOCATION:Malvern Theatres\, WR14 3HB
CATEGORIES:Malvern,Theatre
ATTACH;FMTTYPE=image/jpeg:https://www.visitthemalverns.org/wp-content/uploads/2021/06/iStock-178357283-theatre-resized-1-e1758120760526.jpg
GEO:52.1106766;-2.3267752
X-APPLE-STRUCTURED-LOCATION;VALUE=URI;X-ADDRESS=Malvern Theatres WR14 3HB;X-APPLE-RADIUS=500;X-TITLE=WR14 3HB:geo:-2.3267752,52.1106766
END:VEVENT
END:VCALENDAR