BEGIN:VCALENDAR
VERSION:2.0
PRODID:-//Visit The Malverns - ECPv6.15.20//NONSGML v1.0//EN
CALSCALE:GREGORIAN
METHOD:PUBLISH
X-ORIGINAL-URL:https://www.visitthemalverns.org
X-WR-CALDESC:Events for Visit The Malverns
REFRESH-INTERVAL;VALUE=DURATION:PT1H
X-Robots-Tag:noindex
X-PUBLISHED-TTL:PT1H
BEGIN:VTIMEZONE
TZID:Europe/London
BEGIN:DAYLIGHT
TZOFFSETFROM:+0000
TZOFFSETTO:+0100
TZNAME:BST
DTSTART:20250330T010000
END:DAYLIGHT
BEGIN:STANDARD
TZOFFSETFROM:+0100
TZOFFSETTO:+0000
TZNAME:GMT
DTSTART:20251026T010000
END:STANDARD
BEGIN:DAYLIGHT
TZOFFSETFROM:+0000
TZOFFSETTO:+0100
TZNAME:BST
DTSTART:20260329T010000
END:DAYLIGHT
BEGIN:STANDARD
TZOFFSETFROM:+0100
TZOFFSETTO:+0000
TZNAME:GMT
DTSTART:20261025T010000
END:STANDARD
BEGIN:DAYLIGHT
TZOFFSETFROM:+0000
TZOFFSETTO:+0100
TZNAME:BST
DTSTART:20270328T010000
END:DAYLIGHT
BEGIN:STANDARD
TZOFFSETFROM:+0100
TZOFFSETTO:+0000
TZNAME:GMT
DTSTART:20271031T010000
END:STANDARD
END:VTIMEZONE
BEGIN:VEVENT
DTSTART;TZID=Europe/London:20260323T080000
DTEND;TZID=Europe/London:20260529T170000
DTSTAMP:20260419T215805
CREATED:20260323T155757Z
LAST-MODIFIED:20260323T155757Z
UID:10023399-1774252800-1780074000@www.visitthemalverns.org
SUMMARY:Festival of Blossom
DESCRIPTION:The festival runs until 29 May\, but is unavailable during the Easter holidays (28 March – 12 April 2026). \nFrom the spring equinox\, Brockhampton will be celebrating the beauty of blossom and encouraging visitors to discover the beauty of orchards and take a mindful moment in nature. \nPick up a free nature‑rubbing trail from Visitor Reception and wander into the orchards to discover different varieties of blossom and the wildlife that makes its home there. (The trail is unavailable during the Easter holidays\, 28 March–12 April.) \nThis event is free\,  but normal admission applies.
URL:https://www.visitthemalverns.org/event/festival-of-blossom/
LOCATION:Brockhampton (National Trust)\, Bringsty\, Bromyard\, WR6 5TB
CATEGORIES:Children,Family,Trail,Walks
ATTACH;FMTTYPE=image/jpeg:https://www.visitthemalverns.org/wp-content/uploads/2025/04/Blossom-photo-by-Vladimir-Vinogradov-on-Unsplash.jpg
GEO:52.18827;-2.46718
X-APPLE-STRUCTURED-LOCATION;VALUE=URI;X-ADDRESS=Brockhampton (National Trust) Bringsty Bromyard WR6 5TB;X-APPLE-RADIUS=500;X-TITLE=Bringsty:geo:-2.46718,52.18827
END:VEVENT
BEGIN:VEVENT
DTSTART;TZID=Europe/London:20260421T090000
DTEND;TZID=Europe/London:20260421T150000
DTSTAMP:20260419T215805
CREATED:20260228T145628Z
LAST-MODIFIED:20260228T145628Z
UID:10022877-1776762000-1776783600@www.visitthemalverns.org
SUMMARY:Tenbury Wells Round Market
DESCRIPTION:Dating back to 1858\, the historic Round Market hosts a market five days a week (Tuesday – Saturday\, 9am – 3pm).
URL:https://www.visitthemalverns.org/event/tenbury-wells-round-market/2026-04-21/
LOCATION:The Round Market\, The Round Market\, Market Street\, Tenbury Wells\, Worcestershire\, WR15 8BL\, United Kingdom
CATEGORIES:Community,Drink,Food,Market,Shopping,Tenbury Wells
ATTACH;FMTTYPE=image/jpeg:https://www.visitthemalverns.org/wp-content/uploads/2026/02/Tenbury-Wells-Round-Market-1.jpg
GEO:52.3106088;-2.5958064
X-APPLE-STRUCTURED-LOCATION;VALUE=URI;X-ADDRESS=The Round Market The Round Market Market Street Tenbury Wells Worcestershire WR15 8BL United Kingdom;X-APPLE-RADIUS=500;X-TITLE=The Round Market\, Market Street:geo:-2.5958064,52.3106088
END:VEVENT
BEGIN:VEVENT
DTSTART;TZID=Europe/London:20260421T093000
DTEND;TZID=Europe/London:20260421T120000
DTSTAMP:20260419T215805
CREATED:20260228T150444Z
LAST-MODIFIED:20260330T101329Z
UID:10023060-1776763800-1776772800@www.visitthemalverns.org
SUMMARY:Tenbury Wells Country Market
DESCRIPTION:Head to the local Country Market in Tenbury Wells for homemade\, home-grown and home-produced goodies. \nThe market takes place every Tuesday from 9.30am – 12pm (except closed for 3 weeks after Christmas) at Palmers Meadow. \nChoose from a selection of homemade products such as cakes\, savouries\, soups\, apple juice\, jams\, preserves\, honey\, eggs\, fruit and vegetables\, plants\, crafts\, soap\, cards\, gifts etc. \nRefreshments also provided.
URL:https://www.visitthemalverns.org/event/tenbury-wells-country-market-2-2/2026-04-21/
LOCATION:Palmers Meadow\, Tenbury Wells\, WR15 8SF\, United Kingdom
CATEGORIES:Community,Craft,Drink,Food,Market,Shopping,Tenbury Wells
ATTACH;FMTTYPE=image/jpeg:https://www.visitthemalverns.org/wp-content/uploads/2022/02/Produce-Markets-1-e1772290913109.jpg
GEO:52.3106427;-2.5926387
X-APPLE-STRUCTURED-LOCATION;VALUE=URI;X-ADDRESS=Palmers Meadow Tenbury Wells WR15 8SF United Kingdom;X-APPLE-RADIUS=500;X-TITLE=Tenbury Wells:geo:-2.5926387,52.3106427
END:VEVENT
BEGIN:VEVENT
DTSTART;TZID=Europe/London:20260421T110000
DTEND;TZID=Europe/London:20260421T113000
DTSTAMP:20260419T215805
CREATED:20260414T120626Z
LAST-MODIFIED:20260414T120626Z
UID:10023537-1776769200-1776771000@www.visitthemalverns.org
SUMMARY:Amelie:  25th Anniversary (15)
DESCRIPTION:Jean-Pierre Jeunet’s cult classic is re-released in cinemas for the film’s 25th anniversary. \nAmelie is an adorable yet painfully shy 23 year old who\, after an isolating childhood\, moves to Paris where she becomes a waitress at the Cafe des Deux Moulins\, a bar restaurant filled with a colourful cast of diners and employees.  One night\, Amelie discovers a box of treasures hidden in her apartment\, left by a little boy in the Fifties\, that changes the course of her life as she discovers a gift for helping others.  Soon she spends her days as a matchmaker\, guardian angel and all-around-do-gooder.  But when she bumps into a handsome stranger\, will she find the courage to become the star of her very own love story? \nCert:  15\nRunning time:  2hrs 2mins\nFrench with English Subtitles \nPrices:\n£8.50/£9.50  (Premium seats)\nConcessions and members discounts apply \nShow Times:\nPlease note:  Film starts at advertised time\nSunday 19 April at 3pm\nTuesday 21 April at 11am \n 
URL:https://www.visitthemalverns.org/event/amelie-25th-anniversary-15/2026-04-21/
LOCATION:Malvern Theatres\, WR14 3HB
CATEGORIES:Cinema,Film
ATTACH;FMTTYPE=image/jpeg:https://www.visitthemalverns.org/wp-content/uploads/2021/07/iStock-1191001701-cinema-resized-1.jpg
GEO:52.1106766;-2.3267752
X-APPLE-STRUCTURED-LOCATION;VALUE=URI;X-ADDRESS=Malvern Theatres WR14 3HB;X-APPLE-RADIUS=500;X-TITLE=WR14 3HB:geo:-2.3267752,52.1106766
END:VEVENT
BEGIN:VEVENT
DTSTART;TZID=Europe/London:20260421T163000
DTEND;TZID=Europe/London:20260421T170000
DTSTAMP:20260419T215805
CREATED:20260414T103225Z
LAST-MODIFIED:20260414T103225Z
UID:10023530-1776789000-1776790800@www.visitthemalverns.org
SUMMARY:Orwell: 2+2=5 (15)
DESCRIPTION:George Orwell was one of the most visionary authors of the 20th Century\, whose novels 1984 and Animal Farm foretold a chilling\, all-too-believable authoritarian future. \nWorking in collaboration with the Orwell Estate\, acclaimed Director\, Raoul Peck\, seamlessly interweaves historical clips\, readings from Orwell’s diary\, cinematic references\, and dynamic modern day footage to craft not only a definitive portrait of the writer himself\, but an entirely fresh take on how remarkably relevant and prophetic his work has become\, championing Orwell as a man from the past who just might hold the key to the world’s future. \nCert:  15\nRunning time:  2hrs\nAD Audio Description available \nPrices:\nEvenings:  £9.50/£10.50 (Premium seats)\nMornings and matinees:  £8.50/£9.50 (Premium seats)\nConcessions and members discounts apply \nShow Times:\nPlease note:  Film starts at advertised time\nFriday 17 April at 4:30pm\nMonday 20 April at 7:15pm\nTuesday 21 April at 4:30pm \n 
URL:https://www.visitthemalverns.org/event/orwell-225-15/2026-04-21/
LOCATION:Malvern Theatres\, WR14 3HB
CATEGORIES:Cinema,Film
ATTACH;FMTTYPE=image/jpeg:https://www.visitthemalverns.org/wp-content/uploads/2021/07/iStock-1191001701-cinema-resized-1.jpg
GEO:52.1106766;-2.3267752
X-APPLE-STRUCTURED-LOCATION;VALUE=URI;X-ADDRESS=Malvern Theatres WR14 3HB;X-APPLE-RADIUS=500;X-TITLE=WR14 3HB:geo:-2.3267752,52.1106766
END:VEVENT
BEGIN:VEVENT
DTSTART;TZID=Europe/London:20260421T184500
DTEND;TZID=Europe/London:20260421T221500
DTSTAMP:20260419T215805
CREATED:20260116T145713Z
LAST-MODIFIED:20260116T145713Z
UID:10022258-1776797100-1776809700@www.visitthemalverns.org
SUMMARY:ARTS SCREENING | The Royal Opera presents The Magic Flute (As Live)
DESCRIPTION:This opera is a recorded live performance from October 2025. It is sung in German with English subtitles. \nCast:\nPamina JULIA BULLOCK\nTamino AMITAI PATI\nPapageno HUW MONTAGUE RENDALL\nQueen of the Night KATHRYN LEWEK\nSarastro SOLOMAN HOWARD\nMonostatos GERHARD SIEGEL \nCreatives:\nMusic WOLFGANG AMADEUS MOZART\nConductor MARIE JACQUOT\nDirector DAVID MCVICAR\nDesigner JOHN MACFARLANE\nLighting Designer PAULE CONSTABLE\nMovement Director LEAH HAUSMAN \nTickets: £18.00; Concessions: £16.50
URL:https://www.visitthemalverns.org/event/arts-screening-the-royal-opera-presents-the-magic-flute-as-live/
LOCATION:Regal Tenbury Wells\, 49 Teme Street\, Tenbury Wells WR15 8AE
CATEGORIES:Music,Tenbury Wells
ATTACH;FMTTYPE=image/jpeg:https://www.visitthemalverns.org/wp-content/uploads/2024/12/Theatre-image-by-Rob-Laughter-on-Unsplash.jpg
GEO:52.3124173;-2.5943612
X-APPLE-STRUCTURED-LOCATION;VALUE=URI;X-ADDRESS=Regal Tenbury Wells 49 Teme Street Tenbury Wells WR15 8AE;X-APPLE-RADIUS=500;X-TITLE=49 Teme Street\, Tenbury Wells WR15 8AE:geo:-2.5943612,52.3124173
END:VEVENT
BEGIN:VEVENT
DTSTART;TZID=Europe/London:20260421T191500
DTEND;TZID=Europe/London:20260421T194500
DTSTAMP:20260419T215805
CREATED:20260414T105208Z
LAST-MODIFIED:20260414T105208Z
UID:10023534-1776798900-1776800700@www.visitthemalverns.org
SUMMARY:The Drama (15)
DESCRIPTION:Happily engaged couple Emma (Zendaya) and Charlie (Robert Pattinson) are put to the test when an unexpected turn sends their wedding week off the rails. \nA cinematic engagement of spiralling tension and transformative revelations co-starring Alana Haim and Mamoudou Athie. \nCert:  15\nRunning time:  1hr 45mins\nAD  Audio Description available \nPrices:\nEvenings:  £9.50/£10.50 (Premium seats)\nMornings and matinees:  £8.50/£9.50 (Premium seats)\nConcessions and members discounts apply \nShow Times:\nPlease note:  Film starts at advertised time\nFriday 17 April at 7:15pm\nSaturday 18 April at 4:30pm and 7:15pm\nTuesday 21 April at 7:15pm\nThursday 23 April at 7:45pm
URL:https://www.visitthemalverns.org/event/the-drama-15/2026-04-21/
LOCATION:Malvern Theatres\, WR14 3HB
CATEGORIES:Cinema,Film
ATTACH;FMTTYPE=image/jpeg:https://www.visitthemalverns.org/wp-content/uploads/2021/07/iStock-1191001701-cinema-resized-1.jpg
GEO:52.1106766;-2.3267752
X-APPLE-STRUCTURED-LOCATION;VALUE=URI;X-ADDRESS=Malvern Theatres WR14 3HB;X-APPLE-RADIUS=500;X-TITLE=WR14 3HB:geo:-2.3267752,52.1106766
END:VEVENT
BEGIN:VEVENT
DTSTART;TZID=Europe/London:20260421T193000
DTEND;TZID=Europe/London:20260421T213000
DTSTAMP:20260419T215805
CREATED:20251220T164517Z
LAST-MODIFIED:20251220T164517Z
UID:10021802-1776799800-1776807000@www.visitthemalverns.org
SUMMARY:Rumours of Fleetwood Mac
DESCRIPTION:Personally endorsed by Fleetwood Mac founding member Mick Fleetwood\, Rumours of Fleetwood Mac is the ultimate tribute to one of rock and roll’s most important and remarkable bands. \nChannelling the spirit of Fleetwood Mac at their very best\, Rumours of Fleetwood Mac offers a unique opportunity for fans\, both old and new\, to rediscover the songs and performances that have ensured Fleetwood Mac’s place as one of the best-loved groups of all time.
URL:https://www.visitthemalverns.org/event/rumours-of-fleetwood-mac-2/
LOCATION:Malvern Theatres\, WR14 3HB
CATEGORIES:Concert,Malvern,Music
ATTACH;FMTTYPE=image/jpeg:https://www.visitthemalverns.org/wp-content/uploads/2023/12/Live-music-stock-image-e1731250009379.jpg
GEO:52.1106766;-2.3267752
X-APPLE-STRUCTURED-LOCATION;VALUE=URI;X-ADDRESS=Malvern Theatres WR14 3HB;X-APPLE-RADIUS=500;X-TITLE=WR14 3HB:geo:-2.3267752,52.1106766
END:VEVENT
END:VCALENDAR