BEGIN:VCALENDAR
VERSION:2.0
PRODID:-//Visit The Malverns - ECPv6.15.20//NONSGML v1.0//EN
CALSCALE:GREGORIAN
METHOD:PUBLISH
X-WR-CALNAME:Visit The Malverns
X-ORIGINAL-URL:https://www.visitthemalverns.org
X-WR-CALDESC:Events for Visit The Malverns
REFRESH-INTERVAL;VALUE=DURATION:PT1H
X-Robots-Tag:noindex
X-PUBLISHED-TTL:PT1H
BEGIN:VTIMEZONE
TZID:Europe/London
BEGIN:DAYLIGHT
TZOFFSETFROM:+0000
TZOFFSETTO:+0100
TZNAME:BST
DTSTART:20250330T010000
END:DAYLIGHT
BEGIN:STANDARD
TZOFFSETFROM:+0100
TZOFFSETTO:+0000
TZNAME:GMT
DTSTART:20251026T010000
END:STANDARD
BEGIN:DAYLIGHT
TZOFFSETFROM:+0000
TZOFFSETTO:+0100
TZNAME:BST
DTSTART:20260329T010000
END:DAYLIGHT
BEGIN:STANDARD
TZOFFSETFROM:+0100
TZOFFSETTO:+0000
TZNAME:GMT
DTSTART:20261025T010000
END:STANDARD
BEGIN:DAYLIGHT
TZOFFSETFROM:+0000
TZOFFSETTO:+0100
TZNAME:BST
DTSTART:20270328T010000
END:DAYLIGHT
BEGIN:STANDARD
TZOFFSETFROM:+0100
TZOFFSETTO:+0000
TZNAME:GMT
DTSTART:20271031T010000
END:STANDARD
END:VTIMEZONE
BEGIN:VEVENT
DTSTART;TZID=Europe/London:20260323T080000
DTEND;TZID=Europe/London:20260529T170000
DTSTAMP:20260422T015202
CREATED:20260323T155757Z
LAST-MODIFIED:20260323T155757Z
UID:10023399-1774252800-1780074000@www.visitthemalverns.org
SUMMARY:Festival of Blossom
DESCRIPTION:The festival runs until 29 May\, but is unavailable during the Easter holidays (28 March – 12 April 2026). \nFrom the spring equinox\, Brockhampton will be celebrating the beauty of blossom and encouraging visitors to discover the beauty of orchards and take a mindful moment in nature. \nPick up a free nature‑rubbing trail from Visitor Reception and wander into the orchards to discover different varieties of blossom and the wildlife that makes its home there. (The trail is unavailable during the Easter holidays\, 28 March–12 April.) \nThis event is free\,  but normal admission applies.
URL:https://www.visitthemalverns.org/event/festival-of-blossom/
LOCATION:Brockhampton (National Trust)\, Bringsty\, Bromyard\, WR6 5TB
CATEGORIES:Children,Family,Trail,Walks
ATTACH;FMTTYPE=image/jpeg:https://www.visitthemalverns.org/wp-content/uploads/2025/04/Blossom-photo-by-Vladimir-Vinogradov-on-Unsplash.jpg
GEO:52.18827;-2.46718
X-APPLE-STRUCTURED-LOCATION;VALUE=URI;X-ADDRESS=Brockhampton (National Trust) Bringsty Bromyard WR6 5TB;X-APPLE-RADIUS=500;X-TITLE=Bringsty:geo:-2.46718,52.18827
END:VEVENT
BEGIN:VEVENT
DTSTART;TZID=Europe/London:20260422T090000
DTEND;TZID=Europe/London:20260422T150000
DTSTAMP:20260422T015202
CREATED:20260228T145628Z
LAST-MODIFIED:20260228T145628Z
UID:10022878-1776848400-1776870000@www.visitthemalverns.org
SUMMARY:Tenbury Wells Round Market
DESCRIPTION:Dating back to 1858\, the historic Round Market hosts a market five days a week (Tuesday – Saturday\, 9am – 3pm).
URL:https://www.visitthemalverns.org/event/tenbury-wells-round-market/2026-04-22/
LOCATION:The Round Market\, The Round Market\, Market Street\, Tenbury Wells\, Worcestershire\, WR15 8BL\, United Kingdom
CATEGORIES:Community,Drink,Food,Market,Shopping,Tenbury Wells
ATTACH;FMTTYPE=image/jpeg:https://www.visitthemalverns.org/wp-content/uploads/2026/02/Tenbury-Wells-Round-Market-1.jpg
GEO:52.3106088;-2.5958064
X-APPLE-STRUCTURED-LOCATION;VALUE=URI;X-ADDRESS=The Round Market The Round Market Market Street Tenbury Wells Worcestershire WR15 8BL United Kingdom;X-APPLE-RADIUS=500;X-TITLE=The Round Market\, Market Street:geo:-2.5958064,52.3106088
END:VEVENT
BEGIN:VEVENT
DTSTART;TZID=Europe/London:20260422T103000
DTEND;TZID=Europe/London:20260422T113000
DTSTAMP:20260422T015202
CREATED:20260311T140742Z
LAST-MODIFIED:20260311T140742Z
UID:10023250-1776853800-1776857400@www.visitthemalverns.org
SUMMARY:Guided Tour of Madresfield Court
DESCRIPTION:Madresfield Court\, situated within the Madresfield Estate at the foot of the Malvern Hills\, is a moated stately home that has been in the Lygon family for over 900 years and is currently home to its 29th generation. \nThe house played a significant part in nurturing the Arts and Crafts movement and contains a fine collection of paintings\, furniture and ceramics. It also has a rich history\, with both Edward Elgar and Evelyn Waugh having been frequent visitors. \nThe house and beautiful grounds are open to welcome visitors at various times throughout the year. Access to the house and gardens is by guided tour only and tickets must be pre-booked online. \nThe Madresfield Estate also hosts several popular events throughout the year within the grounds of the Court. \n2026 season details\nThe 2026 tour season at Madresfield Court runs from 22 April until 27 June\, plus 29 July – 1 August inclusive. \nTours generally run on Wednesdays\, Thursdays and Fridays (with some exceptions and the occasional Saturday). \nOn each open day\, four tours will run\, with each tour taking a maximum of fifteen people aged 16 and over. Sadly\, the tours are not suitable for babies or children under 16 and are subject to accessibility restrictions. \nTickets are £17 per person and all visitors will have the chance to enjoy the gardens either before or after the house tour. \nRefreshments can now be enjoyed in the newly refurbished Play Room. \nFor full details\, including booking terms and conditions\, to check that a tour is running on your chosen date and to book your place\, visit the Madresfield Court website. \nPhoto supplied by Madresfield Court.
URL:https://www.visitthemalverns.org/event/guided-tour-of-madresfield-court-4/2026-04-22/1/
LOCATION:Madresfield Court\, Madresfield\, Malvern\, Worcs\, WR13 5AJ
CATEGORIES:Malvern,Talk
ATTACH;FMTTYPE=image/jpeg:https://www.visitthemalverns.org/wp-content/uploads/2024/04/Madresfield-Court.jpg
GEO:52.1241448;-2.281506
X-APPLE-STRUCTURED-LOCATION;VALUE=URI;X-ADDRESS=Madresfield Court Madresfield Malvern Worcs WR13 5AJ;X-APPLE-RADIUS=500;X-TITLE=Madresfield:geo:-2.281506,52.1241448
END:VEVENT
BEGIN:VEVENT
DTSTART;TZID=Europe/London:20260422T113000
DTEND;TZID=Europe/London:20260422T123000
DTSTAMP:20260422T015202
CREATED:20260311T140742Z
LAST-MODIFIED:20260311T140742Z
UID:10023251-1776857400-1776861000@www.visitthemalverns.org
SUMMARY:Guided Tour of Madresfield Court
DESCRIPTION:Madresfield Court\, situated within the Madresfield Estate at the foot of the Malvern Hills\, is a moated stately home that has been in the Lygon family for over 900 years and is currently home to its 29th generation. \nThe house played a significant part in nurturing the Arts and Crafts movement and contains a fine collection of paintings\, furniture and ceramics. It also has a rich history\, with both Edward Elgar and Evelyn Waugh having been frequent visitors. \nThe house and beautiful grounds are open to welcome visitors at various times throughout the year. Access to the house and gardens is by guided tour only and tickets must be pre-booked online. \nThe Madresfield Estate also hosts several popular events throughout the year within the grounds of the Court. \n2026 season details\nThe 2026 tour season at Madresfield Court runs from 22 April until 27 June\, plus 29 July – 1 August inclusive. \nTours generally run on Wednesdays\, Thursdays and Fridays (with some exceptions and the occasional Saturday). \nOn each open day\, four tours will run\, with each tour taking a maximum of fifteen people aged 16 and over. Sadly\, the tours are not suitable for babies or children under 16 and are subject to accessibility restrictions. \nTickets are £17 per person and all visitors will have the chance to enjoy the gardens either before or after the house tour. \nRefreshments can now be enjoyed in the newly refurbished Play Room. \nFor full details\, including booking terms and conditions\, to check that a tour is running on your chosen date and to book your place\, visit the Madresfield Court website. \nPhoto supplied by Madresfield Court.
URL:https://www.visitthemalverns.org/event/guided-tour-of-madresfield-court-4/2026-04-22/2/
LOCATION:Madresfield Court\, Madresfield\, Malvern\, Worcs\, WR13 5AJ
CATEGORIES:Malvern,Talk
ATTACH;FMTTYPE=image/jpeg:https://www.visitthemalverns.org/wp-content/uploads/2024/04/Madresfield-Court.jpg
GEO:52.1241448;-2.281506
X-APPLE-STRUCTURED-LOCATION;VALUE=URI;X-ADDRESS=Madresfield Court Madresfield Malvern Worcs WR13 5AJ;X-APPLE-RADIUS=500;X-TITLE=Madresfield:geo:-2.281506,52.1241448
END:VEVENT
BEGIN:VEVENT
DTSTART;TZID=Europe/London:20260422T133000
DTEND;TZID=Europe/London:20260422T143000
DTSTAMP:20260422T015202
CREATED:20260311T140742Z
LAST-MODIFIED:20260311T140742Z
UID:10023252-1776864600-1776868200@www.visitthemalverns.org
SUMMARY:Guided Tour of Madresfield Court
DESCRIPTION:Madresfield Court\, situated within the Madresfield Estate at the foot of the Malvern Hills\, is a moated stately home that has been in the Lygon family for over 900 years and is currently home to its 29th generation. \nThe house played a significant part in nurturing the Arts and Crafts movement and contains a fine collection of paintings\, furniture and ceramics. It also has a rich history\, with both Edward Elgar and Evelyn Waugh having been frequent visitors. \nThe house and beautiful grounds are open to welcome visitors at various times throughout the year. Access to the house and gardens is by guided tour only and tickets must be pre-booked online. \nThe Madresfield Estate also hosts several popular events throughout the year within the grounds of the Court. \n2026 season details\nThe 2026 tour season at Madresfield Court runs from 22 April until 27 June\, plus 29 July – 1 August inclusive. \nTours generally run on Wednesdays\, Thursdays and Fridays (with some exceptions and the occasional Saturday). \nOn each open day\, four tours will run\, with each tour taking a maximum of fifteen people aged 16 and over. Sadly\, the tours are not suitable for babies or children under 16 and are subject to accessibility restrictions. \nTickets are £17 per person and all visitors will have the chance to enjoy the gardens either before or after the house tour. \nRefreshments can now be enjoyed in the newly refurbished Play Room. \nFor full details\, including booking terms and conditions\, to check that a tour is running on your chosen date and to book your place\, visit the Madresfield Court website. \nPhoto supplied by Madresfield Court.
URL:https://www.visitthemalverns.org/event/guided-tour-of-madresfield-court-4/2026-04-22/3/
LOCATION:Madresfield Court\, Madresfield\, Malvern\, Worcs\, WR13 5AJ
CATEGORIES:Malvern,Talk
ATTACH;FMTTYPE=image/jpeg:https://www.visitthemalverns.org/wp-content/uploads/2024/04/Madresfield-Court.jpg
GEO:52.1241448;-2.281506
X-APPLE-STRUCTURED-LOCATION;VALUE=URI;X-ADDRESS=Madresfield Court Madresfield Malvern Worcs WR13 5AJ;X-APPLE-RADIUS=500;X-TITLE=Madresfield:geo:-2.281506,52.1241448
END:VEVENT
BEGIN:VEVENT
DTSTART;TZID=Europe/London:20260422T140000
DTEND;TZID=Europe/London:20260422T153000
DTSTAMP:20260422T015202
CREATED:20260328T132732Z
LAST-MODIFIED:20260328T132732Z
UID:10023464-1776866400-1776871800@www.visitthemalverns.org
SUMMARY:Malvern in Bloom: Blossom Tour
DESCRIPTION:Did you know that the Three Counties Showground in Malvern has extensive orchards which blossom with gorgeous blooms during the spring months? \nWell\, join Helen Williams from the Three Countries Agricultural Society for a tour where you can see the stunning orchards and blossoms in bloom all while learning more about the area. \nTickets: £5 – reserve your place online\, then pay on the day
URL:https://www.visitthemalverns.org/event/malvern-in-bloom-blossom-tour/
LOCATION:Three Counties Showground\, WR13 6NW
CATEGORIES:Garden,Malvern,Talk,Walks
ATTACH;FMTTYPE=image/jpeg:https://www.visitthemalverns.org/wp-content/uploads/2026/03/MIB-Blossom-Tours-TIC-Banner.jpg
GEO:52.0828475;-2.3146342
X-APPLE-STRUCTURED-LOCATION;VALUE=URI;X-ADDRESS=Three Counties Showground WR13 6NW;X-APPLE-RADIUS=500;X-TITLE=WR13 6NW:geo:-2.3146342,52.0828475
END:VEVENT
BEGIN:VEVENT
DTSTART;TZID=Europe/London:20260422T143000
DTEND;TZID=Europe/London:20260422T153000
DTSTAMP:20260422T015202
CREATED:20260311T140742Z
LAST-MODIFIED:20260311T140742Z
UID:10023253-1776868200-1776871800@www.visitthemalverns.org
SUMMARY:Guided Tour of Madresfield Court
DESCRIPTION:Madresfield Court\, situated within the Madresfield Estate at the foot of the Malvern Hills\, is a moated stately home that has been in the Lygon family for over 900 years and is currently home to its 29th generation. \nThe house played a significant part in nurturing the Arts and Crafts movement and contains a fine collection of paintings\, furniture and ceramics. It also has a rich history\, with both Edward Elgar and Evelyn Waugh having been frequent visitors. \nThe house and beautiful grounds are open to welcome visitors at various times throughout the year. Access to the house and gardens is by guided tour only and tickets must be pre-booked online. \nThe Madresfield Estate also hosts several popular events throughout the year within the grounds of the Court. \n2026 season details\nThe 2026 tour season at Madresfield Court runs from 22 April until 27 June\, plus 29 July – 1 August inclusive. \nTours generally run on Wednesdays\, Thursdays and Fridays (with some exceptions and the occasional Saturday). \nOn each open day\, four tours will run\, with each tour taking a maximum of fifteen people aged 16 and over. Sadly\, the tours are not suitable for babies or children under 16 and are subject to accessibility restrictions. \nTickets are £17 per person and all visitors will have the chance to enjoy the gardens either before or after the house tour. \nRefreshments can now be enjoyed in the newly refurbished Play Room. \nFor full details\, including booking terms and conditions\, to check that a tour is running on your chosen date and to book your place\, visit the Madresfield Court website. \nPhoto supplied by Madresfield Court.
URL:https://www.visitthemalverns.org/event/guided-tour-of-madresfield-court-4/2026-04-22/4/
LOCATION:Madresfield Court\, Madresfield\, Malvern\, Worcs\, WR13 5AJ
CATEGORIES:Malvern,Talk
ATTACH;FMTTYPE=image/jpeg:https://www.visitthemalverns.org/wp-content/uploads/2024/04/Madresfield-Court.jpg
GEO:52.1241448;-2.281506
X-APPLE-STRUCTURED-LOCATION;VALUE=URI;X-ADDRESS=Madresfield Court Madresfield Malvern Worcs WR13 5AJ;X-APPLE-RADIUS=500;X-TITLE=Madresfield:geo:-2.281506,52.1241448
END:VEVENT
BEGIN:VEVENT
DTSTART;TZID=Europe/London:20260422T183000
DTEND;TZID=Europe/London:20260422T203000
DTSTAMP:20260422T015202
CREATED:20260128T163104Z
LAST-MODIFIED:20260210T145305Z
UID:10022395-1776882600-1776889800@www.visitthemalverns.org
SUMMARY:Guided Walks: Malvern Experience: April/May - Evenings (Block Booking Only)
DESCRIPTION:Join Sarah from Walking the Hills for a unique walking experience across the iconic Malvern Hills – one step at a time. \nShe’ll be leading 6 circular walks on consecutive Wednesdays\, each covering a different section of the ridge – that’s one manageable walk per week. \nHaving completed all six routes\, you’ll have walked the entire length of the Malvern Hills and ticked off all 17 major peaks – from Chase End to End Hill. \nThe walks take place on Wednesdays at 6.30pm: 22 April\, 29 April\, 6 May\, 13 May\, 20 May\, 27 May. \nThe friendly\, supportive pace is perfect for walkers who want a challenge without pressure. Plus\, the full series guidebook is included in the price: Walk the Malverns in 6 Circular Walks (yours to keep). \nMeet like-minded walkers and enjoy a shared adventure. \nFor more information and to book\, visit the Walking the Hills website.
URL:https://www.visitthemalverns.org/event/guided-walks-malvern-experience-april-may-evenings-block-booking-only/2026-04-22/
CATEGORIES:Malvern,Walks
ATTACH;FMTTYPE=image/jpeg:https://www.visitthemalverns.org/wp-content/uploads/2023/05/Walking-Boots.jpg
END:VEVENT
BEGIN:VEVENT
DTSTART;TZID=Europe/London:20260422T191500
DTEND;TZID=Europe/London:20260422T194500
DTSTAMP:20260422T015202
CREATED:20260414T142555Z
LAST-MODIFIED:20260414T142555Z
UID:10023539-1776885300-1776887100@www.visitthemalverns.org
SUMMARY:Two Prosecutors (12A)
DESCRIPTION:Two Prosecutors is a haunting portrait of Stalinist Russia\, wherein thousands of letters from falsely accused detainees are burned in a jail cell.  Against all odds\, one of them lands on the desk of a local prosecutor\, who takes it upon himself to seek justice for the prisoner. \nCert:  12A\nRunning time:  1hr 58mins\nRussian with English Subtitles \nPrices:\nEvenings:  £9.50/£10.50  (Premiums seats)\nMornings and matinees:  £8.50/£9.50  (Premium seats)\nConcessions and members discounts apply \nShow Times:\nSunday 19 April at 6:30pm\nWednesday 22 April at 7:15pm\nThursday 23 April at 5pm
URL:https://www.visitthemalverns.org/event/two-prosecutors-12a/2026-04-22/
LOCATION:Malvern Theatres\, WR14 3HB
CATEGORIES:Cinema,Film
ATTACH;FMTTYPE=image/jpeg:https://www.visitthemalverns.org/wp-content/uploads/2021/07/iStock-1191001701-cinema-resized-1.jpg
GEO:52.1106766;-2.3267752
X-APPLE-STRUCTURED-LOCATION;VALUE=URI;X-ADDRESS=Malvern Theatres WR14 3HB;X-APPLE-RADIUS=500;X-TITLE=WR14 3HB:geo:-2.3267752,52.1106766
END:VEVENT
BEGIN:VEVENT
DTSTART;TZID=Europe/London:20260422T193000
DTEND;TZID=Europe/London:20260422T203000
DTSTAMP:20260422T015202
CREATED:20260416T152439Z
LAST-MODIFIED:20260416T152439Z
UID:10023595-1776886200-1776889800@www.visitthemalverns.org
SUMMARY:The Hand of Sarah Nelmes
DESCRIPTION:The Hand of Sarah Nelmes by Martin Lytton is the Three Counties Talent Hub winning play for 2026 \nThis bold\, witty\, sometimes irreverent\, time-shifting drama reclaims the forgotten story behind one of the greatest medical breakthroughs in history: Edward Jenner and the Smallpox vaccine. Moving fluidly between rural Gloucestershire in the 1790s and a world locked down by a modern pandemic\, the play weaves together past and present to ask urgent questions about science\, sacrifice\, memory and who gets written into history. \nAt its heart is the milkmaid Sarah Nelmes – observant\, curious\, and uncredited – whose courage and insight helps lay the foundations for vaccination\, while others take the fame. \nThis is the premiere of Martin Lytton’s thought-provoking play\, winner of the Three Counties Talent Hub playwriting competition 2026\, a collaboration between Malvern Theatres\, Everyman Theatre (Cheltenham) and Worcester Theatres. \nShow times\nWednesday 22 April 2026\, 7.30pm\nThursday 23 April 2026\, 2.30pm & 7.30pm
URL:https://www.visitthemalverns.org/event/the-hand-of-sarah-nelmes/2026-04-22/
LOCATION:Malvern Theatres\, WR14 3HB
CATEGORIES:Community,Malvern,Theatre
ATTACH;FMTTYPE=image/jpeg:https://www.visitthemalverns.org/wp-content/uploads/2021/06/iStock-178357283-theatre-resized-1-e1758120760526.jpg
GEO:52.1106766;-2.3267752
X-APPLE-STRUCTURED-LOCATION;VALUE=URI;X-ADDRESS=Malvern Theatres WR14 3HB;X-APPLE-RADIUS=500;X-TITLE=WR14 3HB:geo:-2.3267752,52.1106766
END:VEVENT
BEGIN:VEVENT
DTSTART;TZID=Europe/London:20260422T193000
DTEND;TZID=Europe/London:20260422T213000
DTSTAMP:20260422T015202
CREATED:20251223T154656Z
LAST-MODIFIED:20251223T154656Z
UID:10021844-1776886200-1776893400@www.visitthemalverns.org
SUMMARY:Michaela Strachan: Not Just A Wild Life
DESCRIPTION:Marking four decades in the public eye – on our screens\, in the wild and sometimes out of her depth – wildlife TV legend Michaela Strachan swaps the binoculars for the spotlight in her brand-new live theatre show ‘Not Just A Wild Life’. From The Wide Awake Club\, The Hitman And Her and The Really Wild Show to Countryfile\, Springwatch and beyond\, the show laughs at the chaos of TV\, marvels at the beauty of nature and reflects on what it means to grow up – and grow older – on screen. \nIt’s a high energy\, funny and heart-warming adventure through 40 years of conservation and re-invention. If you’ve ever pondered what it’s like to be upstaged by an elephant\, wrangle the likes of Chris Packham\, or ice skate on national TV looking like Julie Andrews\, then this show is for you!
URL:https://www.visitthemalverns.org/event/michaela-strachan-not-just-a-wild-life/
LOCATION:Malvern Theatres\, WR14 3HB
CATEGORIES:Malvern,Talk,Theatre
ATTACH;FMTTYPE=image/jpeg:https://www.visitthemalverns.org/wp-content/uploads/2022/06/ilyass-seddoug-unsplash-microphone.jpg
GEO:52.1106766;-2.3267752
X-APPLE-STRUCTURED-LOCATION;VALUE=URI;X-ADDRESS=Malvern Theatres WR14 3HB;X-APPLE-RADIUS=500;X-TITLE=WR14 3HB:geo:-2.3267752,52.1106766
END:VEVENT
END:VCALENDAR