BEGIN:VCALENDAR
VERSION:2.0
PRODID:-//Visit The Malverns - ECPv6.15.20//NONSGML v1.0//EN
CALSCALE:GREGORIAN
METHOD:PUBLISH
X-WR-CALNAME:Visit The Malverns
X-ORIGINAL-URL:https://www.visitthemalverns.org
X-WR-CALDESC:Events for Visit The Malverns
REFRESH-INTERVAL;VALUE=DURATION:PT1H
X-Robots-Tag:noindex
X-PUBLISHED-TTL:PT1H
BEGIN:VTIMEZONE
TZID:Europe/London
BEGIN:DAYLIGHT
TZOFFSETFROM:+0000
TZOFFSETTO:+0100
TZNAME:BST
DTSTART:20250330T010000
END:DAYLIGHT
BEGIN:STANDARD
TZOFFSETFROM:+0100
TZOFFSETTO:+0000
TZNAME:GMT
DTSTART:20251026T010000
END:STANDARD
BEGIN:DAYLIGHT
TZOFFSETFROM:+0000
TZOFFSETTO:+0100
TZNAME:BST
DTSTART:20260329T010000
END:DAYLIGHT
BEGIN:STANDARD
TZOFFSETFROM:+0100
TZOFFSETTO:+0000
TZNAME:GMT
DTSTART:20261025T010000
END:STANDARD
BEGIN:DAYLIGHT
TZOFFSETFROM:+0000
TZOFFSETTO:+0100
TZNAME:BST
DTSTART:20270328T010000
END:DAYLIGHT
BEGIN:STANDARD
TZOFFSETFROM:+0100
TZOFFSETTO:+0000
TZNAME:GMT
DTSTART:20271031T010000
END:STANDARD
END:VTIMEZONE
BEGIN:VEVENT
DTSTART;TZID=Europe/London:20260323T080000
DTEND;TZID=Europe/London:20260529T170000
DTSTAMP:20260419T215402
CREATED:20260323T155757Z
LAST-MODIFIED:20260323T155757Z
UID:10023399-1774252800-1780074000@www.visitthemalverns.org
SUMMARY:Festival of Blossom
DESCRIPTION:The festival runs until 29 May\, but is unavailable during the Easter holidays (28 March – 12 April 2026). \nFrom the spring equinox\, Brockhampton will be celebrating the beauty of blossom and encouraging visitors to discover the beauty of orchards and take a mindful moment in nature. \nPick up a free nature‑rubbing trail from Visitor Reception and wander into the orchards to discover different varieties of blossom and the wildlife that makes its home there. (The trail is unavailable during the Easter holidays\, 28 March–12 April.) \nThis event is free\,  but normal admission applies.
URL:https://www.visitthemalverns.org/event/festival-of-blossom/
LOCATION:Brockhampton (National Trust)\, Bringsty\, Bromyard\, WR6 5TB
CATEGORIES:Children,Family,Trail,Walks
ATTACH;FMTTYPE=image/jpeg:https://www.visitthemalverns.org/wp-content/uploads/2025/04/Blossom-photo-by-Vladimir-Vinogradov-on-Unsplash.jpg
GEO:52.18827;-2.46718
X-APPLE-STRUCTURED-LOCATION;VALUE=URI;X-ADDRESS=Brockhampton (National Trust) Bringsty Bromyard WR6 5TB;X-APPLE-RADIUS=500;X-TITLE=Bringsty:geo:-2.46718,52.18827
END:VEVENT
BEGIN:VEVENT
DTSTART;TZID=Europe/London:20260430T090000
DTEND;TZID=Europe/London:20260430T150000
DTSTAMP:20260419T215402
CREATED:20260228T145628Z
LAST-MODIFIED:20260228T145628Z
UID:10022884-1777539600-1777561200@www.visitthemalverns.org
SUMMARY:Tenbury Wells Round Market
DESCRIPTION:Dating back to 1858\, the historic Round Market hosts a market five days a week (Tuesday – Saturday\, 9am – 3pm).
URL:https://www.visitthemalverns.org/event/tenbury-wells-round-market/2026-04-30/
LOCATION:The Round Market\, The Round Market\, Market Street\, Tenbury Wells\, Worcestershire\, WR15 8BL\, United Kingdom
CATEGORIES:Community,Drink,Food,Market,Shopping,Tenbury Wells
ATTACH;FMTTYPE=image/jpeg:https://www.visitthemalverns.org/wp-content/uploads/2026/02/Tenbury-Wells-Round-Market-1.jpg
GEO:52.3106088;-2.5958064
X-APPLE-STRUCTURED-LOCATION;VALUE=URI;X-ADDRESS=The Round Market The Round Market Market Street Tenbury Wells Worcestershire WR15 8BL United Kingdom;X-APPLE-RADIUS=500;X-TITLE=The Round Market\, Market Street:geo:-2.5958064,52.3106088
END:VEVENT
BEGIN:VEVENT
DTSTART;TZID=Europe/London:20260430T103000
DTEND;TZID=Europe/London:20260430T113000
DTSTAMP:20260419T215402
CREATED:20260311T140742Z
LAST-MODIFIED:20260311T140742Z
UID:10023266-1777545000-1777548600@www.visitthemalverns.org
SUMMARY:Guided Tour of Madresfield Court
DESCRIPTION:Madresfield Court\, situated within the Madresfield Estate at the foot of the Malvern Hills\, is a moated stately home that has been in the Lygon family for over 900 years and is currently home to its 29th generation. \nThe house played a significant part in nurturing the Arts and Crafts movement and contains a fine collection of paintings\, furniture and ceramics. It also has a rich history\, with both Edward Elgar and Evelyn Waugh having been frequent visitors. \nThe house and beautiful grounds are open to welcome visitors at various times throughout the year. Access to the house and gardens is by guided tour only and tickets must be pre-booked online. \nThe Madresfield Estate also hosts several popular events throughout the year within the grounds of the Court. \n2026 season details\nThe 2026 tour season at Madresfield Court runs from 22 April until 27 June\, plus 29 July – 1 August inclusive. \nTours generally run on Wednesdays\, Thursdays and Fridays (with some exceptions and the occasional Saturday). \nOn each open day\, four tours will run\, with each tour taking a maximum of fifteen people aged 16 and over. Sadly\, the tours are not suitable for babies or children under 16 and are subject to accessibility restrictions. \nTickets are £17 per person and all visitors will have the chance to enjoy the gardens either before or after the house tour. \nRefreshments can now be enjoyed in the newly refurbished Play Room. \nFor full details\, including booking terms and conditions\, to check that a tour is running on your chosen date and to book your place\, visit the Madresfield Court website. \nPhoto supplied by Madresfield Court.
URL:https://www.visitthemalverns.org/event/guided-tour-of-madresfield-court-4/2026-04-30/1/
LOCATION:Madresfield Court\, Madresfield\, Malvern\, Worcs\, WR13 5AJ
CATEGORIES:Malvern,Talk
ATTACH;FMTTYPE=image/jpeg:https://www.visitthemalverns.org/wp-content/uploads/2024/04/Madresfield-Court.jpg
GEO:52.1241448;-2.281506
X-APPLE-STRUCTURED-LOCATION;VALUE=URI;X-ADDRESS=Madresfield Court Madresfield Malvern Worcs WR13 5AJ;X-APPLE-RADIUS=500;X-TITLE=Madresfield:geo:-2.281506,52.1241448
END:VEVENT
BEGIN:VEVENT
DTSTART;TZID=Europe/London:20260430T103000
DTEND;TZID=Europe/London:20260430T120000
DTSTAMP:20260419T215402
CREATED:20260323T180300Z
LAST-MODIFIED:20260323T180300Z
UID:10023435-1777545000-1777550400@www.visitthemalverns.org
SUMMARY:Stay & Play Sessions at The Cob House (March & April)
DESCRIPTION:Head to The Cob House for themed play sessions\, indoors in the party room\, suitable for walkers to age 5. \nThe space is limited so we ask for only one adult per child. Play can include foam\, water\, sand etc so please be prepared with a change of clothes/apron. \nDates in March & April\nThursday 26 & Friday 27 March 2026\, 10.30am – 12pm: All things spring\nThursday 16 & Friday 17 April 2026\, 10.30am – 12pm: On the farm\nThursday 23 & Friday 24 April 2026\, 10.30am – 12pm: Construction\nThursday 30 April & Friday 1 May 2026\, 10.30am – 12pm: Jungle mania \nPrice & booking\n£6.95 for 90 minutes of play – book online
URL:https://www.visitthemalverns.org/event/stay-play-sessions-at-the-cob-house-march-april/2026-04-30/
LOCATION:Cob House Countryside Park\, Worcester Road\, Wichenford\, WR6 6YE
CATEGORIES:Children,Craft,Family
ATTACH;FMTTYPE=image/jpeg:https://www.visitthemalverns.org/wp-content/uploads/2026/03/Stay-and-Play-Cob-House.jpg
GEO:52.2248117;-2.3283103
X-APPLE-STRUCTURED-LOCATION;VALUE=URI;X-ADDRESS=Cob House Countryside Park Worcester Road Wichenford WR6 6YE;X-APPLE-RADIUS=500;X-TITLE=Worcester Road:geo:-2.3283103,52.2248117
END:VEVENT
BEGIN:VEVENT
DTSTART;TZID=Europe/London:20260430T113000
DTEND;TZID=Europe/London:20260430T123000
DTSTAMP:20260419T215402
CREATED:20260311T140742Z
LAST-MODIFIED:20260311T140742Z
UID:10023267-1777548600-1777552200@www.visitthemalverns.org
SUMMARY:Guided Tour of Madresfield Court
DESCRIPTION:Madresfield Court\, situated within the Madresfield Estate at the foot of the Malvern Hills\, is a moated stately home that has been in the Lygon family for over 900 years and is currently home to its 29th generation. \nThe house played a significant part in nurturing the Arts and Crafts movement and contains a fine collection of paintings\, furniture and ceramics. It also has a rich history\, with both Edward Elgar and Evelyn Waugh having been frequent visitors. \nThe house and beautiful grounds are open to welcome visitors at various times throughout the year. Access to the house and gardens is by guided tour only and tickets must be pre-booked online. \nThe Madresfield Estate also hosts several popular events throughout the year within the grounds of the Court. \n2026 season details\nThe 2026 tour season at Madresfield Court runs from 22 April until 27 June\, plus 29 July – 1 August inclusive. \nTours generally run on Wednesdays\, Thursdays and Fridays (with some exceptions and the occasional Saturday). \nOn each open day\, four tours will run\, with each tour taking a maximum of fifteen people aged 16 and over. Sadly\, the tours are not suitable for babies or children under 16 and are subject to accessibility restrictions. \nTickets are £17 per person and all visitors will have the chance to enjoy the gardens either before or after the house tour. \nRefreshments can now be enjoyed in the newly refurbished Play Room. \nFor full details\, including booking terms and conditions\, to check that a tour is running on your chosen date and to book your place\, visit the Madresfield Court website. \nPhoto supplied by Madresfield Court.
URL:https://www.visitthemalverns.org/event/guided-tour-of-madresfield-court-4/2026-04-30/2/
LOCATION:Madresfield Court\, Madresfield\, Malvern\, Worcs\, WR13 5AJ
CATEGORIES:Malvern,Talk
ATTACH;FMTTYPE=image/jpeg:https://www.visitthemalverns.org/wp-content/uploads/2024/04/Madresfield-Court.jpg
GEO:52.1241448;-2.281506
X-APPLE-STRUCTURED-LOCATION;VALUE=URI;X-ADDRESS=Madresfield Court Madresfield Malvern Worcs WR13 5AJ;X-APPLE-RADIUS=500;X-TITLE=Madresfield:geo:-2.281506,52.1241448
END:VEVENT
BEGIN:VEVENT
DTSTART;TZID=Europe/London:20260430T133000
DTEND;TZID=Europe/London:20260430T143000
DTSTAMP:20260419T215402
CREATED:20260311T140742Z
LAST-MODIFIED:20260311T140742Z
UID:10023268-1777555800-1777559400@www.visitthemalverns.org
SUMMARY:Guided Tour of Madresfield Court
DESCRIPTION:Madresfield Court\, situated within the Madresfield Estate at the foot of the Malvern Hills\, is a moated stately home that has been in the Lygon family for over 900 years and is currently home to its 29th generation. \nThe house played a significant part in nurturing the Arts and Crafts movement and contains a fine collection of paintings\, furniture and ceramics. It also has a rich history\, with both Edward Elgar and Evelyn Waugh having been frequent visitors. \nThe house and beautiful grounds are open to welcome visitors at various times throughout the year. Access to the house and gardens is by guided tour only and tickets must be pre-booked online. \nThe Madresfield Estate also hosts several popular events throughout the year within the grounds of the Court. \n2026 season details\nThe 2026 tour season at Madresfield Court runs from 22 April until 27 June\, plus 29 July – 1 August inclusive. \nTours generally run on Wednesdays\, Thursdays and Fridays (with some exceptions and the occasional Saturday). \nOn each open day\, four tours will run\, with each tour taking a maximum of fifteen people aged 16 and over. Sadly\, the tours are not suitable for babies or children under 16 and are subject to accessibility restrictions. \nTickets are £17 per person and all visitors will have the chance to enjoy the gardens either before or after the house tour. \nRefreshments can now be enjoyed in the newly refurbished Play Room. \nFor full details\, including booking terms and conditions\, to check that a tour is running on your chosen date and to book your place\, visit the Madresfield Court website. \nPhoto supplied by Madresfield Court.
URL:https://www.visitthemalverns.org/event/guided-tour-of-madresfield-court-4/2026-04-30/3/
LOCATION:Madresfield Court\, Madresfield\, Malvern\, Worcs\, WR13 5AJ
CATEGORIES:Malvern,Talk
ATTACH;FMTTYPE=image/jpeg:https://www.visitthemalverns.org/wp-content/uploads/2024/04/Madresfield-Court.jpg
GEO:52.1241448;-2.281506
X-APPLE-STRUCTURED-LOCATION;VALUE=URI;X-ADDRESS=Madresfield Court Madresfield Malvern Worcs WR13 5AJ;X-APPLE-RADIUS=500;X-TITLE=Madresfield:geo:-2.281506,52.1241448
END:VEVENT
BEGIN:VEVENT
DTSTART;TZID=Europe/London:20260430T143000
DTEND;TZID=Europe/London:20260430T153000
DTSTAMP:20260419T215402
CREATED:20260311T140742Z
LAST-MODIFIED:20260311T140742Z
UID:10023269-1777559400-1777563000@www.visitthemalverns.org
SUMMARY:Guided Tour of Madresfield Court
DESCRIPTION:Madresfield Court\, situated within the Madresfield Estate at the foot of the Malvern Hills\, is a moated stately home that has been in the Lygon family for over 900 years and is currently home to its 29th generation. \nThe house played a significant part in nurturing the Arts and Crafts movement and contains a fine collection of paintings\, furniture and ceramics. It also has a rich history\, with both Edward Elgar and Evelyn Waugh having been frequent visitors. \nThe house and beautiful grounds are open to welcome visitors at various times throughout the year. Access to the house and gardens is by guided tour only and tickets must be pre-booked online. \nThe Madresfield Estate also hosts several popular events throughout the year within the grounds of the Court. \n2026 season details\nThe 2026 tour season at Madresfield Court runs from 22 April until 27 June\, plus 29 July – 1 August inclusive. \nTours generally run on Wednesdays\, Thursdays and Fridays (with some exceptions and the occasional Saturday). \nOn each open day\, four tours will run\, with each tour taking a maximum of fifteen people aged 16 and over. Sadly\, the tours are not suitable for babies or children under 16 and are subject to accessibility restrictions. \nTickets are £17 per person and all visitors will have the chance to enjoy the gardens either before or after the house tour. \nRefreshments can now be enjoyed in the newly refurbished Play Room. \nFor full details\, including booking terms and conditions\, to check that a tour is running on your chosen date and to book your place\, visit the Madresfield Court website. \nPhoto supplied by Madresfield Court.
URL:https://www.visitthemalverns.org/event/guided-tour-of-madresfield-court-4/2026-04-30/4/
LOCATION:Madresfield Court\, Madresfield\, Malvern\, Worcs\, WR13 5AJ
CATEGORIES:Malvern,Talk
ATTACH;FMTTYPE=image/jpeg:https://www.visitthemalverns.org/wp-content/uploads/2024/04/Madresfield-Court.jpg
GEO:52.1241448;-2.281506
X-APPLE-STRUCTURED-LOCATION;VALUE=URI;X-ADDRESS=Madresfield Court Madresfield Malvern Worcs WR13 5AJ;X-APPLE-RADIUS=500;X-TITLE=Madresfield:geo:-2.281506,52.1241448
END:VEVENT
BEGIN:VEVENT
DTSTART;TZID=Europe/London:20260430T143000
DTEND;TZID=Europe/London:20260430T163000
DTSTAMP:20260419T215402
CREATED:20251223T174003Z
LAST-MODIFIED:20251223T174003Z
UID:10021855-1777559400-1777566600@www.visitthemalverns.org
SUMMARY:The Last Laugh
DESCRIPTION:Three legendary comedians…one very unusual dressing room \nThe Last Laugh is a ‘brilliant’ (The Telegraph) smash-hit\, West End play that imagines three of the nation’s all-time greatest comedy titans – Tommy Cooper\, Eric Morecambe and Bob Monkhouse – in a dressing room\, conversing on the secret of life\, death\, comedy and what it means to be funny…really funny! \n‘Lovingly written and directed’ (Sunday Times) by the award-winning Paul Hendy\, The Last Laugh stars Damian Williams as Cooper\, Simon Cartwright as Monkhouse and Britain’s Got Talent finalist Steve Royale as Morecambe. \nWarm\, funny\, nostalgic and poignant\, this hit play is ‘pure gold’ and ‘pitch-perfect’ (Mail on Sunday) and will leave the audience laughing and crying in equal measure.   \nShow times\nTuesday 28 April 2026\, 7.30pm\nWednesday 29 April 2026\, 7.30pm\nThursday 30 April 2026\, 2.30pm\nThursday 30 April 2026\, 7.30pm\nFriday 1 May 2026\, 7.30pm\nSaturday 2 May 2026\, 2.30pm\nSaturday 2 May 2026\, 7.30pm
URL:https://www.visitthemalverns.org/event/the-last-laugh/2026-04-30/1/
LOCATION:Malvern Theatres\, WR14 3HB
CATEGORIES:Comedy,Malvern,Theatre
ATTACH;FMTTYPE=image/jpeg:https://www.visitthemalverns.org/wp-content/uploads/2021/06/iStock-178357283-theatre-resized-1-e1758120760526.jpg
GEO:52.1106766;-2.3267752
X-APPLE-STRUCTURED-LOCATION;VALUE=URI;X-ADDRESS=Malvern Theatres WR14 3HB;X-APPLE-RADIUS=500;X-TITLE=WR14 3HB:geo:-2.3267752,52.1106766
END:VEVENT
BEGIN:VEVENT
DTSTART;TZID=Europe/London:20260430T163000
DTEND;TZID=Europe/London:20260430T170000
DTSTAMP:20260419T215402
CREATED:20260414T151920Z
LAST-MODIFIED:20260414T151920Z
UID:10023552-1777566600-1777568400@www.visitthemalverns.org
SUMMARY:Michael (12A)
DESCRIPTION:Michael is the cinematic portrayal of the life and legacy of one of the most influential artists the world has ever known.  The film tells the story of Michael Jackson’s life\, tracing his journey from the discovery of his extraordinary talent as the lead of the Jackson Five\, to the visionary artist whose creative ambition fuelled a relentless pursuit to become the biggest entertainer in the world.  Highlighting both his life off-stage and some of the most iconic performances from his solo career\, the film gives audiences a front-row seat to Michael Jackson as never before.  This is where his story begins. \nCert:  12A\nRunning Time:  2hrs 7mins\nAD  Audio Description\nDS  Descriptive Subtitles:  Monday 27 April at 7:15pm and Thursday 7 May at 4:30pm \nPrices:\nEvenings:  £9.50/£10.50  (Premium seats)\nMornings and matinees:  £8.50/£9.50  (Premium seats)\nConcessions and members discounts apply \nShow Times:\nPlease note:  Film starts at advertised time\nFriday 24 April at 4pm and 7:15pm\nSaturday 25 April at 4pm and 7:15pm\nSunday 26 April at 3pm and 6:30pm\nMonday 27 April at 7:15pm (with DS)\nTuesday 28 April at 11am. 4pm and 7:15pm\nWednesday 29 April at 7:15pm\nThursday 30 April at 4:30pm and 7:15pm\nFriday 1 May at 4pm and 7:15pm\nSaturday 2 May at 7:15pm\nSunday 3 May at 6:30pm\nMonday 4 May at 7:15pm\nTuesday 5 May at 11am\nWednesday 6 May at 7:15pm\nThursday 7 May at 4:30pm and 7:45pm \n 
URL:https://www.visitthemalverns.org/event/michael-12a/2026-04-30/1/
LOCATION:Malvern Theatres\, WR14 3HB
CATEGORIES:Cinema,Film
ATTACH;FMTTYPE=image/jpeg:https://www.visitthemalverns.org/wp-content/uploads/2021/07/iStock-1191001701-cinema-resized-1.jpg
GEO:52.1106766;-2.3267752
X-APPLE-STRUCTURED-LOCATION;VALUE=URI;X-ADDRESS=Malvern Theatres WR14 3HB;X-APPLE-RADIUS=500;X-TITLE=WR14 3HB:geo:-2.3267752,52.1106766
END:VEVENT
BEGIN:VEVENT
DTSTART;TZID=Europe/London:20260430T191500
DTEND;TZID=Europe/London:20260430T194500
DTSTAMP:20260419T215402
CREATED:20260414T151920Z
LAST-MODIFIED:20260414T151920Z
UID:10023553-1777576500-1777578300@www.visitthemalverns.org
SUMMARY:Michael (12A)
DESCRIPTION:Michael is the cinematic portrayal of the life and legacy of one of the most influential artists the world has ever known.  The film tells the story of Michael Jackson’s life\, tracing his journey from the discovery of his extraordinary talent as the lead of the Jackson Five\, to the visionary artist whose creative ambition fuelled a relentless pursuit to become the biggest entertainer in the world.  Highlighting both his life off-stage and some of the most iconic performances from his solo career\, the film gives audiences a front-row seat to Michael Jackson as never before.  This is where his story begins. \nCert:  12A\nRunning Time:  2hrs 7mins\nAD  Audio Description\nDS  Descriptive Subtitles:  Monday 27 April at 7:15pm and Thursday 7 May at 4:30pm \nPrices:\nEvenings:  £9.50/£10.50  (Premium seats)\nMornings and matinees:  £8.50/£9.50  (Premium seats)\nConcessions and members discounts apply \nShow Times:\nPlease note:  Film starts at advertised time\nFriday 24 April at 4pm and 7:15pm\nSaturday 25 April at 4pm and 7:15pm\nSunday 26 April at 3pm and 6:30pm\nMonday 27 April at 7:15pm (with DS)\nTuesday 28 April at 11am. 4pm and 7:15pm\nWednesday 29 April at 7:15pm\nThursday 30 April at 4:30pm and 7:15pm\nFriday 1 May at 4pm and 7:15pm\nSaturday 2 May at 7:15pm\nSunday 3 May at 6:30pm\nMonday 4 May at 7:15pm\nTuesday 5 May at 11am\nWednesday 6 May at 7:15pm\nThursday 7 May at 4:30pm and 7:45pm \n 
URL:https://www.visitthemalverns.org/event/michael-12a/2026-04-30/2/
LOCATION:Malvern Theatres\, WR14 3HB
CATEGORIES:Cinema,Film
ATTACH;FMTTYPE=image/jpeg:https://www.visitthemalverns.org/wp-content/uploads/2021/07/iStock-1191001701-cinema-resized-1.jpg
GEO:52.1106766;-2.3267752
X-APPLE-STRUCTURED-LOCATION;VALUE=URI;X-ADDRESS=Malvern Theatres WR14 3HB;X-APPLE-RADIUS=500;X-TITLE=WR14 3HB:geo:-2.3267752,52.1106766
END:VEVENT
BEGIN:VEVENT
DTSTART;TZID=Europe/London:20260430T193000
DTEND;TZID=Europe/London:20260430T213000
DTSTAMP:20260419T215402
CREATED:20251223T174003Z
LAST-MODIFIED:20251223T174003Z
UID:10021856-1777577400-1777584600@www.visitthemalverns.org
SUMMARY:The Last Laugh
DESCRIPTION:Three legendary comedians…one very unusual dressing room \nThe Last Laugh is a ‘brilliant’ (The Telegraph) smash-hit\, West End play that imagines three of the nation’s all-time greatest comedy titans – Tommy Cooper\, Eric Morecambe and Bob Monkhouse – in a dressing room\, conversing on the secret of life\, death\, comedy and what it means to be funny…really funny! \n‘Lovingly written and directed’ (Sunday Times) by the award-winning Paul Hendy\, The Last Laugh stars Damian Williams as Cooper\, Simon Cartwright as Monkhouse and Britain’s Got Talent finalist Steve Royale as Morecambe. \nWarm\, funny\, nostalgic and poignant\, this hit play is ‘pure gold’ and ‘pitch-perfect’ (Mail on Sunday) and will leave the audience laughing and crying in equal measure.   \nShow times\nTuesday 28 April 2026\, 7.30pm\nWednesday 29 April 2026\, 7.30pm\nThursday 30 April 2026\, 2.30pm\nThursday 30 April 2026\, 7.30pm\nFriday 1 May 2026\, 7.30pm\nSaturday 2 May 2026\, 2.30pm\nSaturday 2 May 2026\, 7.30pm
URL:https://www.visitthemalverns.org/event/the-last-laugh/2026-04-30/2/
LOCATION:Malvern Theatres\, WR14 3HB
CATEGORIES:Comedy,Malvern,Theatre
ATTACH;FMTTYPE=image/jpeg:https://www.visitthemalverns.org/wp-content/uploads/2021/06/iStock-178357283-theatre-resized-1-e1758120760526.jpg
GEO:52.1106766;-2.3267752
X-APPLE-STRUCTURED-LOCATION;VALUE=URI;X-ADDRESS=Malvern Theatres WR14 3HB;X-APPLE-RADIUS=500;X-TITLE=WR14 3HB:geo:-2.3267752,52.1106766
END:VEVENT
BEGIN:VEVENT
DTSTART;TZID=Europe/London:20260430T193000
DTEND;TZID=Europe/London:20260430T220000
DTSTAMP:20260419T215402
CREATED:20260116T155316Z
LAST-MODIFIED:20260116T155316Z
UID:10022260-1777577400-1777586400@www.visitthemalverns.org
SUMMARY:The Fureys
DESCRIPTION:After 4 previous performances\, THE FUREYS will play their last ever concert at the Regal as part of their FAREWELL TOUR on Thursday 30th April. \nLegends of Irish music & song\, The FUREYS renowned for their hit songs ‘I will love you’\, ‘When you were sweet 16’\, ‘The Green fields of France’\, ‘The old man’\, ‘Red rose café’\, ‘From Clare to here’\, ‘Her father didn’t like me anyway’\, ‘Leaving Nancy’\, ‘Steal away’ etc take to our stage for the final time as part of their FAREWELL TOUR.
URL:https://www.visitthemalverns.org/event/the-fureys/
LOCATION:Regal Tenbury Wells\, 49 Teme Street\, Tenbury Wells WR15 8AE
CATEGORIES:Concert,Music,Tenbury Wells
ATTACH;FMTTYPE=image/jpeg:https://www.visitthemalverns.org/wp-content/uploads/2021/08/iStock-688015678-music-Resized-1.jpg
GEO:52.3124173;-2.5943612
X-APPLE-STRUCTURED-LOCATION;VALUE=URI;X-ADDRESS=Regal Tenbury Wells 49 Teme Street Tenbury Wells WR15 8AE;X-APPLE-RADIUS=500;X-TITLE=49 Teme Street\, Tenbury Wells WR15 8AE:geo:-2.5943612,52.3124173
END:VEVENT
END:VCALENDAR