BEGIN:VCALENDAR
VERSION:2.0
PRODID:-//Visit The Malverns - ECPv6.15.20//NONSGML v1.0//EN
CALSCALE:GREGORIAN
METHOD:PUBLISH
X-WR-CALNAME:Visit The Malverns
X-ORIGINAL-URL:https://www.visitthemalverns.org
X-WR-CALDESC:Events for Visit The Malverns
REFRESH-INTERVAL;VALUE=DURATION:PT1H
X-Robots-Tag:noindex
X-PUBLISHED-TTL:PT1H
BEGIN:VTIMEZONE
TZID:Europe/London
BEGIN:DAYLIGHT
TZOFFSETFROM:+0000
TZOFFSETTO:+0100
TZNAME:BST
DTSTART:20240331T010000
END:DAYLIGHT
BEGIN:STANDARD
TZOFFSETFROM:+0100
TZOFFSETTO:+0000
TZNAME:GMT
DTSTART:20241027T010000
END:STANDARD
BEGIN:DAYLIGHT
TZOFFSETFROM:+0000
TZOFFSETTO:+0100
TZNAME:BST
DTSTART:20250330T010000
END:DAYLIGHT
BEGIN:STANDARD
TZOFFSETFROM:+0100
TZOFFSETTO:+0000
TZNAME:GMT
DTSTART:20251026T010000
END:STANDARD
BEGIN:DAYLIGHT
TZOFFSETFROM:+0000
TZOFFSETTO:+0100
TZNAME:BST
DTSTART:20260329T010000
END:DAYLIGHT
BEGIN:STANDARD
TZOFFSETFROM:+0100
TZOFFSETTO:+0000
TZNAME:GMT
DTSTART:20261025T010000
END:STANDARD
END:VTIMEZONE
BEGIN:VEVENT
DTSTART;TZID=Europe/London:20251012T073000
DTEND;TZID=Europe/London:20251012T143000
DTSTAMP:20260419T154242
CREATED:20231122T194338Z
LAST-MODIFIED:20250109T105603Z
UID:10017096-1760254200-1760279400@www.visitthemalverns.org
SUMMARY:Malvern Flea and Collectors Fair
DESCRIPTION:Malvern Flea and Collectors Fair is the largest flea fair in the UK\, held ten times a year at the Three Counties Showground\, Malvern. \nThe hundreds of stalls across the halls and even more outside (number of outdoor stands weather-dependent) together create an incredibly eclectic shopping experience\, with items on sale ranging from furniture\, lighting and textiles to jewellery\, clothing\, teddies and toys. This is the perfect event for the interior designer\, crafter\, up-cycler and thrift-seeker. \nOpen: 7.30am – 2.30pm\nEntry cost: £6 (cash only) per person (accompanied children under 16 go free)\nParking: Free\nDogs: Allowed – on short leads (but please avoid bringing them if you can) \nDates in 2025\nSunday 12 January\nSunday 30 March\nMonday 21 April\nMonday 26 May\nSunday 29 June\nSunday 20 July\nMonday 25 August\nSunday 21 September\nSunday 12 October\nSunday 2 November \nFor more information\, visit the B2B Fairs website.
URL:https://www.visitthemalverns.org/event/malvern-flea-and-collectors-fair-3/2025-10-12/
LOCATION:Three Counties Showground\, WR13 6NW
CATEGORIES:Dog Friendly,Fair,Family,Malvern,Market,Shopping,Showground
ATTACH;FMTTYPE=image/jpeg:https://www.visitthemalverns.org/wp-content/uploads/2021/12/mats-hagwall-uzl47XdoLww-unsplash-2-e1737728501603.jpg
GEO:52.0828475;-2.3146342
X-APPLE-STRUCTURED-LOCATION;VALUE=URI;X-ADDRESS=Three Counties Showground WR13 6NW;X-APPLE-RADIUS=500;X-TITLE=WR13 6NW:geo:-2.3146342,52.0828475
END:VEVENT
BEGIN:VEVENT
DTSTART;VALUE=DATE:20251025
DTEND;VALUE=DATE:20251026
DTSTAMP:20260419T154242
CREATED:20250911T151343Z
LAST-MODIFIED:20250929T145648Z
UID:10020443-1761350400-1761436799@www.visitthemalverns.org
SUMMARY:The Magic Print Fair: Autumn Edition
DESCRIPTION:The Magic Print Fair: Autumn Edition will be a celebration of printmaking and illustration\, held on the 25 October 2025 at the Fold in Bransford\, open from 10am – 3pm. \nThe event\, which is free to enter\, has free parking and is dog-friendly\, features print artists and illustrators covering a wide range of printmaking mediums and techniques. There will also be printmaking suppliers. Demos and ‘make & take’ activities will be running throughout the day. \nCome along to purchase unique art for your home\, posters\, prints\, cards\, apparel\, stationery and more. Or if you are a printer yourself\, come to stock up on materials and supplies! \nFind out more on Instagram.
URL:https://www.visitthemalverns.org/event/the-magic-print-fair-autumn-edition/
LOCATION:The Fold\, Bransford\, Worcester\, WR6 5JB\, United Kingdom
CATEGORIES:Craft,Dog Friendly,Fair,Family,Shopping
ATTACH;FMTTYPE=image/jpeg:https://www.visitthemalverns.org/wp-content/uploads/2025/05/Letterpress-photo-by-Kristian-Strand-on-Unsplash-e1750340733596.jpg
GEO:52.1717428;-2.2956841
X-APPLE-STRUCTURED-LOCATION;VALUE=URI;X-ADDRESS=The Fold Bransford Worcester WR6 5JB United Kingdom;X-APPLE-RADIUS=500;X-TITLE=Bransford:geo:-2.2956841,52.1717428
END:VEVENT
END:VCALENDAR