BEGIN:VCALENDAR
VERSION:2.0
PRODID:-//Visit The Malverns - ECPv6.15.20//NONSGML v1.0//EN
CALSCALE:GREGORIAN
METHOD:PUBLISH
X-WR-CALNAME:Visit The Malverns
X-ORIGINAL-URL:https://www.visitthemalverns.org
X-WR-CALDESC:Events for Visit The Malverns
REFRESH-INTERVAL;VALUE=DURATION:PT1H
X-Robots-Tag:noindex
X-PUBLISHED-TTL:PT1H
BEGIN:VTIMEZONE
TZID:Europe/London
BEGIN:DAYLIGHT
TZOFFSETFROM:+0000
TZOFFSETTO:+0100
TZNAME:BST
DTSTART:20240331T010000
END:DAYLIGHT
BEGIN:STANDARD
TZOFFSETFROM:+0100
TZOFFSETTO:+0000
TZNAME:GMT
DTSTART:20241027T010000
END:STANDARD
BEGIN:DAYLIGHT
TZOFFSETFROM:+0000
TZOFFSETTO:+0100
TZNAME:BST
DTSTART:20250330T010000
END:DAYLIGHT
BEGIN:STANDARD
TZOFFSETFROM:+0100
TZOFFSETTO:+0000
TZNAME:GMT
DTSTART:20251026T010000
END:STANDARD
BEGIN:DAYLIGHT
TZOFFSETFROM:+0000
TZOFFSETTO:+0100
TZNAME:BST
DTSTART:20260329T010000
END:DAYLIGHT
BEGIN:STANDARD
TZOFFSETFROM:+0100
TZOFFSETTO:+0000
TZNAME:GMT
DTSTART:20261025T010000
END:STANDARD
END:VTIMEZONE
BEGIN:VEVENT
DTSTART;TZID=Europe/London:20250921T073000
DTEND;TZID=Europe/London:20250921T143000
DTSTAMP:20260419T182825
CREATED:20231122T194338Z
LAST-MODIFIED:20250109T105603Z
UID:10017095-1758439800-1758465000@www.visitthemalverns.org
SUMMARY:Malvern Flea and Collectors Fair
DESCRIPTION:Malvern Flea and Collectors Fair is the largest flea fair in the UK\, held ten times a year at the Three Counties Showground\, Malvern. \nThe hundreds of stalls across the halls and even more outside (number of outdoor stands weather-dependent) together create an incredibly eclectic shopping experience\, with items on sale ranging from furniture\, lighting and textiles to jewellery\, clothing\, teddies and toys. This is the perfect event for the interior designer\, crafter\, up-cycler and thrift-seeker. \nOpen: 7.30am – 2.30pm\nEntry cost: £6 (cash only) per person (accompanied children under 16 go free)\nParking: Free\nDogs: Allowed – on short leads (but please avoid bringing them if you can) \nDates in 2025\nSunday 12 January\nSunday 30 March\nMonday 21 April\nMonday 26 May\nSunday 29 June\nSunday 20 July\nMonday 25 August\nSunday 21 September\nSunday 12 October\nSunday 2 November \nFor more information\, visit the B2B Fairs website.
URL:https://www.visitthemalverns.org/event/malvern-flea-and-collectors-fair-3/2025-09-21/
LOCATION:Three Counties Showground\, WR13 6NW
CATEGORIES:Dog Friendly,Fair,Family,Malvern,Market,Shopping,Showground
ATTACH;FMTTYPE=image/jpeg:https://www.visitthemalverns.org/wp-content/uploads/2021/12/mats-hagwall-uzl47XdoLww-unsplash-2-e1737728501603.jpg
GEO:52.0828475;-2.3146342
X-APPLE-STRUCTURED-LOCATION;VALUE=URI;X-ADDRESS=Three Counties Showground WR13 6NW;X-APPLE-RADIUS=500;X-TITLE=WR13 6NW:geo:-2.3146342,52.0828475
END:VEVENT
END:VCALENDAR