BEGIN:VCALENDAR
VERSION:2.0
PRODID:-//Visit The Malverns - ECPv6.15.20//NONSGML v1.0//EN
CALSCALE:GREGORIAN
METHOD:PUBLISH
X-ORIGINAL-URL:https://www.visitthemalverns.org
X-WR-CALDESC:Events for Visit The Malverns
REFRESH-INTERVAL;VALUE=DURATION:PT1H
X-Robots-Tag:noindex
X-PUBLISHED-TTL:PT1H
BEGIN:VTIMEZONE
TZID:Europe/London
BEGIN:DAYLIGHT
TZOFFSETFROM:+0000
TZOFFSETTO:+0100
TZNAME:BST
DTSTART:20220327T010000
END:DAYLIGHT
BEGIN:STANDARD
TZOFFSETFROM:+0100
TZOFFSETTO:+0000
TZNAME:GMT
DTSTART:20221030T010000
END:STANDARD
BEGIN:DAYLIGHT
TZOFFSETFROM:+0000
TZOFFSETTO:+0100
TZNAME:BST
DTSTART:20230326T010000
END:DAYLIGHT
BEGIN:STANDARD
TZOFFSETFROM:+0100
TZOFFSETTO:+0000
TZNAME:GMT
DTSTART:20231029T010000
END:STANDARD
BEGIN:DAYLIGHT
TZOFFSETFROM:+0000
TZOFFSETTO:+0100
TZNAME:BST
DTSTART:20240331T010000
END:DAYLIGHT
BEGIN:STANDARD
TZOFFSETFROM:+0100
TZOFFSETTO:+0000
TZNAME:GMT
DTSTART:20241027T010000
END:STANDARD
BEGIN:DAYLIGHT
TZOFFSETFROM:+0000
TZOFFSETTO:+0100
TZNAME:BST
DTSTART:20250330T010000
END:DAYLIGHT
BEGIN:STANDARD
TZOFFSETFROM:+0100
TZOFFSETTO:+0000
TZNAME:GMT
DTSTART:20251026T010000
END:STANDARD
END:VTIMEZONE
BEGIN:VEVENT
DTSTART;TZID=Europe/London:20240719T100000
DTEND;TZID=Europe/London:20240721T160000
DTSTAMP:20260421T155957
CREATED:20240215T102112Z
LAST-MODIFIED:20240215T102817Z
UID:10014001-1721383200-1721577600@www.visitthemalverns.org
SUMMARY:Emporium Enterprises Gift and Craft Fair - Blues Festival Weekend
DESCRIPTION:Gift and craft fair taking place in Upton upon Severn Memorial Hall. \n10am – 4pm. \nFree entry. \n 
URL:https://www.visitthemalverns.org/event/emporium-enterprises-gift-and-craft-fair-blues-festival-weekend/
LOCATION:Upton Memorial Hall\, 8 Old Street\, Upton upon Severn\, WR8 0HA\, United Kingdom
CATEGORIES:Craft,Fair,Free,Market,Upton upon Severn
ATTACH;FMTTYPE=image/jpeg:https://www.visitthemalverns.org/wp-content/uploads/2021/05/Handmade-Arts-and-Crafts.jpg
GEO:52.0630016;-2.2179995
X-APPLE-STRUCTURED-LOCATION;VALUE=URI;X-ADDRESS=Upton Memorial Hall 8 Old Street Upton upon Severn WR8 0HA United Kingdom;X-APPLE-RADIUS=500;X-TITLE=8 Old Street:geo:-2.2179995,52.0630016
END:VEVENT
BEGIN:VEVENT
DTSTART;TZID=Europe/London:20240601T120000
DTEND;TZID=Europe/London:20240601T170000
DTSTAMP:20260421T155957
CREATED:20240507T140409Z
LAST-MODIFIED:20240507T140409Z
UID:10014779-1717243200-1717261200@www.visitthemalverns.org
SUMMARY:Madresfield Court Open Gardens & Village Fete
DESCRIPTION:Saturday 1 June 2024  12 – 5pm \nMadresfield Court host their Open Gardens & Village Fete with over 50 stalls\, lots of food options and Bar as well as plenty of attractions\, including Birds of Prey\, Vintage cars\, a Family Fun area\, Arts & Craft Stalls and the Rock Choir. \nWe are also pleased to welcome the return of the very popular Fun Dog Show\, sponsored again by Pets at Home. \nNew this year will be the Madresfield Court Sheep Dog Display. \nAdmission:  £5  (free Admission for 11’s and under) \nDisabled Parking \nWell-behaved dogs on leads welcome \n  \n 
URL:https://www.visitthemalverns.org/event/madresfield-court-open-gardens-village-fete/
LOCATION:Madresfield Court\, Madresfield\, Malvern\, Worcs\, WR13 5AJ
CATEGORIES:Children,Community,Craft,Dog Friendly,Fair,Family,Food,Garden,Music
ATTACH;FMTTYPE=image/jpeg:https://www.visitthemalverns.org/wp-content/uploads/2024/04/Madresfield-2.jpg
GEO:52.1241448;-2.281506
X-APPLE-STRUCTURED-LOCATION;VALUE=URI;X-ADDRESS=Madresfield Court Madresfield Malvern Worcs WR13 5AJ;X-APPLE-RADIUS=500;X-TITLE=Madresfield:geo:-2.281506,52.1241448
END:VEVENT
BEGIN:VEVENT
DTSTART;TZID=Europe/London:20240518T100000
DTEND;TZID=Europe/London:20240518T150000
DTSTAMP:20260421T155957
CREATED:20240511T143601Z
LAST-MODIFIED:20240518T152243Z
UID:10014809-1716026400-1716044400@www.visitthemalverns.org
SUMMARY:Malvern Library Spring Fayre
DESCRIPTION:Welcome to the Malvern Library Spring Fayre on 18 May 2024! Join us for a day filled with free fun activities for the children. The event will be held at Malvern Library\, so make sure to mark your calendars and bring your friends and family along. There will be something for everyone to enjoy\, from arts and crafts stalls to children’s activities. There will be a treasure hunt too with a free gift upon completion for the children\, and the cafe will also be open serving lunch\, snacks and sweet treats. Don’t miss out on this fantastic opportunity to celebrate the spring in your local library. \nYou don’t need to book a ticket. The event will be between 10am and 3pm for the arts and craft stalls and 11am and 1pm for the children’s activities.
URL:https://www.visitthemalverns.org/event/malvern-library-spring-fayre/
LOCATION:Malvern Library\, Graham Road\, Malvern\, Worcs\, WR14 2HU
CATEGORIES:Children,Community,Craft,Fair,Family,Food,Free,Malvern
ATTACH;FMTTYPE=image/jpeg:https://www.visitthemalverns.org/wp-content/uploads/2024/05/Mal-Lib-Spring-Fayre-2024.jpg
GEO:52.11288;-2.32671
X-APPLE-STRUCTURED-LOCATION;VALUE=URI;X-ADDRESS=Malvern Library Graham Road Malvern Worcs WR14 2HU;X-APPLE-RADIUS=500;X-TITLE=Graham Road:geo:-2.32671,52.11288
END:VEVENT
BEGIN:VEVENT
DTSTART;TZID=Europe/London:20240428T100000
DTEND;TZID=Europe/London:20240428T150000
DTSTAMP:20260421T155957
CREATED:20240120T143100Z
LAST-MODIFIED:20240124T171807Z
UID:10013608-1714298400-1714316400@www.visitthemalverns.org
SUMMARY:Vintage Fayre at The Fold
DESCRIPTION:Vintage Fayre at The Fold \n‘The Fold Vintage Fayre returns in 2024! \nWe host a curated selection of traders in vintage\, antique\, brocante and retro held undercover in our Market Barn\, from 10-3pm \nThe £1 entry fee goes towards funding our community farm here where we grow organic vegetables regeneratively! \nThere will be delicious street food traders\, music\, our artisan shops and studios are also open to browse and visit our community of artists and makers. \nThe Fold has beautiful nature trails and a lake to wander around\, you can bring your furry family members too as our whole site is dog friendly. Free parking onsite \nTraders can apply via www.thefold.org.uk/markets’ \nDates:\nSunday 28 April 10-3pm\nSunday 22 September 10-3pm
URL:https://www.visitthemalverns.org/event/vintage-fayre-at-the-fold/2024-04-28/
LOCATION:The Fold\, Bransford\, Worcester\, WR6 5JB\, United Kingdom
CATEGORIES:Children,Dog Friendly,Fair,Family,Market,Showground
ATTACH;FMTTYPE=image/png:https://www.visitthemalverns.org/wp-content/uploads/2023/07/vintage-fayre-square-new-e1694188709506.png
GEO:52.1717428;-2.2956841
X-APPLE-STRUCTURED-LOCATION;VALUE=URI;X-ADDRESS=The Fold Bransford Worcester WR6 5JB United Kingdom;X-APPLE-RADIUS=500;X-TITLE=Bransford:geo:-2.2956841,52.1717428
END:VEVENT
BEGIN:VEVENT
DTSTART;TZID=Europe/London:20231224T100000
DTEND;TZID=Europe/London:20231224T160000
DTSTAMP:20260421T155957
CREATED:20230713T112659Z
LAST-MODIFIED:20231007T152606Z
UID:10008615-1703412000-1703433600@www.visitthemalverns.org
SUMMARY:En Plein Air Art Market
DESCRIPTION:Local artists bring their art to Great Malvern’s Belle Vue Island. \nFree event on Belle Vue Island with entertainment taking place every Sunday (10am – 4pm) from 6 August – Christmas 2023. \n\nEvent supported by UK Government Levelling Up Fund #UKSPF
URL:https://www.visitthemalverns.org/event/en-plein-air-art-market/2023-12-24/
LOCATION:Belle Vue Island\, Belle Vue Terrace\, Malvern\, WR14 4PZ
CATEGORIES:Children,Community,Craft,Dog Friendly,Exhibition,Fair,Family,Free,Malvern
ATTACH;FMTTYPE=image/jpeg:https://www.visitthemalverns.org/wp-content/uploads/2021/08/Artists-1-e1717690252679.jpg
GEO:52.11144;-2.32976
X-APPLE-STRUCTURED-LOCATION;VALUE=URI;X-ADDRESS=Belle Vue Island Belle Vue Terrace Malvern WR14 4PZ;X-APPLE-RADIUS=500;X-TITLE=Belle Vue Terrace:geo:-2.32976,52.11144
END:VEVENT
BEGIN:VEVENT
DTSTART;TZID=Europe/London:20231217T100000
DTEND;TZID=Europe/London:20231217T160000
DTSTAMP:20260421T155957
CREATED:20230713T112659Z
LAST-MODIFIED:20231007T152606Z
UID:10008614-1702807200-1702828800@www.visitthemalverns.org
SUMMARY:En Plein Air Art Market
DESCRIPTION:Local artists bring their art to Great Malvern’s Belle Vue Island. \nFree event on Belle Vue Island with entertainment taking place every Sunday (10am – 4pm) from 6 August – Christmas 2023. \n\nEvent supported by UK Government Levelling Up Fund #UKSPF
URL:https://www.visitthemalverns.org/event/en-plein-air-art-market/2023-12-17/
LOCATION:Belle Vue Island\, Belle Vue Terrace\, Malvern\, WR14 4PZ
CATEGORIES:Children,Community,Craft,Dog Friendly,Exhibition,Fair,Family,Free,Malvern
ATTACH;FMTTYPE=image/jpeg:https://www.visitthemalverns.org/wp-content/uploads/2021/08/Artists-1-e1717690252679.jpg
GEO:52.11144;-2.32976
X-APPLE-STRUCTURED-LOCATION;VALUE=URI;X-ADDRESS=Belle Vue Island Belle Vue Terrace Malvern WR14 4PZ;X-APPLE-RADIUS=500;X-TITLE=Belle Vue Terrace:geo:-2.32976,52.11144
END:VEVENT
BEGIN:VEVENT
DTSTART;TZID=Europe/London:20231210T100000
DTEND;TZID=Europe/London:20231210T160000
DTSTAMP:20260421T155957
CREATED:20230713T112659Z
LAST-MODIFIED:20231007T152606Z
UID:10008613-1702202400-1702224000@www.visitthemalverns.org
SUMMARY:En Plein Air Art Market
DESCRIPTION:Local artists bring their art to Great Malvern’s Belle Vue Island. \nFree event on Belle Vue Island with entertainment taking place every Sunday (10am – 4pm) from 6 August – Christmas 2023. \n\nEvent supported by UK Government Levelling Up Fund #UKSPF
URL:https://www.visitthemalverns.org/event/en-plein-air-art-market/2023-12-10/
LOCATION:Belle Vue Island\, Belle Vue Terrace\, Malvern\, WR14 4PZ
CATEGORIES:Children,Community,Craft,Dog Friendly,Exhibition,Fair,Family,Free,Malvern
ATTACH;FMTTYPE=image/jpeg:https://www.visitthemalverns.org/wp-content/uploads/2021/08/Artists-1-e1717690252679.jpg
GEO:52.11144;-2.32976
X-APPLE-STRUCTURED-LOCATION;VALUE=URI;X-ADDRESS=Belle Vue Island Belle Vue Terrace Malvern WR14 4PZ;X-APPLE-RADIUS=500;X-TITLE=Belle Vue Terrace:geo:-2.32976,52.11144
END:VEVENT
BEGIN:VEVENT
DTSTART;TZID=Europe/London:20231203T100000
DTEND;TZID=Europe/London:20231203T160000
DTSTAMP:20260421T155957
CREATED:20230713T112659Z
LAST-MODIFIED:20231007T152606Z
UID:10008612-1701597600-1701619200@www.visitthemalverns.org
SUMMARY:En Plein Air Art Market
DESCRIPTION:Local artists bring their art to Great Malvern’s Belle Vue Island. \nFree event on Belle Vue Island with entertainment taking place every Sunday (10am – 4pm) from 6 August – Christmas 2023. \n\nEvent supported by UK Government Levelling Up Fund #UKSPF
URL:https://www.visitthemalverns.org/event/en-plein-air-art-market/2023-12-03/
LOCATION:Belle Vue Island\, Belle Vue Terrace\, Malvern\, WR14 4PZ
CATEGORIES:Children,Community,Craft,Dog Friendly,Exhibition,Fair,Family,Free,Malvern
ATTACH;FMTTYPE=image/jpeg:https://www.visitthemalverns.org/wp-content/uploads/2021/08/Artists-1-e1717690252679.jpg
GEO:52.11144;-2.32976
X-APPLE-STRUCTURED-LOCATION;VALUE=URI;X-ADDRESS=Belle Vue Island Belle Vue Terrace Malvern WR14 4PZ;X-APPLE-RADIUS=500;X-TITLE=Belle Vue Terrace:geo:-2.32976,52.11144
END:VEVENT
BEGIN:VEVENT
DTSTART;TZID=Europe/London:20231126T100000
DTEND;TZID=Europe/London:20231126T160000
DTSTAMP:20260421T155957
CREATED:20230713T112659Z
LAST-MODIFIED:20231007T152606Z
UID:10008611-1700992800-1701014400@www.visitthemalverns.org
SUMMARY:En Plein Air Art Market
DESCRIPTION:Local artists bring their art to Great Malvern’s Belle Vue Island. \nFree event on Belle Vue Island with entertainment taking place every Sunday (10am – 4pm) from 6 August – Christmas 2023. \n\nEvent supported by UK Government Levelling Up Fund #UKSPF
URL:https://www.visitthemalverns.org/event/en-plein-air-art-market/2023-11-26/
LOCATION:Belle Vue Island\, Belle Vue Terrace\, Malvern\, WR14 4PZ
CATEGORIES:Children,Community,Craft,Dog Friendly,Exhibition,Fair,Family,Free,Malvern
ATTACH;FMTTYPE=image/jpeg:https://www.visitthemalverns.org/wp-content/uploads/2021/08/Artists-1-e1717690252679.jpg
GEO:52.11144;-2.32976
X-APPLE-STRUCTURED-LOCATION;VALUE=URI;X-ADDRESS=Belle Vue Island Belle Vue Terrace Malvern WR14 4PZ;X-APPLE-RADIUS=500;X-TITLE=Belle Vue Terrace:geo:-2.32976,52.11144
END:VEVENT
BEGIN:VEVENT
DTSTART;TZID=Europe/London:20231119T100000
DTEND;TZID=Europe/London:20231119T160000
DTSTAMP:20260421T155957
CREATED:20230713T112659Z
LAST-MODIFIED:20231007T152606Z
UID:10008610-1700388000-1700409600@www.visitthemalverns.org
SUMMARY:En Plein Air Art Market
DESCRIPTION:Local artists bring their art to Great Malvern’s Belle Vue Island. \nFree event on Belle Vue Island with entertainment taking place every Sunday (10am – 4pm) from 6 August – Christmas 2023. \n\nEvent supported by UK Government Levelling Up Fund #UKSPF
URL:https://www.visitthemalverns.org/event/en-plein-air-art-market/2023-11-19/
LOCATION:Belle Vue Island\, Belle Vue Terrace\, Malvern\, WR14 4PZ
CATEGORIES:Children,Community,Craft,Dog Friendly,Exhibition,Fair,Family,Free,Malvern
ATTACH;FMTTYPE=image/jpeg:https://www.visitthemalverns.org/wp-content/uploads/2021/08/Artists-1-e1717690252679.jpg
GEO:52.11144;-2.32976
X-APPLE-STRUCTURED-LOCATION;VALUE=URI;X-ADDRESS=Belle Vue Island Belle Vue Terrace Malvern WR14 4PZ;X-APPLE-RADIUS=500;X-TITLE=Belle Vue Terrace:geo:-2.32976,52.11144
END:VEVENT
BEGIN:VEVENT
DTSTART;TZID=Europe/London:20231116T103000
DTEND;TZID=Europe/London:20231119T160000
DTSTAMP:20260421T155957
CREATED:20220929T082553Z
LAST-MODIFIED:20230610T164928Z
UID:10004807-1700130600-1700409600@www.visitthemalverns.org
SUMMARY:Blue Magpie Craft Fair 2023
DESCRIPTION:Contemporary Christmas Blue Magpie Craft Fair \nThurs 16 November – Sun 19 November 2023\n10:30am-4pm \nElmslie House organise two very popular\, contemporary craft fairs a year. A number of makers and crafters sell their fantastic makes in the beautifully restored Elmslie House. \nEnjoy homemade refreshments inside\, including light lunches at the café at Elmslie House\, or to take them away to savour at home. \nThere will be a changing line up of makers over each day of the fair – 26 each day\, with over 50 in total over the weekend featuring designer-makers who work in ceramics\, jewellery\, textiles\, glass and wood\, as well as artists and illustrators exhibiting at the Fair.
URL:https://www.visitthemalverns.org/event/blue-magpie-craft-fair-2/
LOCATION:Elmslie House\, WR14 3AG
CATEGORIES:Craft,Fair,Malvern,Market
ATTACH;FMTTYPE=image/jpeg:https://www.visitthemalverns.org/wp-content/uploads/2021/10/Elmslie1-e1726932188183.jpg
GEO:52.11065;-2.32279
X-APPLE-STRUCTURED-LOCATION;VALUE=URI;X-ADDRESS=Elmslie House WR14 3AG;X-APPLE-RADIUS=500;X-TITLE=WR14 3AG:geo:-2.32279,52.11065
END:VEVENT
BEGIN:VEVENT
DTSTART;TZID=Europe/London:20231112T100000
DTEND;TZID=Europe/London:20231112T160000
DTSTAMP:20260421T155957
CREATED:20230713T112659Z
LAST-MODIFIED:20231007T152606Z
UID:10008609-1699783200-1699804800@www.visitthemalverns.org
SUMMARY:En Plein Air Art Market
DESCRIPTION:Local artists bring their art to Great Malvern’s Belle Vue Island. \nFree event on Belle Vue Island with entertainment taking place every Sunday (10am – 4pm) from 6 August – Christmas 2023. \n\nEvent supported by UK Government Levelling Up Fund #UKSPF
URL:https://www.visitthemalverns.org/event/en-plein-air-art-market/2023-11-12/
LOCATION:Belle Vue Island\, Belle Vue Terrace\, Malvern\, WR14 4PZ
CATEGORIES:Children,Community,Craft,Dog Friendly,Exhibition,Fair,Family,Free,Malvern
ATTACH;FMTTYPE=image/jpeg:https://www.visitthemalverns.org/wp-content/uploads/2021/08/Artists-1-e1717690252679.jpg
GEO:52.11144;-2.32976
X-APPLE-STRUCTURED-LOCATION;VALUE=URI;X-ADDRESS=Belle Vue Island Belle Vue Terrace Malvern WR14 4PZ;X-APPLE-RADIUS=500;X-TITLE=Belle Vue Terrace:geo:-2.32976,52.11144
END:VEVENT
BEGIN:VEVENT
DTSTART;TZID=Europe/London:20231105T100000
DTEND;TZID=Europe/London:20231105T160000
DTSTAMP:20260421T155957
CREATED:20230713T112659Z
LAST-MODIFIED:20231007T152606Z
UID:10008608-1699178400-1699200000@www.visitthemalverns.org
SUMMARY:En Plein Air Art Market
DESCRIPTION:Local artists bring their art to Great Malvern’s Belle Vue Island. \nFree event on Belle Vue Island with entertainment taking place every Sunday (10am – 4pm) from 6 August – Christmas 2023. \n\nEvent supported by UK Government Levelling Up Fund #UKSPF
URL:https://www.visitthemalverns.org/event/en-plein-air-art-market/2023-11-05/
LOCATION:Belle Vue Island\, Belle Vue Terrace\, Malvern\, WR14 4PZ
CATEGORIES:Children,Community,Craft,Dog Friendly,Exhibition,Fair,Family,Free,Malvern
ATTACH;FMTTYPE=image/jpeg:https://www.visitthemalverns.org/wp-content/uploads/2021/08/Artists-1-e1717690252679.jpg
GEO:52.11144;-2.32976
X-APPLE-STRUCTURED-LOCATION;VALUE=URI;X-ADDRESS=Belle Vue Island Belle Vue Terrace Malvern WR14 4PZ;X-APPLE-RADIUS=500;X-TITLE=Belle Vue Terrace:geo:-2.32976,52.11144
END:VEVENT
BEGIN:VEVENT
DTSTART;TZID=Europe/London:20231029T100000
DTEND;TZID=Europe/London:20231029T160000
DTSTAMP:20260421T155957
CREATED:20230713T112659Z
LAST-MODIFIED:20231007T152606Z
UID:10008607-1698573600-1698595200@www.visitthemalverns.org
SUMMARY:En Plein Air Art Market
DESCRIPTION:Local artists bring their art to Great Malvern’s Belle Vue Island. \nFree event on Belle Vue Island with entertainment taking place every Sunday (10am – 4pm) from 6 August – Christmas 2023. \n\nEvent supported by UK Government Levelling Up Fund #UKSPF
URL:https://www.visitthemalverns.org/event/en-plein-air-art-market/2023-10-29/
LOCATION:Belle Vue Island\, Belle Vue Terrace\, Malvern\, WR14 4PZ
CATEGORIES:Children,Community,Craft,Dog Friendly,Exhibition,Fair,Family,Free,Malvern
ATTACH;FMTTYPE=image/jpeg:https://www.visitthemalverns.org/wp-content/uploads/2021/08/Artists-1-e1717690252679.jpg
GEO:52.11144;-2.32976
X-APPLE-STRUCTURED-LOCATION;VALUE=URI;X-ADDRESS=Belle Vue Island Belle Vue Terrace Malvern WR14 4PZ;X-APPLE-RADIUS=500;X-TITLE=Belle Vue Terrace:geo:-2.32976,52.11144
END:VEVENT
BEGIN:VEVENT
DTSTART;TZID=Europe/London:20231022T100000
DTEND;TZID=Europe/London:20231022T160000
DTSTAMP:20260421T155957
CREATED:20230713T112659Z
LAST-MODIFIED:20231007T152606Z
UID:10008606-1697968800-1697990400@www.visitthemalverns.org
SUMMARY:En Plein Air Art Market
DESCRIPTION:Local artists bring their art to Great Malvern’s Belle Vue Island. \nFree event on Belle Vue Island with entertainment taking place every Sunday (10am – 4pm) from 6 August – Christmas 2023. \n\nEvent supported by UK Government Levelling Up Fund #UKSPF
URL:https://www.visitthemalverns.org/event/en-plein-air-art-market/2023-10-22/
LOCATION:Belle Vue Island\, Belle Vue Terrace\, Malvern\, WR14 4PZ
CATEGORIES:Children,Community,Craft,Dog Friendly,Exhibition,Fair,Family,Free,Malvern
ATTACH;FMTTYPE=image/jpeg:https://www.visitthemalverns.org/wp-content/uploads/2021/08/Artists-1-e1717690252679.jpg
GEO:52.11144;-2.32976
X-APPLE-STRUCTURED-LOCATION;VALUE=URI;X-ADDRESS=Belle Vue Island Belle Vue Terrace Malvern WR14 4PZ;X-APPLE-RADIUS=500;X-TITLE=Belle Vue Terrace:geo:-2.32976,52.11144
END:VEVENT
BEGIN:VEVENT
DTSTART;TZID=Europe/London:20231021T100000
DTEND;TZID=Europe/London:20231021T160000
DTSTAMP:20260421T155957
CREATED:20230315T170838Z
LAST-MODIFIED:20230315T171943Z
UID:10005884-1697882400-1697904000@www.visitthemalverns.org
SUMMARY:Three Shires Craft Guild Fair
DESCRIPTION:The Three Shires Craft Guild was formed in 2001 to provide an outlet for talented crafters to present their designs and handmade goods for sale to the public. The guild is made up of friendly and skilled people who care about the uniqueness of their work and customers can be assured that they are buying original handmade and unusual local items. \nMalvern Fairs 2023\nSaturday 15 April\, 10am – 4pm\nLyttelton Well Main Hall\, 6 Church Street \nSaturday 21 October\, 10am – 4pm\nLyttelton Well Main Hall\, 6 Church Street \nThe guild will also be holding fairs in Upton-upon-Severn in 2023.
URL:https://www.visitthemalverns.org/event/three-shires-craft-guild-fair/2023-10-21/
LOCATION:The Lyttelton Well Hall\, 6 Church Street\, Malvern\, WR14 2AY
CATEGORIES:Craft,Fair,Malvern,Market,Shopping
ATTACH;FMTTYPE=image/jpeg:https://www.visitthemalverns.org/wp-content/uploads/2023/03/Pixabay-brushes-1200-compressed.jpg
GEO:52.11127;-2.32785
X-APPLE-STRUCTURED-LOCATION;VALUE=URI;X-ADDRESS=The Lyttelton Well Hall 6 Church Street Malvern WR14 2AY;X-APPLE-RADIUS=500;X-TITLE=6 Church Street:geo:-2.32785,52.11127
END:VEVENT
BEGIN:VEVENT
DTSTART;TZID=Europe/London:20231015T100000
DTEND;TZID=Europe/London:20231015T160000
DTSTAMP:20260421T155957
CREATED:20230713T112659Z
LAST-MODIFIED:20231007T152606Z
UID:10008605-1697364000-1697385600@www.visitthemalverns.org
SUMMARY:En Plein Air Art Market
DESCRIPTION:Local artists bring their art to Great Malvern’s Belle Vue Island. \nFree event on Belle Vue Island with entertainment taking place every Sunday (10am – 4pm) from 6 August – Christmas 2023. \n\nEvent supported by UK Government Levelling Up Fund #UKSPF
URL:https://www.visitthemalverns.org/event/en-plein-air-art-market/2023-10-15/
LOCATION:Belle Vue Island\, Belle Vue Terrace\, Malvern\, WR14 4PZ
CATEGORIES:Children,Community,Craft,Dog Friendly,Exhibition,Fair,Family,Free,Malvern
ATTACH;FMTTYPE=image/jpeg:https://www.visitthemalverns.org/wp-content/uploads/2021/08/Artists-1-e1717690252679.jpg
GEO:52.11144;-2.32976
X-APPLE-STRUCTURED-LOCATION;VALUE=URI;X-ADDRESS=Belle Vue Island Belle Vue Terrace Malvern WR14 4PZ;X-APPLE-RADIUS=500;X-TITLE=Belle Vue Terrace:geo:-2.32976,52.11144
END:VEVENT
BEGIN:VEVENT
DTSTART;TZID=Europe/London:20231008T100000
DTEND;TZID=Europe/London:20231008T160000
DTSTAMP:20260421T155957
CREATED:20230713T112659Z
LAST-MODIFIED:20231007T152606Z
UID:10008604-1696759200-1696780800@www.visitthemalverns.org
SUMMARY:En Plein Air Art Market
DESCRIPTION:Local artists bring their art to Great Malvern’s Belle Vue Island. \nFree event on Belle Vue Island with entertainment taking place every Sunday (10am – 4pm) from 6 August – Christmas 2023. \n\nEvent supported by UK Government Levelling Up Fund #UKSPF
URL:https://www.visitthemalverns.org/event/en-plein-air-art-market/2023-10-08/
LOCATION:Belle Vue Island\, Belle Vue Terrace\, Malvern\, WR14 4PZ
CATEGORIES:Children,Community,Craft,Dog Friendly,Exhibition,Fair,Family,Free,Malvern
ATTACH;FMTTYPE=image/jpeg:https://www.visitthemalverns.org/wp-content/uploads/2021/08/Artists-1-e1717690252679.jpg
GEO:52.11144;-2.32976
X-APPLE-STRUCTURED-LOCATION;VALUE=URI;X-ADDRESS=Belle Vue Island Belle Vue Terrace Malvern WR14 4PZ;X-APPLE-RADIUS=500;X-TITLE=Belle Vue Terrace:geo:-2.32976,52.11144
END:VEVENT
BEGIN:VEVENT
DTSTART;TZID=Europe/London:20231001T100000
DTEND;TZID=Europe/London:20231001T160000
DTSTAMP:20260421T155957
CREATED:20230713T112659Z
LAST-MODIFIED:20231007T152606Z
UID:10008603-1696154400-1696176000@www.visitthemalverns.org
SUMMARY:En Plein Air Art Market
DESCRIPTION:Local artists bring their art to Great Malvern’s Belle Vue Island. \nFree event on Belle Vue Island with entertainment taking place every Sunday (10am – 4pm) from 6 August – Christmas 2023. \n\nEvent supported by UK Government Levelling Up Fund #UKSPF
URL:https://www.visitthemalverns.org/event/en-plein-air-art-market/2023-10-01/
LOCATION:Belle Vue Island\, Belle Vue Terrace\, Malvern\, WR14 4PZ
CATEGORIES:Children,Community,Craft,Dog Friendly,Exhibition,Fair,Family,Free,Malvern
ATTACH;FMTTYPE=image/jpeg:https://www.visitthemalverns.org/wp-content/uploads/2021/08/Artists-1-e1717690252679.jpg
GEO:52.11144;-2.32976
X-APPLE-STRUCTURED-LOCATION;VALUE=URI;X-ADDRESS=Belle Vue Island Belle Vue Terrace Malvern WR14 4PZ;X-APPLE-RADIUS=500;X-TITLE=Belle Vue Terrace:geo:-2.32976,52.11144
END:VEVENT
END:VCALENDAR