BEGIN:VCALENDAR
VERSION:2.0
PRODID:-//Visit The Malverns - ECPv6.15.20//NONSGML v1.0//EN
CALSCALE:GREGORIAN
METHOD:PUBLISH
X-WR-CALNAME:Visit The Malverns
X-ORIGINAL-URL:https://www.visitthemalverns.org
X-WR-CALDESC:Events for Visit The Malverns
REFRESH-INTERVAL;VALUE=DURATION:PT1H
X-Robots-Tag:noindex
X-PUBLISHED-TTL:PT1H
BEGIN:VTIMEZONE
TZID:Europe/London
BEGIN:DAYLIGHT
TZOFFSETFROM:+0000
TZOFFSETTO:+0100
TZNAME:BST
DTSTART:20250330T010000
END:DAYLIGHT
BEGIN:STANDARD
TZOFFSETFROM:+0100
TZOFFSETTO:+0000
TZNAME:GMT
DTSTART:20251026T010000
END:STANDARD
BEGIN:DAYLIGHT
TZOFFSETFROM:+0000
TZOFFSETTO:+0100
TZNAME:BST
DTSTART:20260329T010000
END:DAYLIGHT
BEGIN:STANDARD
TZOFFSETFROM:+0100
TZOFFSETTO:+0000
TZNAME:GMT
DTSTART:20261025T010000
END:STANDARD
BEGIN:DAYLIGHT
TZOFFSETFROM:+0000
TZOFFSETTO:+0100
TZNAME:BST
DTSTART:20270328T010000
END:DAYLIGHT
BEGIN:STANDARD
TZOFFSETFROM:+0100
TZOFFSETTO:+0000
TZNAME:GMT
DTSTART:20271031T010000
END:STANDARD
END:VTIMEZONE
BEGIN:VEVENT
DTSTART;TZID=Europe/London:20260216T100000
DTEND;TZID=Europe/London:20260220T113000
DTSTAMP:20260419T170746
CREATED:20260214T164639Z
LAST-MODIFIED:20260214T164639Z
UID:10022712-1771236000-1771587000@www.visitthemalverns.org
SUMMARY:February Half Term at Bennetts Willow Barn
DESCRIPTION:Children can enjoy a different activity each day (Monday – Friday) at Bennetts Willow Barn this February half-term (2026). \nMonday 16 February\, 10am – 2pm\nBouncy Castle Fun Day\nThe farm café will be open as normal from 9.30am – 3.30pm\, serving up all your favourites. These days are always popular\, so booking a table in the café to guarantee your spot is advised. Entry to the bouncy castle in the barn is simple: spend at least £5 in the café per child to give them unlimited play throughout the session. No pre-booking for the bouncy castle is needed\, but it booking online helps the hosts know how many people to expect. \nTuesday 17 February\, 10am – 11am & 11.30am – 12.30pm\nGet Glitz Discos\nA high-energy kids disco that’s guaranteed to burn off some half-term energy and put a big smile on little faces. Tickets cost £8 plus booking fee – spaces are limited and these sessions always book up quickly. \nWednesday 18 February\, 10am – 2pm\nBiscuit Decorating\nDelicious creative fun at this family-friendly drop-in activity. Each child gets two homemade biscuits plus all the icing and sprinkles they need to make them super fun: £6 per child for 2 biscuits plus edible decorating supplies. Booking not required\, but is available. \nThursday 19 February\, 10am\, 11.30am & 1pm\nAnimal Encounters By DWAEC\nThe Dinosaur\, Wildlife & Education Centre (DWAEC)\, as seen at the Malvern Autumn Show\, visits Willow Barn for a fun and interactive animal presentation that the whole family will enjoy! These events are always popular\, so book soon: £8 per person (child or adult; children under 2 are free) with 10% discount on bookings for at least 4 people. \nFriday 20 February\, 10.30am – 11.30am\nK-Pop Demon Hunters Party\nPrepare for an hour of high-energy fun as a K-Pop Demon Hunters Party lands at the barn! This action-packed experience is perfect for little K-Pop fans who love dancing\, creativity\, and a bit of sparkle and includes: dancing games & interactive fun – tailored on the day to suit the children’s ages and energy; creative craft session plus glitter tattoos with the characters (approximately 15 minutes); and a photo opportunity with the characters. Tickets cost £10 – book early to avoid missing out. \nPlease read the full details of each event on the Bennetts Willow Barn website before booking.
URL:https://www.visitthemalverns.org/event/february-half-term-at-bennetts-willow-barn/
LOCATION:Bennetts Willow Barn\, Manor Farm\, Worcester\, WR2 4BS
CATEGORIES:Children,Craft,Dance,Festival,Food,Music,Talk
ATTACH;FMTTYPE=image/jpeg:https://www.visitthemalverns.org/wp-content/uploads/2026/02/Fun-photo-by-Jason-Leung-on-Unsplash.jpg
GEO:52.1725339;-2.2364425
X-APPLE-STRUCTURED-LOCATION;VALUE=URI;X-ADDRESS=Bennetts Willow Barn Manor Farm Worcester WR2 4BS;X-APPLE-RADIUS=500;X-TITLE=Manor Farm:geo:-2.2364425,52.1725339
END:VEVENT
END:VCALENDAR