BEGIN:VCALENDAR
VERSION:2.0
PRODID:-//Visit The Malverns - ECPv6.15.20//NONSGML v1.0//EN
CALSCALE:GREGORIAN
METHOD:PUBLISH
X-WR-CALNAME:Visit The Malverns
X-ORIGINAL-URL:https://www.visitthemalverns.org
X-WR-CALDESC:Events for Visit The Malverns
REFRESH-INTERVAL;VALUE=DURATION:PT1H
X-Robots-Tag:noindex
X-PUBLISHED-TTL:PT1H
BEGIN:VTIMEZONE
TZID:Europe/London
BEGIN:DAYLIGHT
TZOFFSETFROM:+0000
TZOFFSETTO:+0100
TZNAME:BST
DTSTART:20250330T010000
END:DAYLIGHT
BEGIN:STANDARD
TZOFFSETFROM:+0100
TZOFFSETTO:+0000
TZNAME:GMT
DTSTART:20251026T010000
END:STANDARD
BEGIN:DAYLIGHT
TZOFFSETFROM:+0000
TZOFFSETTO:+0100
TZNAME:BST
DTSTART:20260329T010000
END:DAYLIGHT
BEGIN:STANDARD
TZOFFSETFROM:+0100
TZOFFSETTO:+0000
TZNAME:GMT
DTSTART:20261025T010000
END:STANDARD
BEGIN:DAYLIGHT
TZOFFSETFROM:+0000
TZOFFSETTO:+0100
TZNAME:BST
DTSTART:20270328T010000
END:DAYLIGHT
BEGIN:STANDARD
TZOFFSETFROM:+0100
TZOFFSETTO:+0000
TZNAME:GMT
DTSTART:20271031T010000
END:STANDARD
END:VTIMEZONE
BEGIN:VEVENT
DTSTART;TZID=Europe/London:20261003T100000
DTEND;TZID=Europe/London:20261003T163000
DTSTAMP:20260423T233329
CREATED:20230809T115302Z
LAST-MODIFIED:20260109T155926Z
UID:10006496-1791021600-1791045000@www.visitthemalverns.org
SUMMARY:Applefest Tenbury Wells 2026
DESCRIPTION:Each year Tenbury Wells\, The Town in the Orchard\, celebrates the Mighty Apple with a one day event held on the Town’s Burgage Recreational Area on the first Saturday in October. There are demonstrations\, arts & crafts\, food stalls and refreshments. Don’t miss the apple marquee with Frank Mathews display of over 250 apple varieties. There will be music\, entertainment and children’s activities.
URL:https://www.visitthemalverns.org/event/applefest-tenbury-wells/
LOCATION:The Burgage\, Tenbury Wells\, WR15 8SF
CATEGORIES:Children,Community,Craft,Dog Friendly,Fair,Family,Festival,History,Market,Shopping,Tenbury Wells
ATTACH;FMTTYPE=image/jpeg:https://www.visitthemalverns.org/wp-content/uploads/2021/09/Tenbury-Applefest-istock-image-compressed.jpg
GEO:52.3106428;-2.5926385
X-APPLE-STRUCTURED-LOCATION;VALUE=URI;X-ADDRESS=The Burgage Tenbury Wells WR15 8SF;X-APPLE-RADIUS=500;X-TITLE=Tenbury Wells\, WR15 8SF:geo:-2.5926385,52.3106428
END:VEVENT
END:VCALENDAR