BEGIN:VCALENDAR
VERSION:2.0
PRODID:-//Visit The Malverns - ECPv6.15.20//NONSGML v1.0//EN
CALSCALE:GREGORIAN
METHOD:PUBLISH
X-WR-CALNAME:Visit The Malverns
X-ORIGINAL-URL:https://www.visitthemalverns.org
X-WR-CALDESC:Events for Visit The Malverns
REFRESH-INTERVAL;VALUE=DURATION:PT1H
X-Robots-Tag:noindex
X-PUBLISHED-TTL:PT1H
BEGIN:VTIMEZONE
TZID:Europe/London
BEGIN:DAYLIGHT
TZOFFSETFROM:+0000
TZOFFSETTO:+0100
TZNAME:BST
DTSTART:20250330T010000
END:DAYLIGHT
BEGIN:STANDARD
TZOFFSETFROM:+0100
TZOFFSETTO:+0000
TZNAME:GMT
DTSTART:20251026T010000
END:STANDARD
BEGIN:DAYLIGHT
TZOFFSETFROM:+0000
TZOFFSETTO:+0100
TZNAME:BST
DTSTART:20260329T010000
END:DAYLIGHT
BEGIN:STANDARD
TZOFFSETFROM:+0100
TZOFFSETTO:+0000
TZNAME:GMT
DTSTART:20261025T010000
END:STANDARD
BEGIN:DAYLIGHT
TZOFFSETFROM:+0000
TZOFFSETTO:+0100
TZNAME:BST
DTSTART:20270328T010000
END:DAYLIGHT
BEGIN:STANDARD
TZOFFSETFROM:+0100
TZOFFSETTO:+0000
TZNAME:GMT
DTSTART:20271031T010000
END:STANDARD
END:VTIMEZONE
BEGIN:VEVENT
DTSTART;TZID=Europe/London:20260306T000000
DTEND;TZID=Europe/London:20260321T235900
DTSTAMP:20260419T171110
CREATED:20240114T154952Z
LAST-MODIFIED:20251124T121109Z
UID:10004079-1772755200-1774137540@www.visitthemalverns.org
SUMMARY:Borderlines Film Festival 2026
DESCRIPTION:The Borderlines Film Festival returns from 6 – 21 March 2026 at multiple venues throughout Herefordshire\, Shropshire\, Malvern and The Marches. Check the website for the latest updates.
URL:https://www.visitthemalverns.org/event/borderlines-film-festival-2025/
CATEGORIES:Cinema,Festival,Film
ATTACH;FMTTYPE=image/jpeg:https://www.visitthemalverns.org/wp-content/uploads/2021/07/iStock-1191001701-cinema-resized-1.jpg
END:VEVENT
BEGIN:VEVENT
DTSTART;TZID=Europe/London:20260306T193000
DTEND;TZID=Europe/London:20260319T223000
DTSTAMP:20260419T171110
CREATED:20260112T113444Z
LAST-MODIFIED:20260112T113444Z
UID:10022112-1772825400-1773959400@www.visitthemalverns.org
SUMMARY:Regal Folk Festival 2026
DESCRIPTION:The Regal Folk Festival features a diverse line up of talented folk musicians\, the festival guarantees captivating performances and a vibrant celebration of folk music.
URL:https://www.visitthemalverns.org/event/regal-folk-festival-2026/
LOCATION:Regal Tenbury Wells\, 49 Teme Street\, Tenbury Wells WR15 8AE
CATEGORIES:Concert,Festival,Music,Tenbury Wells
ATTACH;FMTTYPE=image/jpeg:https://www.visitthemalverns.org/wp-content/uploads/2021/08/iStock-688015678-music-Resized-1.jpg
GEO:52.3124173;-2.5943612
X-APPLE-STRUCTURED-LOCATION;VALUE=URI;X-ADDRESS=Regal Tenbury Wells 49 Teme Street Tenbury Wells WR15 8AE;X-APPLE-RADIUS=500;X-TITLE=49 Teme Street\, Tenbury Wells WR15 8AE:geo:-2.5943612,52.3124173
END:VEVENT
BEGIN:VEVENT
DTSTART;TZID=Europe/London:20260310T103000
DTEND;TZID=Europe/London:20260310T123000
DTSTAMP:20260419T171110
CREATED:20260206T160217Z
LAST-MODIFIED:20260206T160217Z
UID:10022508-1773138600-1773145800@www.visitthemalverns.org
SUMMARY:Is This Thing On? (12A) (Borderlines Film Festival)
DESCRIPTION:Will Arnett plays a rookie stand-up comic\, freshly divorced\, in this warm\, bittersweet comedy. \nAs their marriage quietly unravels\, Alex dips into the New York comedy scene while Tess confronts the sacrifices she made for their family. The split is largely amicable\, but stresses and strains persist around co parenting\, identity shifts – and whether old love can take new form. Originating in the real-life experience of British comedian John Bishop and co-written by Arnett (Arrested Development) and Cooper (A Star is Born\, Maestro)\, this is a real charmer of a picture\, loose and funny\, about the vicissitudes of middle age. \nDIRECTOR: Bradley Cooper\nSTARRING: Will Arnett\, Laura Dern\, Andra Day\, Bradley Cooper\, Amy Sedaris\nUS\, 2025\n2 HOURS 4 MINUTES\nENGLISH \nShow times\nPlease note: Film starts at advertised time\nFriday 6 March 2026 at 7.15pm – Studio One\nTuesday 10 March 2026 at 10.30am – Studio One (Captioned)\nWednesday 11 March 2026 at 7.30pm – Cinema
URL:https://www.visitthemalverns.org/event/is-this-thing-on-12a-borderlines-film-festival/2026-03-10/
LOCATION:Malvern Theatres\, WR14 3HB
CATEGORIES:Cinema,Festival,Film,Malvern
ATTACH;FMTTYPE=image/jpeg:https://www.visitthemalverns.org/wp-content/uploads/2026/02/Borderlines-2026.jpg
GEO:52.1106766;-2.3267752
X-APPLE-STRUCTURED-LOCATION;VALUE=URI;X-ADDRESS=Malvern Theatres WR14 3HB;X-APPLE-RADIUS=500;X-TITLE=WR14 3HB:geo:-2.3267752,52.1106766
END:VEVENT
BEGIN:VEVENT
DTSTART;TZID=Europe/London:20260310T110000
DTEND;TZID=Europe/London:20260310T130000
DTSTAMP:20260419T171110
CREATED:20260206T151635Z
LAST-MODIFIED:20260206T151635Z
UID:10022497-1773140400-1773147600@www.visitthemalverns.org
SUMMARY:H is for Hawk (12A) (Borderlines Film Festival)
DESCRIPTION:Claire Foy (Wolf Hall\, The Crown) stars in the adaptation of Helen Macdonald’s acclaimed memoir. \nCambridge academic Helen goes to pieces after the loss of her beloved father. For recovery\, she retreats and turns to nature. Adopting and training a northern goshawk\, she enters a radically challenging but consoling dynamic with the stubborn\, ferocious bird she names Mabel. Lowthorpe’s arresting adaptation boasts magnificent footage of its feathered co-star and a career-best performance from Foy as she reflects on the wilds of grief and the tenacity and indifference of the natural world. \nDIRECTOR: Philippa Lowthorpe\nSTARRING: Claire Foy\, Brendan Gleeson\, Sam Spruell\nUK/US\, 2025\n1 HOUR 55 MINUTES\nENGLISH \nShow times\nPlease note: Film starts at advertised time\nFriday 6 March 2026 at 4.45pm\nSaturday 7 March 2026 at 11.00am\nSunday 8 March 2026 at 4.00pm\nTuesday 10 March 2026 at 11.00am
URL:https://www.visitthemalverns.org/event/h-is-for-hawk-12a-borderlines-film-festival/2026-03-10/
LOCATION:Malvern Theatres\, WR14 3HB
CATEGORIES:Cinema,Festival,Film,Malvern
ATTACH;FMTTYPE=image/jpeg:https://www.visitthemalverns.org/wp-content/uploads/2026/02/Borderlines-2026.jpg
GEO:52.1106766;-2.3267752
X-APPLE-STRUCTURED-LOCATION;VALUE=URI;X-ADDRESS=Malvern Theatres WR14 3HB;X-APPLE-RADIUS=500;X-TITLE=WR14 3HB:geo:-2.3267752,52.1106766
END:VEVENT
BEGIN:VEVENT
DTSTART;TZID=Europe/London:20260310T133000
DTEND;TZID=Europe/London:20260310T153000
DTSTAMP:20260419T171110
CREATED:20260206T153402Z
LAST-MODIFIED:20260206T153402Z
UID:10022501-1773149400-1773156600@www.visitthemalverns.org
SUMMARY:Rental Family (12A) (Borderlines Film Festival)
DESCRIPTION:Brendan Foster gives a sympathetic portrayal of a struggling American actor searching for a connection in Tokyo. \nPhillip Vanderpleog lives in the Japanese capital. Running out of work options\, he is employed by a ‘rental family’ company\, which provides clients with actors who stand in for absent loved ones. Sceptical at first\, Phillip discovers in these roles\, opportunities and relationships previously missing from his life. However\, the line between performance and reality becomes increasingly blurred\, as Phillip immerses himself a little too much in the roles he is hired to play. Full of visual comedy\, this is a heart-warming film that embodies the human need to make attachments. \nDIRECTOR: Hikari\nSTARRING: Brendan Fraser\, Takehiro Hira\, Mari Yamamoto\, Shannon Mahina Gorman\, Akira Emoto.\nUS\, 2025\n1 HOUR 50 MINUTES\nJAPANESE/ENGLISH + ENGLISH SUBTITLES \nShow times\nPlease note: Film starts at advertised time\nFriday 6 March 2026 at 2.00pm – Cinema\nTuesday 10 March 2026 at 1.30pm – Studio One
URL:https://www.visitthemalverns.org/event/rental-family-12a-borderlines-film-festival/2026-03-10/
LOCATION:Malvern Theatres\, WR14 3HB
CATEGORIES:Cinema,Festival,Film,Malvern
ATTACH;FMTTYPE=image/jpeg:https://www.visitthemalverns.org/wp-content/uploads/2026/02/Borderlines-2026.jpg
GEO:52.1106766;-2.3267752
X-APPLE-STRUCTURED-LOCATION;VALUE=URI;X-ADDRESS=Malvern Theatres WR14 3HB;X-APPLE-RADIUS=500;X-TITLE=WR14 3HB:geo:-2.3267752,52.1106766
END:VEVENT
BEGIN:VEVENT
DTSTART;TZID=Europe/London:20260310T134500
DTEND;TZID=Europe/London:20260310T150000
DTSTAMP:20260419T171110
CREATED:20260206T154903Z
LAST-MODIFIED:20260206T155155Z
UID:10022503-1773150300-1773154800@www.visitthemalverns.org
SUMMARY:Peter Hujar’s Day (12A) (Borderlines Film Festival)
DESCRIPTION:Ben Whishaw and Rebecca Hall star in Ira Sachs’ richly cinematic rendering of a real conversation between iconic photographer Peter Hujar and writer and artist Linda Rosenkrantz. \nIn 1974\, photographer Peter Hujar describes the routines and rituals that define an artist’s life with wit and spontaneity\, capturing a single day’s activities from interactions with cultural icons of the day\, including Allen Ginsberg\, William S. Burroughs and Susan Sontag and the texture and energy of downtown New York in its heyday. Elegant and intimate\, this is both a masterful portrait of a time and place\, and a captivating film about the way art emerges from the intimate details of everyday life. \nDIRECTOR: Ira Sachs\nSTARRING: Rebecca Hall\, Ben Whishaw\nUS/GERMANY/UK/SPAIN\n1 HOUR 16 MINUTES\nENGLISH \nShow times\nPlease note: Film starts at advertised time\nFriday 6 March 2026 at 2.15pm – Studio One\nTuesday 10 March 2026 at 1.45pm – Cinema
URL:https://www.visitthemalverns.org/event/peter-hujars-day-12a-borderlines-film-festival/2026-03-10/
LOCATION:Malvern Theatres\, WR14 3HB
CATEGORIES:Cinema,Festival,Film,Malvern
ATTACH;FMTTYPE=image/jpeg:https://www.visitthemalverns.org/wp-content/uploads/2026/02/Borderlines-2026.jpg
GEO:52.1106766;-2.3267752
X-APPLE-STRUCTURED-LOCATION;VALUE=URI;X-ADDRESS=Malvern Theatres WR14 3HB;X-APPLE-RADIUS=500;X-TITLE=WR14 3HB:geo:-2.3267752,52.1106766
END:VEVENT
BEGIN:VEVENT
DTSTART;TZID=Europe/London:20260310T160000
DTEND;TZID=Europe/London:20260310T183000
DTSTAMP:20260419T171110
CREATED:20260206T170413Z
LAST-MODIFIED:20260206T170413Z
UID:10022538-1773158400-1773167400@www.visitthemalverns.org
SUMMARY:Resurrection (15) (Borderlines Film Festival)
DESCRIPTION:Virtuoso Chinese director Bi Gan (Long Day’s Journey Into Night) returns with a film that heralds the death of cinema while magnificently celebrating it. \nSpanning a century\, Resurrection divides into six chapters\, each taking place in a specific cinematic era and genre\, from actualities\, through expressionism and noir to the vampire film. In the future\, humans have attained immortality – as long as they don’t dream. The dissident or Deliriant (Jackson Yee) shapeshifts as he time-travels through an odyssey that keeps pace with Chinese history. Unlike anything else\, this striking ode to the power of cinema has sequences that are absolutely breathtaking. It cries out for the big screen; sit back and dare to dream deliriously. \nDIRECTOR: Bi Gan\nSTARRING: Jackson Yee\, Shu Qi\nCHINA/FRANCE\, 2025\n2 HOUR 39 MINUTES\nCHINESE + ENGLISH SUBTITLES
URL:https://www.visitthemalverns.org/event/resurrection-15-borderlines-film-festival/
LOCATION:Malvern Theatres\, WR14 3HB
CATEGORIES:Cinema,Festival,Film,Malvern
ATTACH;FMTTYPE=image/jpeg:https://www.visitthemalverns.org/wp-content/uploads/2026/02/Borderlines-2026.jpg
GEO:52.1106766;-2.3267752
X-APPLE-STRUCTURED-LOCATION;VALUE=URI;X-ADDRESS=Malvern Theatres WR14 3HB;X-APPLE-RADIUS=500;X-TITLE=WR14 3HB:geo:-2.3267752,52.1106766
END:VEVENT
BEGIN:VEVENT
DTSTART;TZID=Europe/London:20260310T193000
DTEND;TZID=Europe/London:20260310T220000
DTSTAMP:20260419T171110
CREATED:20260206T150852Z
LAST-MODIFIED:20260206T150852Z
UID:10022492-1773171000-1773180000@www.visitthemalverns.org
SUMMARY:The Secret Agent (15) (Borderlines Film Festival)
DESCRIPTION:Master filmmaker Kleber Mendonça Filho (Aquarius\, Bacurau) delivers a rich\, novelistic political thriller. \n1977\, Brazil: Amid the revelry of Carnival\, widower Marcelo arrives in vibrant\, violent Recife. A technology researcher who suddenly finds himself an unwitting target in the heart of the dictatorship’s political maelstrom\, Marcelo is on the run from mercenary killers and the ghosts of the past. With threats mounting\, Marcelo\, assisted by compatriots in the country’s growing underground resistance\, remains focused on escaping Brazil with his young son. Steeped in history\, The Secret Agent also feels remarkably contemporary\, depicting a world of everyday corruption\, threat and political turmoil that speaks to the present moment. \nDIRECTOR: Kleber Mendonça Filho\nSTARRING: Wagner Moura\, Maria Fernanda Cândido\, Gabriel Leone\nBRAZIL/FRANCE/GERMANY\, 2025\n2 HOURS 41 MINUTES\nPORTUGUESE + ENGLISH SUBTITLES \nShow times\nPlease note: Film starts at advertised time\nSunday 8 March 2026 at 3.15pm – Studio One\nTuesday 10 March 2026 at 7.30pm – Cinema\nThursday 12 March 2026 at 1.15pm – Cinema
URL:https://www.visitthemalverns.org/event/the-secret-agent-15-borderlines-film-festival/2026-03-10/
LOCATION:Malvern Theatres\, WR14 3HB
CATEGORIES:Cinema,Festival,Film,Malvern
ATTACH;FMTTYPE=image/jpeg:https://www.visitthemalverns.org/wp-content/uploads/2026/02/Borderlines-2026.jpg
GEO:52.1106766;-2.3267752
X-APPLE-STRUCTURED-LOCATION;VALUE=URI;X-ADDRESS=Malvern Theatres WR14 3HB;X-APPLE-RADIUS=500;X-TITLE=WR14 3HB:geo:-2.3267752,52.1106766
END:VEVENT
END:VCALENDAR