BEGIN:VCALENDAR
VERSION:2.0
PRODID:-//Visit The Malverns - ECPv6.15.20//NONSGML v1.0//EN
CALSCALE:GREGORIAN
METHOD:PUBLISH
X-WR-CALNAME:Visit The Malverns
X-ORIGINAL-URL:https://www.visitthemalverns.org
X-WR-CALDESC:Events for Visit The Malverns
REFRESH-INTERVAL;VALUE=DURATION:PT1H
X-Robots-Tag:noindex
X-PUBLISHED-TTL:PT1H
BEGIN:VTIMEZONE
TZID:Europe/London
BEGIN:DAYLIGHT
TZOFFSETFROM:+0000
TZOFFSETTO:+0100
TZNAME:BST
DTSTART:20250330T010000
END:DAYLIGHT
BEGIN:STANDARD
TZOFFSETFROM:+0100
TZOFFSETTO:+0000
TZNAME:GMT
DTSTART:20251026T010000
END:STANDARD
BEGIN:DAYLIGHT
TZOFFSETFROM:+0000
TZOFFSETTO:+0100
TZNAME:BST
DTSTART:20260329T010000
END:DAYLIGHT
BEGIN:STANDARD
TZOFFSETFROM:+0100
TZOFFSETTO:+0000
TZNAME:GMT
DTSTART:20261025T010000
END:STANDARD
BEGIN:DAYLIGHT
TZOFFSETFROM:+0000
TZOFFSETTO:+0100
TZNAME:BST
DTSTART:20270328T010000
END:DAYLIGHT
BEGIN:STANDARD
TZOFFSETFROM:+0100
TZOFFSETTO:+0000
TZNAME:GMT
DTSTART:20271031T010000
END:STANDARD
END:VTIMEZONE
BEGIN:VEVENT
DTSTART;VALUE=DATE:20260419
DTEND;VALUE=DATE:20260420
DTSTAMP:20260419T142513
CREATED:20260418T144921Z
LAST-MODIFIED:20260418T144921Z
UID:10023608-1776556800-1776643199@www.visitthemalverns.org
SUMMARY:Festival of Transport & Autojumble
DESCRIPTION:Show opening times: 9am – 3pm \nAs one of the opening events of the season\, the Festival of Transport & Autojumble gets the season off to a great start with a wide mix of classic cars and motorcycles on display alongside a solid autojumble. \nThis is a well-established event taking place at the Brown Gate / Wye Hall section of the showground and with car displays\, live commentary and the judging arena located in a new part of the site to the rear of the Wye Halls. \nFollowing on from a very successful event in September 2025\, expect to see 400+ classic cars and motorcycles\, up to 80 autojumble stalls\, live music and quality food and drink\, all set beneath the stunning Malvern Hills! \nFor more information about the event\, as well as ticket details\, visit the Classic Shows website.
URL:https://www.visitthemalverns.org/event/festival-of-transport-autojumble-2/
LOCATION:Three Counties Showground\, WR13 6NW
CATEGORIES:Automotive,Festival,Malvern,Shopping
ATTACH;FMTTYPE=image/jpeg:https://www.visitthemalverns.org/wp-content/uploads/2024/04/Classic-car-interior-from-Unsplash.jpg
GEO:52.0828475;-2.3146342
X-APPLE-STRUCTURED-LOCATION;VALUE=URI;X-ADDRESS=Three Counties Showground WR13 6NW;X-APPLE-RADIUS=500;X-TITLE=WR13 6NW:geo:-2.3146342,52.0828475
END:VEVENT
END:VCALENDAR