BEGIN:VCALENDAR
VERSION:2.0
PRODID:-//Visit The Malverns - ECPv6.15.20//NONSGML v1.0//EN
CALSCALE:GREGORIAN
METHOD:PUBLISH
X-WR-CALNAME:Visit The Malverns
X-ORIGINAL-URL:https://www.visitthemalverns.org
X-WR-CALDESC:Events for Visit The Malverns
REFRESH-INTERVAL;VALUE=DURATION:PT1H
X-Robots-Tag:noindex
X-PUBLISHED-TTL:PT1H
BEGIN:VTIMEZONE
TZID:Europe/London
BEGIN:DAYLIGHT
TZOFFSETFROM:+0000
TZOFFSETTO:+0100
TZNAME:BST
DTSTART:20240331T010000
END:DAYLIGHT
BEGIN:STANDARD
TZOFFSETFROM:+0100
TZOFFSETTO:+0000
TZNAME:GMT
DTSTART:20241027T010000
END:STANDARD
BEGIN:DAYLIGHT
TZOFFSETFROM:+0000
TZOFFSETTO:+0100
TZNAME:BST
DTSTART:20250330T010000
END:DAYLIGHT
BEGIN:STANDARD
TZOFFSETFROM:+0100
TZOFFSETTO:+0000
TZNAME:GMT
DTSTART:20251026T010000
END:STANDARD
BEGIN:DAYLIGHT
TZOFFSETFROM:+0000
TZOFFSETTO:+0100
TZNAME:BST
DTSTART:20260329T010000
END:DAYLIGHT
BEGIN:STANDARD
TZOFFSETFROM:+0100
TZOFFSETTO:+0000
TZNAME:GMT
DTSTART:20261025T010000
END:STANDARD
END:VTIMEZONE
BEGIN:VEVENT
DTSTART;TZID=Europe/London:20250531T110000
DTEND;TZID=Europe/London:20250531T120000
DTSTAMP:20260420T214019
CREATED:20250423T154608Z
LAST-MODIFIED:20250628T144413Z
UID:10019210-1748689200-1748692800@www.visitthemalverns.org
SUMMARY:Peppa Meets the Baby Cinema Experience (U)
DESCRIPTION:Pig changes are coming! \nJoin Peppa Pig and her family at the cinema as they get ready for their biggest adventure yet: welcoming a new baby! There can be no better time to begin a full house renovation\, look for a new car and make special memories together. Mark the start of an exciting new era of Peppa Pig at this special big-screen experience with an hour of laughter\, tears and many heart-warming moments. With ten ‘oinktastic’ new episodes\, 6 brand new songs and music videos\, your little ones can dance and sing along with Peppa and her family and friends. The wait is finally over… it’s time to join Peppa and George as they greet their new baby sibling for the first time in the Peppa Meets the Baby Cinema Experience! \nTickets cost just £5 and under 5s go free! \nShow times\nFriday 30 May 2025\, 11am\nSaturday 31 May 2025\, 11am\nWednesday 30 July 2025\, 1pm
URL:https://www.visitthemalverns.org/event/peppa-meets-the-baby-cinema-experience-u/2025-05-31/
LOCATION:Regal Tenbury Wells\, 49 Teme Street\, Tenbury Wells WR15 8AE
CATEGORIES:Children,Cinema,Family,Film
ATTACH;FMTTYPE=image/jpeg:https://www.visitthemalverns.org/wp-content/uploads/2021/07/iStock-1191001701-cinema-resized-1.jpg
GEO:52.3124173;-2.5943612
X-APPLE-STRUCTURED-LOCATION;VALUE=URI;X-ADDRESS=Regal Tenbury Wells 49 Teme Street Tenbury Wells WR15 8AE;X-APPLE-RADIUS=500;X-TITLE=49 Teme Street\, Tenbury Wells WR15 8AE:geo:-2.5943612,52.3124173
END:VEVENT
BEGIN:VEVENT
DTSTART;TZID=Europe/London:20250531T140000
DTEND;TZID=Europe/London:20250531T143000
DTSTAMP:20260420T214019
CREATED:20250505T151310Z
LAST-MODIFIED:20250519T141903Z
UID:10019284-1748700000-1748701800@www.visitthemalverns.org
SUMMARY:Mission Impossible: The Final Reckoning (Cert: TBC)
DESCRIPTION:Our Lives are the sum of our choices. \nTom Cruise is Ethan Hunt in Mission Impossible: The Final Reckoning. \nCert:  TBC \nAD  Audio Description available \nDS  Descriptive Subtitles:  Thursday 29 May at 4pm and Monday 2 June at 7:15pm \nPrices:\nEvenings:  £9/£10 (Premium seats)\nMornings and matinees:  £8/£9 (Premium seats)\nConcessions and members discounts apply \nShow Times:\nFriday 23 May at 3pm and 7:15pm\nSaturday 24 May at 3pm and 7:15pm\nSunday 25 May at 3pm and 7pm\nMonday 26 May at 7:15pm\nTuesday 27 May at 11am\, 3pm and 7:15pm\nWednesday 28 May at 7:15pm\nThursday 29 May at 4pm (with DS) and 7:45pm\nFriday 30 May at 3pm and 7:15pm\nSaturday 31 May at 2pm\nSunday 1 June at 3pm and 7pm\nMonday 2 June at 7:15pm (with DS)\nTuesday 3 June at 11am\, 3pm and 7:15pm\nWednesday 4 June at 7:15pm\nThursday 5 June at 3pm
URL:https://www.visitthemalverns.org/event/mission-impossible-the-final-reckoning-cert-tbc/2025-05-31/
LOCATION:Malvern Theatres\, WR14 3HB
CATEGORIES:Cinema,Film
ATTACH;FMTTYPE=image/jpeg:https://www.visitthemalverns.org/wp-content/uploads/2021/07/iStock-1191001701-cinema-resized-1.jpg
GEO:52.1106766;-2.3267752
X-APPLE-STRUCTURED-LOCATION;VALUE=URI;X-ADDRESS=Malvern Theatres WR14 3HB;X-APPLE-RADIUS=500;X-TITLE=WR14 3HB:geo:-2.3267752,52.1106766
END:VEVENT
BEGIN:VEVENT
DTSTART;TZID=Europe/London:20250531T190000
DTEND;TZID=Europe/London:20250531T203000
DTSTAMP:20260420T214019
CREATED:20250521T153857Z
LAST-MODIFIED:20250521T153857Z
UID:10019350-1748718000-1748723400@www.visitthemalverns.org
SUMMARY:Ocean with David Attenborough (PG)
DESCRIPTION:Ocean with David Attenborough takes viewers on a breathtaking journey to demonstrate how there is nowhere more vital for our survival\, more full of life\, wonder\, or surprise\, than the ocean. \nThe celebrated broadcaster and filmmaker shows how his lifetime has coincided with the great age of ocean discovery. Through spectacular sequences examining coral reefs\, kelp forests and the open ocean\, Attenborough reveals to the audience why a healthy ocean keeps the entire planet stable and flourishing. \nStunning\, immersive cinematography showcases the wonder of marine life and exposes the realities and difficulties facing our ocean as never-before-seen\, from destructive fishing techniques to mass bleaching of coral reefs. The story is\, however\, one of optimism\, with Attenborough pointing to inspirational stories from around the world to deliver his greatest message: the ocean has the potential to recover to a glory beyond anything anyone alive has ever seen. \nShow times\nSaturday 31 May\, 7pm\nFriday 6 June\, 11am
URL:https://www.visitthemalverns.org/event/ocean-with-david-attenborough-pg-2/2025-05-31/
LOCATION:Regal Tenbury Wells\, 49 Teme Street\, Tenbury Wells WR15 8AE
CATEGORIES:Cinema,Film,Tenbury Wells
ATTACH;FMTTYPE=image/jpeg:https://www.visitthemalverns.org/wp-content/uploads/2021/07/iStock-1191001701-cinema-resized-1.jpg
GEO:52.3124173;-2.5943612
X-APPLE-STRUCTURED-LOCATION;VALUE=URI;X-ADDRESS=Regal Tenbury Wells 49 Teme Street Tenbury Wells WR15 8AE;X-APPLE-RADIUS=500;X-TITLE=49 Teme Street\, Tenbury Wells WR15 8AE:geo:-2.5943612,52.3124173
END:VEVENT
END:VCALENDAR