BEGIN:VCALENDAR
VERSION:2.0
PRODID:-//Visit The Malverns - ECPv6.15.20//NONSGML v1.0//EN
CALSCALE:GREGORIAN
METHOD:PUBLISH
X-ORIGINAL-URL:https://www.visitthemalverns.org
X-WR-CALDESC:Events for Visit The Malverns
REFRESH-INTERVAL;VALUE=DURATION:PT1H
X-Robots-Tag:noindex
X-PUBLISHED-TTL:PT1H
BEGIN:VTIMEZONE
TZID:Europe/London
BEGIN:DAYLIGHT
TZOFFSETFROM:+0000
TZOFFSETTO:+0100
TZNAME:BST
DTSTART:20240331T010000
END:DAYLIGHT
BEGIN:STANDARD
TZOFFSETFROM:+0100
TZOFFSETTO:+0000
TZNAME:GMT
DTSTART:20241027T010000
END:STANDARD
BEGIN:DAYLIGHT
TZOFFSETFROM:+0000
TZOFFSETTO:+0100
TZNAME:BST
DTSTART:20250330T010000
END:DAYLIGHT
BEGIN:STANDARD
TZOFFSETFROM:+0100
TZOFFSETTO:+0000
TZNAME:GMT
DTSTART:20251026T010000
END:STANDARD
BEGIN:DAYLIGHT
TZOFFSETFROM:+0000
TZOFFSETTO:+0100
TZNAME:BST
DTSTART:20260329T010000
END:DAYLIGHT
BEGIN:STANDARD
TZOFFSETFROM:+0100
TZOFFSETTO:+0000
TZNAME:GMT
DTSTART:20261025T010000
END:STANDARD
END:VTIMEZONE
BEGIN:VEVENT
DTSTART;TZID=Europe/London:20250801T110000
DTEND;TZID=Europe/London:20250801T130000
DTSTAMP:20260420T182529
CREATED:20250628T144108Z
LAST-MODIFIED:20250628T144108Z
UID:10019705-1754046000-1754053200@www.visitthemalverns.org
SUMMARY:Jungle Trouble (U)
DESCRIPTION:When young superhero-obsessed Max finds his way into the jungle during a family picnic\, he stumbles upon Zuzu\, a rare talking tiger on the run from poachers. What begins as a comic meeting becomes a race against time\, as Max and Zuzu battle to outwit a bumbling gang of animal traffickers. Along the way\, they forge an unbreakable friendship\, learning about bravery\, teamwork\, and the wild world beyond screens and homework. Packed with dazzling animation\, daring escapes\, and laugh-out-loud moments\, Jungle Trouble is a heart-pounding jungle adventure with a big heart and even bigger roar.  \nShow times\nTuesday 29 July 2025\, 1pm\nFriday 1 August 2025\, 11am
URL:https://www.visitthemalverns.org/event/jungle-trouble-u/2025-08-01/
LOCATION:Regal Tenbury Wells\, 49 Teme Street\, Tenbury Wells WR15 8AE
CATEGORIES:Children,Cinema,Family,Film
ATTACH;FMTTYPE=image/jpeg:https://www.visitthemalverns.org/wp-content/uploads/2021/07/iStock-1191001701-cinema-resized-1.jpg
GEO:52.3124173;-2.5943612
X-APPLE-STRUCTURED-LOCATION;VALUE=URI;X-ADDRESS=Regal Tenbury Wells 49 Teme Street Tenbury Wells WR15 8AE;X-APPLE-RADIUS=500;X-TITLE=49 Teme Street\, Tenbury Wells WR15 8AE:geo:-2.5943612,52.3124173
END:VEVENT
BEGIN:VEVENT
DTSTART;TZID=Europe/London:20250801T170000
DTEND;TZID=Europe/London:20250801T183000
DTSTAMP:20260420T182529
CREATED:20250628T145508Z
LAST-MODIFIED:20250628T145508Z
UID:10019708-1754067600-1754073000@www.visitthemalverns.org
SUMMARY:Karate Kid: Legends (12A)
DESCRIPTION:In Karate Kid: Legends\, after a family tragedy\, kung fu prodigy Li Fong (Ben Wang) is uprooted from his home in Beijing and forced to move to New York City with his mother. Li struggles to let go of his past as he tries to fit in with his new classmates\, and although he doesn’t want to fight\, trouble seems to find him everywhere. When a new friend needs his help\, Li enters a karate competition – but his skills alone aren’t enough. Li’s kung fu teacher Mr. Han (Jackie Chan) enlists original Karate Kid Daniel LaRusso (Ralph Macchio) for help\, and Li learns a new way to fight\, merging their two styles into one for the ultimate martial arts showdown.
URL:https://www.visitthemalverns.org/event/karate-kid-legends-12a-2/
LOCATION:Regal Tenbury Wells\, 49 Teme Street\, Tenbury Wells WR15 8AE
CATEGORIES:Cinema,Film
ATTACH;FMTTYPE=image/jpeg:https://www.visitthemalverns.org/wp-content/uploads/2021/07/iStock-1191001701-cinema-resized-1.jpg
GEO:52.3124173;-2.5943612
X-APPLE-STRUCTURED-LOCATION;VALUE=URI;X-ADDRESS=Regal Tenbury Wells 49 Teme Street Tenbury Wells WR15 8AE;X-APPLE-RADIUS=500;X-TITLE=49 Teme Street\, Tenbury Wells WR15 8AE:geo:-2.5943612,52.3124173
END:VEVENT
END:VCALENDAR