BEGIN:VCALENDAR
VERSION:2.0
PRODID:-//Visit The Malverns - ECPv6.15.20//NONSGML v1.0//EN
CALSCALE:GREGORIAN
METHOD:PUBLISH
X-ORIGINAL-URL:https://www.visitthemalverns.org
X-WR-CALDESC:Events for Visit The Malverns
REFRESH-INTERVAL;VALUE=DURATION:PT1H
X-Robots-Tag:noindex
X-PUBLISHED-TTL:PT1H
BEGIN:VTIMEZONE
TZID:Europe/London
BEGIN:DAYLIGHT
TZOFFSETFROM:+0000
TZOFFSETTO:+0100
TZNAME:BST
DTSTART:20240331T010000
END:DAYLIGHT
BEGIN:STANDARD
TZOFFSETFROM:+0100
TZOFFSETTO:+0000
TZNAME:GMT
DTSTART:20241027T010000
END:STANDARD
BEGIN:DAYLIGHT
TZOFFSETFROM:+0000
TZOFFSETTO:+0100
TZNAME:BST
DTSTART:20250330T010000
END:DAYLIGHT
BEGIN:STANDARD
TZOFFSETFROM:+0100
TZOFFSETTO:+0000
TZNAME:GMT
DTSTART:20251026T010000
END:STANDARD
BEGIN:DAYLIGHT
TZOFFSETFROM:+0000
TZOFFSETTO:+0100
TZNAME:BST
DTSTART:20260329T010000
END:DAYLIGHT
BEGIN:STANDARD
TZOFFSETFROM:+0100
TZOFFSETTO:+0000
TZNAME:GMT
DTSTART:20261025T010000
END:STANDARD
END:VTIMEZONE
BEGIN:VEVENT
DTSTART;TZID=Europe/London:20251027T150000
DTEND;TZID=Europe/London:20251027T163000
DTSTAMP:20260420T214402
CREATED:20251016T154108Z
LAST-MODIFIED:20251016T154108Z
UID:10020756-1761577200-1761582600@www.visitthemalverns.org
SUMMARY:Night of the Zoopocalypse (PG)
DESCRIPTION:When a meteor crashes at Colepepper Zoo\, it delivers a virus that transforms the zoo animals into zombies. \nGracie\, a quirky young wolf\, teams up with a gruff mountain lion named Dan to lead a wacky team of animals – including Xavier\, the movie-obsessed lemur\, Frida the fiery capybara\, and Poot the baby pygmy hippo – on a dangerous mission to evade the virus and rescue their zoo\, on one spooky Night of the Zoopocalypse! \nCertificate: PG\nRunning time: 1hr 31mins\nR Relaxed Screening: Saturday 1 November at 11am \nShow times\nPlease note: Film starts at advertised time\nForum:\nMonday 27 October 2025 at 3pm\nThursday 30 October 2025 at 3pm\nFriday 31 October 2025 at 3.15pm\nCinema:\nSaturday 1 November 2025 at 11am (Relaxed Screening)
URL:https://www.visitthemalverns.org/event/night-of-the-zoopocalypse-pg/2025-10-27/
LOCATION:Malvern Theatres\, WR14 3HB
CATEGORIES:Children,Cinema,Family,Film,Malvern
ATTACH;FMTTYPE=image/jpeg:https://www.visitthemalverns.org/wp-content/uploads/2021/07/iStock-1191001701-cinema-resized-1.jpg
GEO:52.1106766;-2.3267752
X-APPLE-STRUCTURED-LOCATION;VALUE=URI;X-ADDRESS=Malvern Theatres WR14 3HB;X-APPLE-RADIUS=500;X-TITLE=WR14 3HB:geo:-2.3267752,52.1106766
END:VEVENT
BEGIN:VEVENT
DTSTART;TZID=Europe/London:20251027T190000
DTEND;TZID=Europe/London:20251027T210000
DTSTAMP:20260420T214402
CREATED:20251016T105213Z
LAST-MODIFIED:20251016T105213Z
UID:10020713-1761591600-1761598800@www.visitthemalverns.org
SUMMARY:The Smashing Machine (15)
DESCRIPTION:The Smashing Machine follows former MMA/UFC champion Mark Kerr’s career peak during the ‘no-holds-barred era of the UFC’ in 2000. \nThe solo directorial debut from Benny Safdie\, it stars Dwayne ‘The Rock’ Johnson and Emily Blunt. \nCertificate: 15\nRunning time: 2hrs 3mins\nAD Audio Description available \nShow times\nPlease note: Film starts at advertised time\nFriday 24 October 2025 at 7pm\nSaturday 25 October 2025 at 7pm\nSunday 26 October 2025 at 6.45pm\nMonday 27 October 2025 at 7pm\nWednesday 29 October 2025 at 7pm
URL:https://www.visitthemalverns.org/event/the-smashing-machine-15/2025-10-27/
LOCATION:Malvern Theatres\, WR14 3HB
CATEGORIES:Cinema,Film,Malvern
ATTACH;FMTTYPE=image/jpeg:https://www.visitthemalverns.org/wp-content/uploads/2021/07/iStock-1191001701-cinema-resized-1.jpg
GEO:52.1106766;-2.3267752
X-APPLE-STRUCTURED-LOCATION;VALUE=URI;X-ADDRESS=Malvern Theatres WR14 3HB;X-APPLE-RADIUS=500;X-TITLE=WR14 3HB:geo:-2.3267752,52.1106766
END:VEVENT
BEGIN:VEVENT
DTSTART;TZID=Europe/London:20251027T191500
DTEND;TZID=Europe/London:20251027T210000
DTSTAMP:20260420T214402
CREATED:20251016T113155Z
LAST-MODIFIED:20251016T113155Z
UID:10020724-1761592500-1761598800@www.visitthemalverns.org
SUMMARY:Springsteen: Deliver Me From Nowhere (12A)
DESCRIPTION:From 20th Century Studios\, Springsteen: Deliver Me From Nowhere chronicles the making of Bruce Springsteen’s 1982 Nebraska album\, when he was a young musician on the brink of global superstardom struggling to reconcile the pressures of success with the ghosts of his past. \nRecorded on a 4-track recorder in Springsteen’s bedroom in New Jersey\, the album documented a pivotal time in his life and is regarded as one of his most enduring works – a raw\, haunted acoustic record populated by lost souls searching for a reason to believe. \nCertificate: 12A\nRunning time: 2hrs\nAD Audio Description available\nDS Descriptive Subtitles: Monday 27 October at 7.15pm \nShow times\nPlease note: Film starts at advertised time\nFriday 24 October 2025 at 4.30pm & 7.15pm\nSaturday 25 October 2025 at 4.30pm & 7.15pm\nSunday 26 October 2025 at 3pm & 6.30pm\nMonday 27 October 2025 at 7.15pm (with Descriptive Subtitles)\nTuesday 28 October 2025 at 11am\, 4.30pm & 7.15pm\nWednesday 29 October 2025 at 7.15pm\nThursday 30 October 2025 at 4pm\nFriday 31 October 2025 at 7.45pm\nSaturday 1 November 2025 at 3pm\nSunday 2 November 2025 at 6.30pm\nMonday 3 November 2025 at 7.15pm\nTuesday 4 November 2025 at 11am & 4.30pm\nWednesday 5 November 2025 at 7.15pm\nThursday 6 November 2025 at 7.45pm
URL:https://www.visitthemalverns.org/event/springsteen-deliver-me-from-nowhere-12a/2025-10-27/
LOCATION:Malvern Theatres\, WR14 3HB
CATEGORIES:Cinema,Film,Malvern
ATTACH;FMTTYPE=image/jpeg:https://www.visitthemalverns.org/wp-content/uploads/2021/07/iStock-1191001701-cinema-resized-1.jpg
GEO:52.1106766;-2.3267752
X-APPLE-STRUCTURED-LOCATION;VALUE=URI;X-ADDRESS=Malvern Theatres WR14 3HB;X-APPLE-RADIUS=500;X-TITLE=WR14 3HB:geo:-2.3267752,52.1106766
END:VEVENT
END:VCALENDAR