BEGIN:VCALENDAR
VERSION:2.0
PRODID:-//Visit The Malverns - ECPv6.15.20//NONSGML v1.0//EN
CALSCALE:GREGORIAN
METHOD:PUBLISH
X-ORIGINAL-URL:https://www.visitthemalverns.org
X-WR-CALDESC:Events for Visit The Malverns
REFRESH-INTERVAL;VALUE=DURATION:PT1H
X-Robots-Tag:noindex
X-PUBLISHED-TTL:PT1H
BEGIN:VTIMEZONE
TZID:Europe/London
BEGIN:DAYLIGHT
TZOFFSETFROM:+0000
TZOFFSETTO:+0100
TZNAME:BST
DTSTART:20240331T010000
END:DAYLIGHT
BEGIN:STANDARD
TZOFFSETFROM:+0100
TZOFFSETTO:+0000
TZNAME:GMT
DTSTART:20241027T010000
END:STANDARD
BEGIN:DAYLIGHT
TZOFFSETFROM:+0000
TZOFFSETTO:+0100
TZNAME:BST
DTSTART:20250330T010000
END:DAYLIGHT
BEGIN:STANDARD
TZOFFSETFROM:+0100
TZOFFSETTO:+0000
TZNAME:GMT
DTSTART:20251026T010000
END:STANDARD
BEGIN:DAYLIGHT
TZOFFSETFROM:+0000
TZOFFSETTO:+0100
TZNAME:BST
DTSTART:20260329T010000
END:DAYLIGHT
BEGIN:STANDARD
TZOFFSETFROM:+0100
TZOFFSETTO:+0000
TZNAME:GMT
DTSTART:20261025T010000
END:STANDARD
END:VTIMEZONE
BEGIN:VEVENT
DTSTART;TZID=Europe/London:20251214T150000
DTEND;TZID=Europe/London:20251214T173000
DTSTAMP:20260421T090329
CREATED:20251118T160652Z
LAST-MODIFIED:20251118T160652Z
UID:10021433-1765724400-1765733400@www.visitthemalverns.org
SUMMARY:The Running Man (15)
DESCRIPTION:Millions hunt. One runs. Everyone watches. \n​In a society of the near-future\, The Running Man is the top-rated show on television. It’s a deadly competition where participants\, known as Runners\, must survive for 30 days while being hunted by professional assassins\, with every move broadcast to a bloodthirsty public and each day bringing a greater cash reward. \nDesperate and determined to save his sick daughter\, working-class Ben Richards (Glen Powell) is persuaded by the show’s charming but ruthless producer\, Dan Killian (Josh Brolin)\, to enter the game as a last resort. But Ben’s defiance\, instincts\, and grit turn him into an unexpected fan favourite — and a threat to the entire system. As ratings go through the roof\, so does the jeopardy\, and Ben must outwit not just the Hunters\, but a nation addicted to watching him fall. \nCertificate: 15\nRunning time: 2hrs 15mins\nAD Audio Description available\nDS Descriptive Subtitles: Monday 15 December\, 7.15pm \nShow times\nPlease note: Film starts at advertised time\nSaturday 13 December 2025 at 7.15pm\nSunday 14 December 2025 at 3pm\nMonday 15 December 2025 at 7.15pm (with Descriptive Subtitles)\nTuesday 16 December 2025 at 7.15pm
URL:https://www.visitthemalverns.org/event/the-running-man-15/2025-12-14/
LOCATION:Malvern Theatres\, WR14 3HB
CATEGORIES:Cinema,Film
ATTACH;FMTTYPE=image/jpeg:https://www.visitthemalverns.org/wp-content/uploads/2021/07/iStock-1191001701-cinema-resized-1.jpg
GEO:52.1106766;-2.3267752
X-APPLE-STRUCTURED-LOCATION;VALUE=URI;X-ADDRESS=Malvern Theatres WR14 3HB;X-APPLE-RADIUS=500;X-TITLE=WR14 3HB:geo:-2.3267752,52.1106766
END:VEVENT
BEGIN:VEVENT
DTSTART;TZID=Europe/London:20251214T160000
DTEND;TZID=Europe/London:20251214T173000
DTSTAMP:20260421T090329
CREATED:20251118T153506Z
LAST-MODIFIED:20251118T153506Z
UID:10021429-1765728000-1765733400@www.visitthemalverns.org
SUMMARY:Blue Moon (15)
DESCRIPTION:On the evening of 31 March 1943\, legendary lyricist Lorenz Hart confronts his shattered self-confidence in Sardi’s bar as his former collaborator Richard Rodgers celebrates the opening night of his ground-breaking hit musical Oklahoma! \nStarring: Ethan Hawke\, Margaret Qualley\, Bobby Cannavale\, Andrew Scott \nCertificate: 15\nRunning time: 1hr 40mins\nAD Audio Description available \nShow times\nPlease note: Film starts at advertised time\nFriday 12 December 2025 at 7pm\nSaturday 20 December 2025 at 7pm\nSunday 14 December 2025 at 4pm\nWednesday 17 December 2025 at 7pm\nThursday 18 December 2025 at 7pm
URL:https://www.visitthemalverns.org/event/blue-moon-15/2025-12-14/
LOCATION:Malvern Theatres\, WR14 3HB
CATEGORIES:Cinema,Film
ATTACH;FMTTYPE=image/jpeg:https://www.visitthemalverns.org/wp-content/uploads/2021/07/iStock-1191001701-cinema-resized-1.jpg
GEO:52.1106766;-2.3267752
X-APPLE-STRUCTURED-LOCATION;VALUE=URI;X-ADDRESS=Malvern Theatres WR14 3HB;X-APPLE-RADIUS=500;X-TITLE=WR14 3HB:geo:-2.3267752,52.1106766
END:VEVENT
BEGIN:VEVENT
DTSTART;TZID=Europe/London:20251214T183000
DTEND;TZID=Europe/London:20251214T200000
DTSTAMP:20260421T090329
CREATED:20251118T162831Z
LAST-MODIFIED:20251118T162831Z
UID:10021436-1765737000-1765742400@www.visitthemalverns.org
SUMMARY:Palestine 36 (12A)
DESCRIPTION:In 1936\, as Palestinian villages revolt against British colonial rule\, Yusuf navigates between Jerusalem and his rural home\, amidst escalating unrest and a pivotal moment for the British Empire. \nDirected by Annemarie Jacir\, Palestine 36 stars Jeremy Irons\, Billy Howle\, Saleh Bakri\, Hiam Abbass\, Liam Cunningham\, Robert Aramayo\, Karim Daoud\, Yafa Bakri\, Yasmine Al Massri \nCertificate: 12A\nRunning time: 1hr 55mins\nEnglish and Arabic with English subtitles \nShow times\nPlease note: Film starts at advertised time\nSunday 14 December 2025 at 6.30pm\nThursday 18 December 2025 at 2pm
URL:https://www.visitthemalverns.org/event/palestine-36-12a/2025-12-14/
LOCATION:Malvern Theatres\, WR14 3HB
CATEGORIES:Cinema,Film
ATTACH;FMTTYPE=image/jpeg:https://www.visitthemalverns.org/wp-content/uploads/2021/07/iStock-1191001701-cinema-resized-1.jpg
GEO:52.1106766;-2.3267752
X-APPLE-STRUCTURED-LOCATION;VALUE=URI;X-ADDRESS=Malvern Theatres WR14 3HB;X-APPLE-RADIUS=500;X-TITLE=WR14 3HB:geo:-2.3267752,52.1106766
END:VEVENT
END:VCALENDAR