BEGIN:VCALENDAR
VERSION:2.0
PRODID:-//Visit The Malverns - ECPv6.15.20//NONSGML v1.0//EN
CALSCALE:GREGORIAN
METHOD:PUBLISH
X-ORIGINAL-URL:https://www.visitthemalverns.org
X-WR-CALDESC:Events for Visit The Malverns
REFRESH-INTERVAL;VALUE=DURATION:PT1H
X-Robots-Tag:noindex
X-PUBLISHED-TTL:PT1H
BEGIN:VTIMEZONE
TZID:Europe/London
BEGIN:DAYLIGHT
TZOFFSETFROM:+0000
TZOFFSETTO:+0100
TZNAME:BST
DTSTART:20240331T010000
END:DAYLIGHT
BEGIN:STANDARD
TZOFFSETFROM:+0100
TZOFFSETTO:+0000
TZNAME:GMT
DTSTART:20241027T010000
END:STANDARD
BEGIN:DAYLIGHT
TZOFFSETFROM:+0000
TZOFFSETTO:+0100
TZNAME:BST
DTSTART:20250330T010000
END:DAYLIGHT
BEGIN:STANDARD
TZOFFSETFROM:+0100
TZOFFSETTO:+0000
TZNAME:GMT
DTSTART:20251026T010000
END:STANDARD
BEGIN:DAYLIGHT
TZOFFSETFROM:+0000
TZOFFSETTO:+0100
TZNAME:BST
DTSTART:20260329T010000
END:DAYLIGHT
BEGIN:STANDARD
TZOFFSETFROM:+0100
TZOFFSETTO:+0000
TZNAME:GMT
DTSTART:20261025T010000
END:STANDARD
END:VTIMEZONE
BEGIN:VEVENT
DTSTART;TZID=Europe/London:20251229T150000
DTEND;TZID=Europe/London:20251229T163000
DTSTAMP:20260421T074102
CREATED:20251216T144034Z
LAST-MODIFIED:20251216T144034Z
UID:10021680-1767020400-1767025800@www.visitthemalverns.org
SUMMARY:Zootropolis 2 (PG)
DESCRIPTION:In Disney’s Zootropolis 2\, detectives Judy Hopps (voiced by Ginnifer Goodwin) and Nick Wilde (voiced by Jason Bateman) are on the twisting trail of a mysterious reptile who arrives in Zootropolis and turns the mammal metropolis upside down. \nTo solve the case\, Judy and Nick must go undercover to unexpected new parts of town\, where their growing collaboration is put to the test like never before. \nCertificate: PG\nRunning time: 1hr 48mins\nAD Audio Description available\nR Relaxed Screening: Saturday 3 January\, 11.30am \nShow times\nPlease note: Film starts at advertised time\nSaturday 27 December 2025 at 11.30am\nSunday 28 December 2025 at 3pm\nMonday 29 December 2025 at 3pm\nTuesday 30 December 2025 at 11.30am\nWednesday 31 December 2025 at 11.30am & 2.30pm\nFriday 2 January 2026 at 1.45pm\nSaturday 3 January 2026 at 11.30am
URL:https://www.visitthemalverns.org/event/zootropolis-2-pg-2/2025-12-29/
LOCATION:Malvern Theatres\, WR14 3HB
CATEGORIES:Cinema,Film,Malvern
ATTACH;FMTTYPE=image/jpeg:https://www.visitthemalverns.org/wp-content/uploads/2021/07/iStock-1191001701-cinema-resized-1.jpg
GEO:52.1106766;-2.3267752
X-APPLE-STRUCTURED-LOCATION;VALUE=URI;X-ADDRESS=Malvern Theatres WR14 3HB;X-APPLE-RADIUS=500;X-TITLE=WR14 3HB:geo:-2.3267752,52.1106766
END:VEVENT
BEGIN:VEVENT
DTSTART;TZID=Europe/London:20251229T190000
DTEND;TZID=Europe/London:20251229T213000
DTSTAMP:20260421T074102
CREATED:20251216T142809Z
LAST-MODIFIED:20251216T142809Z
UID:10021675-1767034800-1767043800@www.visitthemalverns.org
SUMMARY:Wicked: For Good (PG)
DESCRIPTION:And now whatever way our stories end\, I know you have rewritten mine by being my friend … \nLast year’s global cinematic cultural sensation\, which claimed its place as the most successful Broadway film adaptation of all time\, now reaches its epic\, electrifying\, emotional conclusion in Wicked: For Good. \nDirected once again by award-winning director Jon M. Chu and starring the spectacular returning cast\, led by Academy Award® nominated superstars Cynthia Erivo and Ariana Grande\, the final chapter of the untold story of the witches of Oz begins with Elphaba and Glinda estranged and living with the consequences of their choices. \nCertificate: PG\nRunning time: 2hrs 18mins\nAD Audio Description available \nShow times\nPlease note: Film starts at advertised time\nFriday 26 December 2025 at 2.30pm\nSaturday 27 December 2025 at 3pm\nSunday 28 December 2025 at 6pm\nMonday 29 December 2025 at 7pm\nTuesday 30 December 2025 at 3pm\nThursday 1 January 2026 at 2pm
URL:https://www.visitthemalverns.org/event/wicked-for-good-pg-3/2025-12-29/
LOCATION:Malvern Theatres\, WR14 3HB
CATEGORIES:Cinema,Film,Malvern
ATTACH;FMTTYPE=image/jpeg:https://www.visitthemalverns.org/wp-content/uploads/2021/07/iStock-1191001701-cinema-resized-1.jpg
GEO:52.1106766;-2.3267752
X-APPLE-STRUCTURED-LOCATION;VALUE=URI;X-ADDRESS=Malvern Theatres WR14 3HB;X-APPLE-RADIUS=500;X-TITLE=WR14 3HB:geo:-2.3267752,52.1106766
END:VEVENT
END:VCALENDAR