BEGIN:VCALENDAR
VERSION:2.0
PRODID:-//Visit The Malverns - ECPv6.15.20//NONSGML v1.0//EN
CALSCALE:GREGORIAN
METHOD:PUBLISH
X-WR-CALNAME:Visit The Malverns
X-ORIGINAL-URL:https://www.visitthemalverns.org
X-WR-CALDESC:Events for Visit The Malverns
REFRESH-INTERVAL;VALUE=DURATION:PT1H
X-Robots-Tag:noindex
X-PUBLISHED-TTL:PT1H
BEGIN:VTIMEZONE
TZID:Europe/London
BEGIN:DAYLIGHT
TZOFFSETFROM:+0000
TZOFFSETTO:+0100
TZNAME:BST
DTSTART:20250330T010000
END:DAYLIGHT
BEGIN:STANDARD
TZOFFSETFROM:+0100
TZOFFSETTO:+0000
TZNAME:GMT
DTSTART:20251026T010000
END:STANDARD
BEGIN:DAYLIGHT
TZOFFSETFROM:+0000
TZOFFSETTO:+0100
TZNAME:BST
DTSTART:20260329T010000
END:DAYLIGHT
BEGIN:STANDARD
TZOFFSETFROM:+0100
TZOFFSETTO:+0000
TZNAME:GMT
DTSTART:20261025T010000
END:STANDARD
BEGIN:DAYLIGHT
TZOFFSETFROM:+0000
TZOFFSETTO:+0100
TZNAME:BST
DTSTART:20270328T010000
END:DAYLIGHT
BEGIN:STANDARD
TZOFFSETFROM:+0100
TZOFFSETTO:+0000
TZNAME:GMT
DTSTART:20271031T010000
END:STANDARD
END:VTIMEZONE
BEGIN:VEVENT
DTSTART;TZID=Europe/London:20260102T134500
DTEND;TZID=Europe/London:20260102T153000
DTSTAMP:20260421T073234
CREATED:20251216T144034Z
LAST-MODIFIED:20251216T144034Z
UID:10021684-1767361500-1767367800@www.visitthemalverns.org
SUMMARY:Zootropolis 2 (PG)
DESCRIPTION:In Disney’s Zootropolis 2\, detectives Judy Hopps (voiced by Ginnifer Goodwin) and Nick Wilde (voiced by Jason Bateman) are on the twisting trail of a mysterious reptile who arrives in Zootropolis and turns the mammal metropolis upside down. \nTo solve the case\, Judy and Nick must go undercover to unexpected new parts of town\, where their growing collaboration is put to the test like never before. \nCertificate: PG\nRunning time: 1hr 48mins\nAD Audio Description available\nR Relaxed Screening: Saturday 3 January\, 11.30am \nShow times\nPlease note: Film starts at advertised time\nSaturday 27 December 2025 at 11.30am\nSunday 28 December 2025 at 3pm\nMonday 29 December 2025 at 3pm\nTuesday 30 December 2025 at 11.30am\nWednesday 31 December 2025 at 11.30am & 2.30pm\nFriday 2 January 2026 at 1.45pm\nSaturday 3 January 2026 at 11.30am
URL:https://www.visitthemalverns.org/event/zootropolis-2-pg-2/2026-01-02/
LOCATION:Malvern Theatres\, WR14 3HB
CATEGORIES:Cinema,Film,Malvern
ATTACH;FMTTYPE=image/jpeg:https://www.visitthemalverns.org/wp-content/uploads/2021/07/iStock-1191001701-cinema-resized-1.jpg
GEO:52.1106766;-2.3267752
X-APPLE-STRUCTURED-LOCATION;VALUE=URI;X-ADDRESS=Malvern Theatres WR14 3HB;X-APPLE-RADIUS=500;X-TITLE=WR14 3HB:geo:-2.3267752,52.1106766
END:VEVENT
BEGIN:VEVENT
DTSTART;TZID=Europe/London:20260102T163000
DTEND;TZID=Europe/London:20260102T183000
DTSTAMP:20260421T073234
CREATED:20251216T151635Z
LAST-MODIFIED:20251216T151635Z
UID:10021686-1767371400-1767378600@www.visitthemalverns.org
SUMMARY:Ella McCay (12A)
DESCRIPTION:An idealistic young woman juggles her family and work life in a comedy from writer-director James L. Brooks about the people you love and how to survive them. \nElla McCay features an all-star cast including Emma Mackey\, Jamie Lee Curtis\, Jack Lowden\, Kumail Nanjiani\, Ayo Edebiri\, Spike Fearn\, Rebecca Hall\, Julie Kavner\, Becky Ann Baker\, Joey Brooks with Albert Brooks and Woody Harrelson.  \nCertificate: 12A\nRunning time: 1hr 55mins\nAD Audio Description available\nDS Descriptive Subtitles: Thursday 8 January at 2pm \nShow times\nPlease note: Film starts at advertised time\nFriday 2 January 2026 at 4.30pm\nSaturday 3 January 2026 at 7.15pm\nSunday 4 January 2026 at 3pm\nTuesday 6 January 2026 at 11am & 4pm\nThursday 8 January 2026 at 2pm (with Descriptive Subtitles) & 7.45pm
URL:https://www.visitthemalverns.org/event/ella-mccay-12a/2026-01-02/
LOCATION:Malvern Theatres\, WR14 3HB
CATEGORIES:Cinema,Film,Malvern
ATTACH;FMTTYPE=image/jpeg:https://www.visitthemalverns.org/wp-content/uploads/2021/07/iStock-1191001701-cinema-resized-1.jpg
GEO:52.1106766;-2.3267752
X-APPLE-STRUCTURED-LOCATION;VALUE=URI;X-ADDRESS=Malvern Theatres WR14 3HB;X-APPLE-RADIUS=500;X-TITLE=WR14 3HB:geo:-2.3267752,52.1106766
END:VEVENT
BEGIN:VEVENT
DTSTART;TZID=Europe/London:20260102T191500
DTEND;TZID=Europe/London:20260102T213000
DTSTAMP:20260421T073234
CREATED:20251216T152759Z
LAST-MODIFIED:20251216T152759Z
UID:10021693-1767381300-1767389400@www.visitthemalverns.org
SUMMARY:The Housemaid (15)
DESCRIPTION:The Housemaid is a wildly entertaining thriller starring Sydney Sweeney and Amanda Seyfried\, based on the best-selling book by Freida McFadden. \nFrom director Paul Feig\, the film plunges audiences into a twisted world where perfection is an illusion\, and nothing is as it seems. Trying to get clear of her past\, Millie (Sweeney) accepts a job as a live-in housemaid for the wealthy Nina (Seyfried) and Andrew Winchester (Brandon Sklenar). But what starts out as a dream job quickly develops into something far more risky — a sexy\, seductive game of secrets\, scandal\, and power. Behind the Winchesters’ closed doors lies a world of shocking twists that will leave you guessing right until the end. \nCertificate: 15\nRunning time: 2hrs 11mins\nAD Audio Description available \nShow times\nPlease note: Film starts at advertised time\nFriday 2 January 2026 at 7.15pm\nSaturday 3 January 2026 at 4pm\nSunday 4 January 2026 at 6.30pm\nTuesday 6 January 2026 at 7.15pm\nWednesday 7 January 2026 at 7.15pm\nThursday 8 January 2026 4.45pm
URL:https://www.visitthemalverns.org/event/the-housemaid-15/2026-01-02/
LOCATION:Malvern Theatres\, WR14 3HB
CATEGORIES:Cinema,Film,Malvern
ATTACH;FMTTYPE=image/jpeg:https://www.visitthemalverns.org/wp-content/uploads/2021/07/iStock-1191001701-cinema-resized-1.jpg
GEO:52.1106766;-2.3267752
X-APPLE-STRUCTURED-LOCATION;VALUE=URI;X-ADDRESS=Malvern Theatres WR14 3HB;X-APPLE-RADIUS=500;X-TITLE=WR14 3HB:geo:-2.3267752,52.1106766
END:VEVENT
END:VCALENDAR