BEGIN:VCALENDAR
VERSION:2.0
PRODID:-//Visit The Malverns - ECPv6.15.20//NONSGML v1.0//EN
CALSCALE:GREGORIAN
METHOD:PUBLISH
X-ORIGINAL-URL:https://www.visitthemalverns.org
X-WR-CALDESC:Events for Visit The Malverns
REFRESH-INTERVAL;VALUE=DURATION:PT1H
X-Robots-Tag:noindex
X-PUBLISHED-TTL:PT1H
BEGIN:VTIMEZONE
TZID:Europe/London
BEGIN:DAYLIGHT
TZOFFSETFROM:+0000
TZOFFSETTO:+0100
TZNAME:BST
DTSTART:20250330T010000
END:DAYLIGHT
BEGIN:STANDARD
TZOFFSETFROM:+0100
TZOFFSETTO:+0000
TZNAME:GMT
DTSTART:20251026T010000
END:STANDARD
BEGIN:DAYLIGHT
TZOFFSETFROM:+0000
TZOFFSETTO:+0100
TZNAME:BST
DTSTART:20260329T010000
END:DAYLIGHT
BEGIN:STANDARD
TZOFFSETFROM:+0100
TZOFFSETTO:+0000
TZNAME:GMT
DTSTART:20261025T010000
END:STANDARD
BEGIN:DAYLIGHT
TZOFFSETFROM:+0000
TZOFFSETTO:+0100
TZNAME:BST
DTSTART:20270328T010000
END:DAYLIGHT
BEGIN:STANDARD
TZOFFSETFROM:+0100
TZOFFSETTO:+0000
TZNAME:GMT
DTSTART:20271031T010000
END:STANDARD
END:VTIMEZONE
BEGIN:VEVENT
DTSTART;TZID=Europe/London:20260107T191500
DTEND;TZID=Europe/London:20260107T213000
DTSTAMP:20260421T073411
CREATED:20251216T152759Z
LAST-MODIFIED:20251216T152759Z
UID:10021697-1767813300-1767821400@www.visitthemalverns.org
SUMMARY:The Housemaid (15)
DESCRIPTION:The Housemaid is a wildly entertaining thriller starring Sydney Sweeney and Amanda Seyfried\, based on the best-selling book by Freida McFadden. \nFrom director Paul Feig\, the film plunges audiences into a twisted world where perfection is an illusion\, and nothing is as it seems. Trying to get clear of her past\, Millie (Sweeney) accepts a job as a live-in housemaid for the wealthy Nina (Seyfried) and Andrew Winchester (Brandon Sklenar). But what starts out as a dream job quickly develops into something far more risky — a sexy\, seductive game of secrets\, scandal\, and power. Behind the Winchesters’ closed doors lies a world of shocking twists that will leave you guessing right until the end. \nCertificate: 15\nRunning time: 2hrs 11mins\nAD Audio Description available \nShow times\nPlease note: Film starts at advertised time\nFriday 2 January 2026 at 7.15pm\nSaturday 3 January 2026 at 4pm\nSunday 4 January 2026 at 6.30pm\nTuesday 6 January 2026 at 7.15pm\nWednesday 7 January 2026 at 7.15pm\nThursday 8 January 2026 4.45pm
URL:https://www.visitthemalverns.org/event/the-housemaid-15/2026-01-07/
LOCATION:Malvern Theatres\, WR14 3HB
CATEGORIES:Cinema,Film,Malvern
ATTACH;FMTTYPE=image/jpeg:https://www.visitthemalverns.org/wp-content/uploads/2021/07/iStock-1191001701-cinema-resized-1.jpg
GEO:52.1106766;-2.3267752
X-APPLE-STRUCTURED-LOCATION;VALUE=URI;X-ADDRESS=Malvern Theatres WR14 3HB;X-APPLE-RADIUS=500;X-TITLE=WR14 3HB:geo:-2.3267752,52.1106766
END:VEVENT
END:VCALENDAR