BEGIN:VCALENDAR
VERSION:2.0
PRODID:-//Visit The Malverns - ECPv6.15.20//NONSGML v1.0//EN
CALSCALE:GREGORIAN
METHOD:PUBLISH
X-WR-CALNAME:Visit The Malverns
X-ORIGINAL-URL:https://www.visitthemalverns.org
X-WR-CALDESC:Events for Visit The Malverns
REFRESH-INTERVAL;VALUE=DURATION:PT1H
X-Robots-Tag:noindex
X-PUBLISHED-TTL:PT1H
BEGIN:VTIMEZONE
TZID:Europe/London
BEGIN:DAYLIGHT
TZOFFSETFROM:+0000
TZOFFSETTO:+0100
TZNAME:BST
DTSTART:20250330T010000
END:DAYLIGHT
BEGIN:STANDARD
TZOFFSETFROM:+0100
TZOFFSETTO:+0000
TZNAME:GMT
DTSTART:20251026T010000
END:STANDARD
BEGIN:DAYLIGHT
TZOFFSETFROM:+0000
TZOFFSETTO:+0100
TZNAME:BST
DTSTART:20260329T010000
END:DAYLIGHT
BEGIN:STANDARD
TZOFFSETFROM:+0100
TZOFFSETTO:+0000
TZNAME:GMT
DTSTART:20261025T010000
END:STANDARD
BEGIN:DAYLIGHT
TZOFFSETFROM:+0000
TZOFFSETTO:+0100
TZNAME:BST
DTSTART:20270328T010000
END:DAYLIGHT
BEGIN:STANDARD
TZOFFSETFROM:+0100
TZOFFSETTO:+0000
TZNAME:GMT
DTSTART:20271031T010000
END:STANDARD
END:VTIMEZONE
BEGIN:VEVENT
DTSTART;TZID=Europe/London:20260111T150000
DTEND;TZID=Europe/London:20260111T170000
DTSTAMP:20260421T073848
CREATED:20251223T142708Z
LAST-MODIFIED:20251223T142708Z
UID:10021822-1768143600-1768150800@www.visitthemalverns.org
SUMMARY:Hamnet (12A)
DESCRIPTION:From Academy Award® winning writer/director Chloé Zhao\, Hamnet tells the powerful story of love and loss that inspired the creation of Shakespeare’s timeless masterpiece\, Hamlet. \n1580\, England. Impoverished Latin tutor William Shakespeare meets free-spirited Agnes\, and the pair\, enthralled by each another\, strike up a torrid affair that leads to marriage and three children. Yet as Will builds his theatre career in distant London\, Agnes anchors the domestic sphere alone. When tragedy strikes\, the couple’s once-unshakable bond is challenged\, but their shared experience sets the stage for the creation of Shakespeare’s timeless masterpiece\, Hamlet. From Focus Features and Academy Award® winning filmmaker Chloé Zhao (Nomadland\, The Rider) comes a sensitively observed\, flawlessly crafted tale about the complexities of love and the healing power of art and creativity. \nBased on Maggie O’Farrell’s award-winning novel Hamnet and adapted for the screen by Zhao and O’Farrell\, the film stars Academy Award®-nominee Jessie Buckley (The Lost Daughter)\, Academy Award®-nominee Paul Mescal (All of Us Strangers)\, Academy Award®-nominee Emily Watson (Hilary and Jackie\, Breaking the Waves) and Joe Alwyn (The Brutalist). \nCertificate: 12A\nRunning time: 2hrs 5mins\nAD Audio Description available\nDS Descriptive Subtitles: Thursday 15 January at 4.45pm and Monday 19 January at 7.15pm \nShow times\nPlease note: Film starts at advertised time\nFriday 9 January 2026 at 4pm & 7.15pm\nSaturday 10 January 2026 at 3pm\nSunday 11 January 2026 at 3pm & 6.30pm\nMonday 12 January 2026 at 7.15pm\nTuesday 13 January 2026 at 11am\, 4pm & 7.15pm\nThursday 15 January 2026 at 1.45pm\, 4.45pm (with Descriptive Subtitles) & 7.45pm\nFriday 16 January 2026 at 4pm\nSaturday 17 January 2026 at 7.15pm\nSunday 18 January 2026 at 6.30pm\nMonday 19 January 2026 at 7.15pm (with Descriptive Subtitles)\nTuesday 20 January 2026 at 11am & 4pm\nWednesday 21 January 2026 at 7.15pm\nThursday 22 January 2026 at 1pm & 4pm
URL:https://www.visitthemalverns.org/event/hamnet-12a/2026-01-11/1/
LOCATION:Malvern Theatres\, WR14 3HB
CATEGORIES:Cinema,Film,Malvern
ATTACH;FMTTYPE=image/jpeg:https://www.visitthemalverns.org/wp-content/uploads/2021/07/iStock-1191001701-cinema-resized-1.jpg
GEO:52.1106766;-2.3267752
X-APPLE-STRUCTURED-LOCATION;VALUE=URI;X-ADDRESS=Malvern Theatres WR14 3HB;X-APPLE-RADIUS=500;X-TITLE=WR14 3HB:geo:-2.3267752,52.1106766
END:VEVENT
BEGIN:VEVENT
DTSTART;TZID=Europe/London:20260111T151500
DTEND;TZID=Europe/London:20260111T170000
DTSTAMP:20260421T073848
CREATED:20250913T151229Z
LAST-MODIFIED:20250913T151229Z
UID:10020456-1768144500-1768150800@www.visitthemalverns.org
SUMMARY:Remorques (U) (Malvern French Film Centre)
DESCRIPTION:An atmospheric story of the romantic trials of a tugboat captain\, played by the iconic French star Jean Gabin\, a man of courage and duty who leads a hard life. Both for him and other members of the boat’s crew\, existence is sharply divided between the jeopardy of the stormy seas and the safety of life at home with their patient women. When Gabin’s character André meets temptation in the form of the alluring Catherine during a risky rescue\, he comes perilously close to betraying his wife of ten years. \nDescribed as a timeless masterpiece\, Remorques reunites the legendary couple from the pre-war classic Quai des Brumes\, Jean Gabin and Michèle Morgan. Director Jean Grémillon was a filmmaker with a love of the sea and experience in documentary film-making\, and here he uses beautiful tracking shots and compelling special-effect works to depict emotions swept away by the forces of nature. \nEnglish title: Stormy Waters\nDirector: Jean Grémillon\nRelease date: 1941\nClassic romance\nB&W\nRunning time: 1hr 25mins\nCertificate: U\nFrench with English subtitles \nShow times\nSunday 11 January 2026\, 3.15pm\nSunday 11 January 2026\, 6.45pm
URL:https://www.visitthemalverns.org/event/remorques-u-malvern-french-film-centre/2026-01-11/1/
LOCATION:Malvern Theatres\, WR14 3HB
CATEGORIES:Cinema,Film
ATTACH;FMTTYPE=image/jpeg:https://www.visitthemalverns.org/wp-content/uploads/2025/09/Remorques.jpg
GEO:52.1106766;-2.3267752
X-APPLE-STRUCTURED-LOCATION;VALUE=URI;X-ADDRESS=Malvern Theatres WR14 3HB;X-APPLE-RADIUS=500;X-TITLE=WR14 3HB:geo:-2.3267752,52.1106766
END:VEVENT
BEGIN:VEVENT
DTSTART;TZID=Europe/London:20260111T183000
DTEND;TZID=Europe/London:20260111T203000
DTSTAMP:20260421T073848
CREATED:20251223T142708Z
LAST-MODIFIED:20251223T142708Z
UID:10021823-1768156200-1768163400@www.visitthemalverns.org
SUMMARY:Hamnet (12A)
DESCRIPTION:From Academy Award® winning writer/director Chloé Zhao\, Hamnet tells the powerful story of love and loss that inspired the creation of Shakespeare’s timeless masterpiece\, Hamlet. \n1580\, England. Impoverished Latin tutor William Shakespeare meets free-spirited Agnes\, and the pair\, enthralled by each another\, strike up a torrid affair that leads to marriage and three children. Yet as Will builds his theatre career in distant London\, Agnes anchors the domestic sphere alone. When tragedy strikes\, the couple’s once-unshakable bond is challenged\, but their shared experience sets the stage for the creation of Shakespeare’s timeless masterpiece\, Hamlet. From Focus Features and Academy Award® winning filmmaker Chloé Zhao (Nomadland\, The Rider) comes a sensitively observed\, flawlessly crafted tale about the complexities of love and the healing power of art and creativity. \nBased on Maggie O’Farrell’s award-winning novel Hamnet and adapted for the screen by Zhao and O’Farrell\, the film stars Academy Award®-nominee Jessie Buckley (The Lost Daughter)\, Academy Award®-nominee Paul Mescal (All of Us Strangers)\, Academy Award®-nominee Emily Watson (Hilary and Jackie\, Breaking the Waves) and Joe Alwyn (The Brutalist). \nCertificate: 12A\nRunning time: 2hrs 5mins\nAD Audio Description available\nDS Descriptive Subtitles: Thursday 15 January at 4.45pm and Monday 19 January at 7.15pm \nShow times\nPlease note: Film starts at advertised time\nFriday 9 January 2026 at 4pm & 7.15pm\nSaturday 10 January 2026 at 3pm\nSunday 11 January 2026 at 3pm & 6.30pm\nMonday 12 January 2026 at 7.15pm\nTuesday 13 January 2026 at 11am\, 4pm & 7.15pm\nThursday 15 January 2026 at 1.45pm\, 4.45pm (with Descriptive Subtitles) & 7.45pm\nFriday 16 January 2026 at 4pm\nSaturday 17 January 2026 at 7.15pm\nSunday 18 January 2026 at 6.30pm\nMonday 19 January 2026 at 7.15pm (with Descriptive Subtitles)\nTuesday 20 January 2026 at 11am & 4pm\nWednesday 21 January 2026 at 7.15pm\nThursday 22 January 2026 at 1pm & 4pm
URL:https://www.visitthemalverns.org/event/hamnet-12a/2026-01-11/2/
LOCATION:Malvern Theatres\, WR14 3HB
CATEGORIES:Cinema,Film,Malvern
ATTACH;FMTTYPE=image/jpeg:https://www.visitthemalverns.org/wp-content/uploads/2021/07/iStock-1191001701-cinema-resized-1.jpg
GEO:52.1106766;-2.3267752
X-APPLE-STRUCTURED-LOCATION;VALUE=URI;X-ADDRESS=Malvern Theatres WR14 3HB;X-APPLE-RADIUS=500;X-TITLE=WR14 3HB:geo:-2.3267752,52.1106766
END:VEVENT
BEGIN:VEVENT
DTSTART;TZID=Europe/London:20260111T184500
DTEND;TZID=Europe/London:20260111T203000
DTSTAMP:20260421T073848
CREATED:20250913T151229Z
LAST-MODIFIED:20250913T151229Z
UID:10020457-1768157100-1768163400@www.visitthemalverns.org
SUMMARY:Remorques (U) (Malvern French Film Centre)
DESCRIPTION:An atmospheric story of the romantic trials of a tugboat captain\, played by the iconic French star Jean Gabin\, a man of courage and duty who leads a hard life. Both for him and other members of the boat’s crew\, existence is sharply divided between the jeopardy of the stormy seas and the safety of life at home with their patient women. When Gabin’s character André meets temptation in the form of the alluring Catherine during a risky rescue\, he comes perilously close to betraying his wife of ten years. \nDescribed as a timeless masterpiece\, Remorques reunites the legendary couple from the pre-war classic Quai des Brumes\, Jean Gabin and Michèle Morgan. Director Jean Grémillon was a filmmaker with a love of the sea and experience in documentary film-making\, and here he uses beautiful tracking shots and compelling special-effect works to depict emotions swept away by the forces of nature. \nEnglish title: Stormy Waters\nDirector: Jean Grémillon\nRelease date: 1941\nClassic romance\nB&W\nRunning time: 1hr 25mins\nCertificate: U\nFrench with English subtitles \nShow times\nSunday 11 January 2026\, 3.15pm\nSunday 11 January 2026\, 6.45pm
URL:https://www.visitthemalverns.org/event/remorques-u-malvern-french-film-centre/2026-01-11/2/
LOCATION:Malvern Theatres\, WR14 3HB
CATEGORIES:Cinema,Film
ATTACH;FMTTYPE=image/jpeg:https://www.visitthemalverns.org/wp-content/uploads/2025/09/Remorques.jpg
GEO:52.1106766;-2.3267752
X-APPLE-STRUCTURED-LOCATION;VALUE=URI;X-ADDRESS=Malvern Theatres WR14 3HB;X-APPLE-RADIUS=500;X-TITLE=WR14 3HB:geo:-2.3267752,52.1106766
END:VEVENT
END:VCALENDAR