BEGIN:VCALENDAR
VERSION:2.0
PRODID:-//Visit The Malverns - ECPv6.15.20//NONSGML v1.0//EN
CALSCALE:GREGORIAN
METHOD:PUBLISH
X-ORIGINAL-URL:https://www.visitthemalverns.org
X-WR-CALDESC:Events for Visit The Malverns
REFRESH-INTERVAL;VALUE=DURATION:PT1H
X-Robots-Tag:noindex
X-PUBLISHED-TTL:PT1H
BEGIN:VTIMEZONE
TZID:Europe/London
BEGIN:DAYLIGHT
TZOFFSETFROM:+0000
TZOFFSETTO:+0100
TZNAME:BST
DTSTART:20250330T010000
END:DAYLIGHT
BEGIN:STANDARD
TZOFFSETFROM:+0100
TZOFFSETTO:+0000
TZNAME:GMT
DTSTART:20251026T010000
END:STANDARD
BEGIN:DAYLIGHT
TZOFFSETFROM:+0000
TZOFFSETTO:+0100
TZNAME:BST
DTSTART:20260329T010000
END:DAYLIGHT
BEGIN:STANDARD
TZOFFSETFROM:+0100
TZOFFSETTO:+0000
TZNAME:GMT
DTSTART:20261025T010000
END:STANDARD
BEGIN:DAYLIGHT
TZOFFSETFROM:+0000
TZOFFSETTO:+0100
TZNAME:BST
DTSTART:20270328T010000
END:DAYLIGHT
BEGIN:STANDARD
TZOFFSETFROM:+0100
TZOFFSETTO:+0000
TZNAME:GMT
DTSTART:20271031T010000
END:STANDARD
END:VTIMEZONE
BEGIN:VEVENT
DTSTART;TZID=Europe/London:20260115T134500
DTEND;TZID=Europe/London:20260115T160000
DTSTAMP:20260421T074137
CREATED:20251223T142708Z
LAST-MODIFIED:20251223T142708Z
UID:10021828-1768484700-1768492800@www.visitthemalverns.org
SUMMARY:Hamnet (12A)
DESCRIPTION:From Academy Award® winning writer/director Chloé Zhao\, Hamnet tells the powerful story of love and loss that inspired the creation of Shakespeare’s timeless masterpiece\, Hamlet. \n1580\, England. Impoverished Latin tutor William Shakespeare meets free-spirited Agnes\, and the pair\, enthralled by each another\, strike up a torrid affair that leads to marriage and three children. Yet as Will builds his theatre career in distant London\, Agnes anchors the domestic sphere alone. When tragedy strikes\, the couple’s once-unshakable bond is challenged\, but their shared experience sets the stage for the creation of Shakespeare’s timeless masterpiece\, Hamlet. From Focus Features and Academy Award® winning filmmaker Chloé Zhao (Nomadland\, The Rider) comes a sensitively observed\, flawlessly crafted tale about the complexities of love and the healing power of art and creativity. \nBased on Maggie O’Farrell’s award-winning novel Hamnet and adapted for the screen by Zhao and O’Farrell\, the film stars Academy Award®-nominee Jessie Buckley (The Lost Daughter)\, Academy Award®-nominee Paul Mescal (All of Us Strangers)\, Academy Award®-nominee Emily Watson (Hilary and Jackie\, Breaking the Waves) and Joe Alwyn (The Brutalist). \nCertificate: 12A\nRunning time: 2hrs 5mins\nAD Audio Description available\nDS Descriptive Subtitles: Thursday 15 January at 4.45pm and Monday 19 January at 7.15pm \nShow times\nPlease note: Film starts at advertised time\nFriday 9 January 2026 at 4pm & 7.15pm\nSaturday 10 January 2026 at 3pm\nSunday 11 January 2026 at 3pm & 6.30pm\nMonday 12 January 2026 at 7.15pm\nTuesday 13 January 2026 at 11am\, 4pm & 7.15pm\nThursday 15 January 2026 at 1.45pm\, 4.45pm (with Descriptive Subtitles) & 7.45pm\nFriday 16 January 2026 at 4pm\nSaturday 17 January 2026 at 7.15pm\nSunday 18 January 2026 at 6.30pm\nMonday 19 January 2026 at 7.15pm (with Descriptive Subtitles)\nTuesday 20 January 2026 at 11am & 4pm\nWednesday 21 January 2026 at 7.15pm\nThursday 22 January 2026 at 1pm & 4pm
URL:https://www.visitthemalverns.org/event/hamnet-12a/2026-01-15/1/
LOCATION:Malvern Theatres\, WR14 3HB
CATEGORIES:Cinema,Film,Malvern
ATTACH;FMTTYPE=image/jpeg:https://www.visitthemalverns.org/wp-content/uploads/2021/07/iStock-1191001701-cinema-resized-1.jpg
GEO:52.1106766;-2.3267752
X-APPLE-STRUCTURED-LOCATION;VALUE=URI;X-ADDRESS=Malvern Theatres WR14 3HB;X-APPLE-RADIUS=500;X-TITLE=WR14 3HB:geo:-2.3267752,52.1106766
END:VEVENT
BEGIN:VEVENT
DTSTART;TZID=Europe/London:20260115T164500
DTEND;TZID=Europe/London:20260115T190000
DTSTAMP:20260421T074137
CREATED:20251223T142708Z
LAST-MODIFIED:20251223T142708Z
UID:10021829-1768495500-1768503600@www.visitthemalverns.org
SUMMARY:Hamnet (12A)
DESCRIPTION:From Academy Award® winning writer/director Chloé Zhao\, Hamnet tells the powerful story of love and loss that inspired the creation of Shakespeare’s timeless masterpiece\, Hamlet. \n1580\, England. Impoverished Latin tutor William Shakespeare meets free-spirited Agnes\, and the pair\, enthralled by each another\, strike up a torrid affair that leads to marriage and three children. Yet as Will builds his theatre career in distant London\, Agnes anchors the domestic sphere alone. When tragedy strikes\, the couple’s once-unshakable bond is challenged\, but their shared experience sets the stage for the creation of Shakespeare’s timeless masterpiece\, Hamlet. From Focus Features and Academy Award® winning filmmaker Chloé Zhao (Nomadland\, The Rider) comes a sensitively observed\, flawlessly crafted tale about the complexities of love and the healing power of art and creativity. \nBased on Maggie O’Farrell’s award-winning novel Hamnet and adapted for the screen by Zhao and O’Farrell\, the film stars Academy Award®-nominee Jessie Buckley (The Lost Daughter)\, Academy Award®-nominee Paul Mescal (All of Us Strangers)\, Academy Award®-nominee Emily Watson (Hilary and Jackie\, Breaking the Waves) and Joe Alwyn (The Brutalist). \nCertificate: 12A\nRunning time: 2hrs 5mins\nAD Audio Description available\nDS Descriptive Subtitles: Thursday 15 January at 4.45pm and Monday 19 January at 7.15pm \nShow times\nPlease note: Film starts at advertised time\nFriday 9 January 2026 at 4pm & 7.15pm\nSaturday 10 January 2026 at 3pm\nSunday 11 January 2026 at 3pm & 6.30pm\nMonday 12 January 2026 at 7.15pm\nTuesday 13 January 2026 at 11am\, 4pm & 7.15pm\nThursday 15 January 2026 at 1.45pm\, 4.45pm (with Descriptive Subtitles) & 7.45pm\nFriday 16 January 2026 at 4pm\nSaturday 17 January 2026 at 7.15pm\nSunday 18 January 2026 at 6.30pm\nMonday 19 January 2026 at 7.15pm (with Descriptive Subtitles)\nTuesday 20 January 2026 at 11am & 4pm\nWednesday 21 January 2026 at 7.15pm\nThursday 22 January 2026 at 1pm & 4pm
URL:https://www.visitthemalverns.org/event/hamnet-12a/2026-01-15/2/
LOCATION:Malvern Theatres\, WR14 3HB
CATEGORIES:Cinema,Film,Malvern
ATTACH;FMTTYPE=image/jpeg:https://www.visitthemalverns.org/wp-content/uploads/2021/07/iStock-1191001701-cinema-resized-1.jpg
GEO:52.1106766;-2.3267752
X-APPLE-STRUCTURED-LOCATION;VALUE=URI;X-ADDRESS=Malvern Theatres WR14 3HB;X-APPLE-RADIUS=500;X-TITLE=WR14 3HB:geo:-2.3267752,52.1106766
END:VEVENT
BEGIN:VEVENT
DTSTART;TZID=Europe/London:20260115T190000
DTEND;TZID=Europe/London:20260115T210000
DTSTAMP:20260421T074137
CREATED:20251219T145822Z
LAST-MODIFIED:20251219T145822Z
UID:10021763-1768503600-1768510800@www.visitthemalverns.org
SUMMARY:The Choral (12A)
DESCRIPTION:1916. As war rages on the Western Front\, the Choral Society in Ramsden\, Yorkshire has lost most of its men to the army. The Choral’s ambitious committee\, determined to press ahead\, decides to recruit local young males to swell their ranks. They must also engage a new chorus master\, and despite their suspicions that he has something to hide\, their best bet seems to be Dr. Henry Guthrie (Ralph Fiennes) – driven\, uncompromising\, and recently returned from a career in Germany. As conscription papers start to arrive\, the whole community discovers that the best response to the chaos that is laying waste to their lives is to make music together. \nDirected by: Nicholas Hytner\nCast includes: Ralph Fiennes\, Roger Allam\, Mark Addy
URL:https://www.visitthemalverns.org/event/the-choral-12a-3/
LOCATION:Regal Tenbury Wells\, 49 Teme Street\, Tenbury Wells WR15 8AE
CATEGORIES:Cinema,Film,Tenbury Wells
ATTACH;FMTTYPE=image/jpeg:https://www.visitthemalverns.org/wp-content/uploads/2021/07/iStock-1191001701-cinema-resized-1.jpg
GEO:52.3124173;-2.5943612
X-APPLE-STRUCTURED-LOCATION;VALUE=URI;X-ADDRESS=Regal Tenbury Wells 49 Teme Street Tenbury Wells WR15 8AE;X-APPLE-RADIUS=500;X-TITLE=49 Teme Street\, Tenbury Wells WR15 8AE:geo:-2.5943612,52.3124173
END:VEVENT
BEGIN:VEVENT
DTSTART;TZID=Europe/London:20260115T194500
DTEND;TZID=Europe/London:20260115T220000
DTSTAMP:20260421T074137
CREATED:20251223T142708Z
LAST-MODIFIED:20251223T142708Z
UID:10021830-1768506300-1768514400@www.visitthemalverns.org
SUMMARY:Hamnet (12A)
DESCRIPTION:From Academy Award® winning writer/director Chloé Zhao\, Hamnet tells the powerful story of love and loss that inspired the creation of Shakespeare’s timeless masterpiece\, Hamlet. \n1580\, England. Impoverished Latin tutor William Shakespeare meets free-spirited Agnes\, and the pair\, enthralled by each another\, strike up a torrid affair that leads to marriage and three children. Yet as Will builds his theatre career in distant London\, Agnes anchors the domestic sphere alone. When tragedy strikes\, the couple’s once-unshakable bond is challenged\, but their shared experience sets the stage for the creation of Shakespeare’s timeless masterpiece\, Hamlet. From Focus Features and Academy Award® winning filmmaker Chloé Zhao (Nomadland\, The Rider) comes a sensitively observed\, flawlessly crafted tale about the complexities of love and the healing power of art and creativity. \nBased on Maggie O’Farrell’s award-winning novel Hamnet and adapted for the screen by Zhao and O’Farrell\, the film stars Academy Award®-nominee Jessie Buckley (The Lost Daughter)\, Academy Award®-nominee Paul Mescal (All of Us Strangers)\, Academy Award®-nominee Emily Watson (Hilary and Jackie\, Breaking the Waves) and Joe Alwyn (The Brutalist). \nCertificate: 12A\nRunning time: 2hrs 5mins\nAD Audio Description available\nDS Descriptive Subtitles: Thursday 15 January at 4.45pm and Monday 19 January at 7.15pm \nShow times\nPlease note: Film starts at advertised time\nFriday 9 January 2026 at 4pm & 7.15pm\nSaturday 10 January 2026 at 3pm\nSunday 11 January 2026 at 3pm & 6.30pm\nMonday 12 January 2026 at 7.15pm\nTuesday 13 January 2026 at 11am\, 4pm & 7.15pm\nThursday 15 January 2026 at 1.45pm\, 4.45pm (with Descriptive Subtitles) & 7.45pm\nFriday 16 January 2026 at 4pm\nSaturday 17 January 2026 at 7.15pm\nSunday 18 January 2026 at 6.30pm\nMonday 19 January 2026 at 7.15pm (with Descriptive Subtitles)\nTuesday 20 January 2026 at 11am & 4pm\nWednesday 21 January 2026 at 7.15pm\nThursday 22 January 2026 at 1pm & 4pm
URL:https://www.visitthemalverns.org/event/hamnet-12a/2026-01-15/3/
LOCATION:Malvern Theatres\, WR14 3HB
CATEGORIES:Cinema,Film,Malvern
ATTACH;FMTTYPE=image/jpeg:https://www.visitthemalverns.org/wp-content/uploads/2021/07/iStock-1191001701-cinema-resized-1.jpg
GEO:52.1106766;-2.3267752
X-APPLE-STRUCTURED-LOCATION;VALUE=URI;X-ADDRESS=Malvern Theatres WR14 3HB;X-APPLE-RADIUS=500;X-TITLE=WR14 3HB:geo:-2.3267752,52.1106766
END:VEVENT
END:VCALENDAR