BEGIN:VCALENDAR
VERSION:2.0
PRODID:-//Visit The Malverns - ECPv6.15.20//NONSGML v1.0//EN
CALSCALE:GREGORIAN
METHOD:PUBLISH
X-WR-CALNAME:Visit The Malverns
X-ORIGINAL-URL:https://www.visitthemalverns.org
X-WR-CALDESC:Events for Visit The Malverns
REFRESH-INTERVAL;VALUE=DURATION:PT1H
X-Robots-Tag:noindex
X-PUBLISHED-TTL:PT1H
BEGIN:VTIMEZONE
TZID:Europe/London
BEGIN:DAYLIGHT
TZOFFSETFROM:+0000
TZOFFSETTO:+0100
TZNAME:BST
DTSTART:20250330T010000
END:DAYLIGHT
BEGIN:STANDARD
TZOFFSETFROM:+0100
TZOFFSETTO:+0000
TZNAME:GMT
DTSTART:20251026T010000
END:STANDARD
BEGIN:DAYLIGHT
TZOFFSETFROM:+0000
TZOFFSETTO:+0100
TZNAME:BST
DTSTART:20260329T010000
END:DAYLIGHT
BEGIN:STANDARD
TZOFFSETFROM:+0100
TZOFFSETTO:+0000
TZNAME:GMT
DTSTART:20261025T010000
END:STANDARD
BEGIN:DAYLIGHT
TZOFFSETFROM:+0000
TZOFFSETTO:+0100
TZNAME:BST
DTSTART:20270328T010000
END:DAYLIGHT
BEGIN:STANDARD
TZOFFSETFROM:+0100
TZOFFSETTO:+0000
TZNAME:GMT
DTSTART:20271031T010000
END:STANDARD
END:VTIMEZONE
BEGIN:VEVENT
DTSTART;TZID=Europe/London:20260129T133000
DTEND;TZID=Europe/London:20260129T153000
DTSTAMP:20260421T060953
CREATED:20251216T153556Z
LAST-MODIFIED:20251216T153556Z
UID:10021703-1769693400-1769700600@www.visitthemalverns.org
SUMMARY:Sentimental Value (15)
DESCRIPTION:Joachim Trier’s Sentimental Value is a rewarding and profoundly moving cinematic experience that intimately explores sisterhood\, father-daughter relationships and the evocative power of childhood memories. \nThe film stars Renate Reinsve\, Stellan Skarsgård\, Inga Ibsdotter Lilleaas\, and Elle Fanning. \nCertificate: 15\nRunning time: 2hrs 13mins\nAD Audio Description available\nLanguage: Norwegian\, English & French with English subtitles \nShow times\nPlease note: Film starts at advertised time\nFriday 23 January 2026 at 4pm\nSaturday 24 January 2026 at 7.15pm\nSunday 25 January 2026 at 6.30pm\nTuesday 27 January 2026 at 11am\nThursday 29 January 2026 at 1.30pm
URL:https://www.visitthemalverns.org/event/sentimental-value-15/2026-01-29/
LOCATION:Malvern Theatres\, WR14 3HB
CATEGORIES:Cinema,Film,Malvern
ATTACH;FMTTYPE=image/jpeg:https://www.visitthemalverns.org/wp-content/uploads/2021/07/iStock-1191001701-cinema-resized-1.jpg
GEO:52.1106766;-2.3267752
X-APPLE-STRUCTURED-LOCATION;VALUE=URI;X-ADDRESS=Malvern Theatres WR14 3HB;X-APPLE-RADIUS=500;X-TITLE=WR14 3HB:geo:-2.3267752,52.1106766
END:VEVENT
BEGIN:VEVENT
DTSTART;TZID=Europe/London:20260129T163000
DTEND;TZID=Europe/London:20260129T190000
DTSTAMP:20260421T060953
CREATED:20251216T155759Z
LAST-MODIFIED:20251216T155759Z
UID:10021710-1769704200-1769713200@www.visitthemalverns.org
SUMMARY:Marty Supreme (15)
DESCRIPTION:Marty Mauser (Timothée Chalamet)\, a young man with a dream no one respects\, goes to hell and back in pursuit of greatness in this comedy-drama directed by Josh Safdie. \nCertificate: 15\nRunning time: 2hrs 29mins\nAD Audio Description available\nDS Descriptive Subtitles: Monday 26 January at 7.15pm \nShow times\nPlease note: Film starts at advertised time\nFriday 23 January 2026 at 7.15pm\nSaturday 24 January 2026 at 4pm\nSunday 25 January 2026 at 3pm\nMonday 26 January 2026 at 7.15pm (with Descriptive Subtitles)\nTuesday 27 January 2026 at 4pm\nWednesday 28 January 2026 at 7.15pm\nThursday 29 January 2026 at 4.30pm\nSaturday 31 January 2026 at 7.15pm\nTuesday 3 February 2026 at 11am\nWednesday 4 February 2026 at 7.15pm\nThursday 5 February 2026 at 3.30pm
URL:https://www.visitthemalverns.org/event/marty-supreme-15/2026-01-29/
LOCATION:Malvern Theatres\, WR14 3HB
CATEGORIES:Cinema,Film,Malvern
ATTACH;FMTTYPE=image/jpeg:https://www.visitthemalverns.org/wp-content/uploads/2021/07/iStock-1191001701-cinema-resized-1.jpg
GEO:52.1106766;-2.3267752
X-APPLE-STRUCTURED-LOCATION;VALUE=URI;X-ADDRESS=Malvern Theatres WR14 3HB;X-APPLE-RADIUS=500;X-TITLE=WR14 3HB:geo:-2.3267752,52.1106766
END:VEVENT
BEGIN:VEVENT
DTSTART;TZID=Europe/London:20260129T193000
DTEND;TZID=Europe/London:20260129T213000
DTSTAMP:20260421T060953
CREATED:20251216T161718Z
LAST-MODIFIED:20251216T161718Z
UID:10021717-1769715000-1769722200@www.visitthemalverns.org
SUMMARY:Banff Mountain Film Festival World Tour
DESCRIPTION:Get ready for an unforgettable evening of thrilling adventure – up on the big screen! \nThe Banff Mountain Film Festival showcases a brand-new selection of short films filled with extreme journeys\, untamed characters and stunning cinematography. Join some of the top adventure filmmakers and thrill-seekers on the planet as they climb\, ski\, paddle and ride into the wildest corners of the world! \nThere are two shows\, each with a totally different set of films – the 2026 Red Film Programme (29 January) and the 2026 Blue Film Programme (27 March). Double the adventure by coming to both with a two-show discount. \nWith free prize giveaways\, this is an unmissable event from the world’s most prestigious mountain festival – guaranteed to spark your passion for adventure\, action and travel!  \nAge Guidance: 12A \nShow times\nThursday 29 January 2026 at 7.30pm (Red Film Programme)\nFriday 27 March 2026 at 7.30pm (Blue Film Programme)
URL:https://www.visitthemalverns.org/event/banff-mountain-film-festival-world-tour-4/2026-01-29/
LOCATION:Malvern Theatres\, WR14 3HB
CATEGORIES:Cinema,Festival,Film,Malvern
ATTACH;FMTTYPE=image/jpeg:https://www.visitthemalverns.org/wp-content/uploads/2021/07/iStock-1191001701-cinema-resized-1.jpg
GEO:52.1106766;-2.3267752
X-APPLE-STRUCTURED-LOCATION;VALUE=URI;X-ADDRESS=Malvern Theatres WR14 3HB;X-APPLE-RADIUS=500;X-TITLE=WR14 3HB:geo:-2.3267752,52.1106766
END:VEVENT
BEGIN:VEVENT
DTSTART;TZID=Europe/London:20260129T194500
DTEND;TZID=Europe/London:20260129T213000
DTSTAMP:20260421T060953
CREATED:20251216T160537Z
LAST-MODIFIED:20251216T160537Z
UID:10021716-1769715900-1769722200@www.visitthemalverns.org
SUMMARY:Pillion (18)
DESCRIPTION:Wallflower Colin (Harry Melling) leads a humdrum existence until he meets the impossibly handsome Ray (Alexander Skarsgård)\, a mysterious biker he is soon desperately devoted to. \nAs Colin submits to Ray and enters an exciting new world of desire\, he must decide the limits of his devotion. \nHilarious\, subversive and sexy\, Pillion is the acclaimed and surprisingly tender love story from writer-director Harry Lighton\, starring Melling and Skarsgård in fearless performances as a mild young man and his leather-clad lover. \nCertificate: 18\nRunning time: 1hr 43mins\nAD Audio Description available \nShow times\nPlease note: Film starts at advertised time\nTuesday 27 January 2026 at 7.15pm\nThursday 29 January 2026 at 7.45pm
URL:https://www.visitthemalverns.org/event/pillion-18/2026-01-29/
LOCATION:Malvern Theatres\, WR14 3HB
CATEGORIES:Cinema,Film,Malvern
ATTACH;FMTTYPE=image/jpeg:https://www.visitthemalverns.org/wp-content/uploads/2021/07/iStock-1191001701-cinema-resized-1.jpg
GEO:52.1106766;-2.3267752
X-APPLE-STRUCTURED-LOCATION;VALUE=URI;X-ADDRESS=Malvern Theatres WR14 3HB;X-APPLE-RADIUS=500;X-TITLE=WR14 3HB:geo:-2.3267752,52.1106766
END:VEVENT
END:VCALENDAR