BEGIN:VCALENDAR
VERSION:2.0
PRODID:-//Visit The Malverns - ECPv6.15.20//NONSGML v1.0//EN
CALSCALE:GREGORIAN
METHOD:PUBLISH
X-WR-CALNAME:Visit The Malverns
X-ORIGINAL-URL:https://www.visitthemalverns.org
X-WR-CALDESC:Events for Visit The Malverns
REFRESH-INTERVAL;VALUE=DURATION:PT1H
X-Robots-Tag:noindex
X-PUBLISHED-TTL:PT1H
BEGIN:VTIMEZONE
TZID:Europe/London
BEGIN:DAYLIGHT
TZOFFSETFROM:+0000
TZOFFSETTO:+0100
TZNAME:BST
DTSTART:20250330T010000
END:DAYLIGHT
BEGIN:STANDARD
TZOFFSETFROM:+0100
TZOFFSETTO:+0000
TZNAME:GMT
DTSTART:20251026T010000
END:STANDARD
BEGIN:DAYLIGHT
TZOFFSETFROM:+0000
TZOFFSETTO:+0100
TZNAME:BST
DTSTART:20260329T010000
END:DAYLIGHT
BEGIN:STANDARD
TZOFFSETFROM:+0100
TZOFFSETTO:+0000
TZNAME:GMT
DTSTART:20261025T010000
END:STANDARD
BEGIN:DAYLIGHT
TZOFFSETFROM:+0000
TZOFFSETTO:+0100
TZNAME:BST
DTSTART:20270328T010000
END:DAYLIGHT
BEGIN:STANDARD
TZOFFSETFROM:+0100
TZOFFSETTO:+0000
TZNAME:GMT
DTSTART:20271031T010000
END:STANDARD
END:VTIMEZONE
BEGIN:VEVENT
DTSTART;TZID=Europe/London:20260204T191500
DTEND;TZID=Europe/London:20260204T220000
DTSTAMP:20260421T060937
CREATED:20251216T155759Z
LAST-MODIFIED:20251216T155759Z
UID:10021713-1770232500-1770242400@www.visitthemalverns.org
SUMMARY:Marty Supreme (15)
DESCRIPTION:Marty Mauser (Timothée Chalamet)\, a young man with a dream no one respects\, goes to hell and back in pursuit of greatness in this comedy-drama directed by Josh Safdie. \nCertificate: 15\nRunning time: 2hrs 29mins\nAD Audio Description available\nDS Descriptive Subtitles: Monday 26 January at 7.15pm \nShow times\nPlease note: Film starts at advertised time\nFriday 23 January 2026 at 7.15pm\nSaturday 24 January 2026 at 4pm\nSunday 25 January 2026 at 3pm\nMonday 26 January 2026 at 7.15pm (with Descriptive Subtitles)\nTuesday 27 January 2026 at 4pm\nWednesday 28 January 2026 at 7.15pm\nThursday 29 January 2026 at 4.30pm\nSaturday 31 January 2026 at 7.15pm\nTuesday 3 February 2026 at 11am\nWednesday 4 February 2026 at 7.15pm\nThursday 5 February 2026 at 3.30pm
URL:https://www.visitthemalverns.org/event/marty-supreme-15/2026-02-04/
LOCATION:Malvern Theatres\, WR14 3HB
CATEGORIES:Cinema,Film,Malvern
ATTACH;FMTTYPE=image/jpeg:https://www.visitthemalverns.org/wp-content/uploads/2021/07/iStock-1191001701-cinema-resized-1.jpg
GEO:52.1106766;-2.3267752
X-APPLE-STRUCTURED-LOCATION;VALUE=URI;X-ADDRESS=Malvern Theatres WR14 3HB;X-APPLE-RADIUS=500;X-TITLE=WR14 3HB:geo:-2.3267752,52.1106766
END:VEVENT
END:VCALENDAR