BEGIN:VCALENDAR
VERSION:2.0
PRODID:-//Visit The Malverns - ECPv6.15.20//NONSGML v1.0//EN
CALSCALE:GREGORIAN
METHOD:PUBLISH
X-WR-CALNAME:Visit The Malverns
X-ORIGINAL-URL:https://www.visitthemalverns.org
X-WR-CALDESC:Events for Visit The Malverns
REFRESH-INTERVAL;VALUE=DURATION:PT1H
X-Robots-Tag:noindex
X-PUBLISHED-TTL:PT1H
BEGIN:VTIMEZONE
TZID:Europe/London
BEGIN:DAYLIGHT
TZOFFSETFROM:+0000
TZOFFSETTO:+0100
TZNAME:BST
DTSTART:20250330T010000
END:DAYLIGHT
BEGIN:STANDARD
TZOFFSETFROM:+0100
TZOFFSETTO:+0000
TZNAME:GMT
DTSTART:20251026T010000
END:STANDARD
BEGIN:DAYLIGHT
TZOFFSETFROM:+0000
TZOFFSETTO:+0100
TZNAME:BST
DTSTART:20260329T010000
END:DAYLIGHT
BEGIN:STANDARD
TZOFFSETFROM:+0100
TZOFFSETTO:+0000
TZNAME:GMT
DTSTART:20261025T010000
END:STANDARD
BEGIN:DAYLIGHT
TZOFFSETFROM:+0000
TZOFFSETTO:+0100
TZNAME:BST
DTSTART:20270328T010000
END:DAYLIGHT
BEGIN:STANDARD
TZOFFSETFROM:+0100
TZOFFSETTO:+0000
TZNAME:GMT
DTSTART:20271031T010000
END:STANDARD
END:VTIMEZONE
BEGIN:VEVENT
DTSTART;TZID=Europe/London:20260208T150000
DTEND;TZID=Europe/London:20260208T153000
DTSTAMP:20260421T061035
CREATED:20260116T122431Z
LAST-MODIFIED:20260116T122431Z
UID:10022230-1770562800-1770564600@www.visitthemalverns.org
SUMMARY:The History of Sound (15)
DESCRIPTION:The History of Sound\, starring Paul Mescal and Josh O’Connor as star-crossed lovers\, is a moving and tender romance from Oliver Hermanus. \nSet in 1917\, Lionel\, a young and talented music student\, meets David at the Boston Conservatory\, where they bond over a deep love of folk music.  Years later\, Lionel receives a letter from David\, leading to an impromptu journey through the backwoods of Maine to collect traditional songs.  This unexpected reunion\, ensuing love affair\, and the music they collect and preserve\, will shape the course of Lionel’s life far beyond his own awareness. \nCert:  15\nAD:  Audio Description available\nDS:  Descriptive Subtitles:  Thursday 12 February at 1:45pm \nPrices:\nEvenings:  £9/£10 (Premium seats)\nMornings and matinees:  £8/£9 (Premium seats_\nConcessions and members discounts apply \nShow Times:\nPlease note:  Film starts at advertised time\nFriday 6 February at 7:15pm\nSaturday 7 February at 4pm\nSunday 8 February at 3pm\nTuesday 10 February at 4pm\nWednesday 11 February at 7:15pm\nThursday 12 February at 1:45pm (with DS) and 7:45pm
URL:https://www.visitthemalverns.org/event/the-history-of-sound-15/2026-02-08/
LOCATION:Malvern Theatres\, WR14 3HB
CATEGORIES:Cinema,Film
ATTACH;FMTTYPE=image/jpeg:https://www.visitthemalverns.org/wp-content/uploads/2021/07/iStock-1191001701-cinema-resized-1.jpg
GEO:52.1106766;-2.3267752
X-APPLE-STRUCTURED-LOCATION;VALUE=URI;X-ADDRESS=Malvern Theatres WR14 3HB;X-APPLE-RADIUS=500;X-TITLE=WR14 3HB:geo:-2.3267752,52.1106766
END:VEVENT
BEGIN:VEVENT
DTSTART;TZID=Europe/London:20260208T183000
DTEND;TZID=Europe/London:20260208T203000
DTSTAMP:20260421T061035
CREATED:20251216T163637Z
LAST-MODIFIED:20251216T163637Z
UID:10021729-1770575400-1770582600@www.visitthemalverns.org
SUMMARY:Song Sung Blue (12A)
DESCRIPTION:Based on a true story\, two down-on-their-luck musicians (Hugh Jackman and Kate Hudson) form a joyous Neil Diamond tribute band\, demonstrating that it’s never too late to find love and pursue your dreams. \nCertificate: 12A\nRunning time: 2hrs 13mins\nAD Audio Description available\nDS Descriptive Subtitles: Monday 2 February\, 7.15pm \nShow times\nPlease note: Film starts at advertised time\nFriday 30 January 2026 at 7.15pm\nSaturday 31 January 2026 at 4pm\nSunday 1 February 2026 at 3pm\nMonday 2 February 2026 at 7.15pm (with Descriptive Subtitles)\nTuesday 3 February 2026 at 7.15pm\nFriday 6 February 2026 at 4pm\nSaturday 7 February 2026 at 7.15pm\nSunday 8 February 2026 at 6.30pm\nTuesday 10 February 2026 at 11am & 7.15pm\nThursday 12 February 2026 at 4.45pm
URL:https://www.visitthemalverns.org/event/song-sung-blue-12a/2026-02-08/
LOCATION:Malvern Theatres\, WR14 3HB
CATEGORIES:Cinema,Film,Market
ATTACH;FMTTYPE=image/jpeg:https://www.visitthemalverns.org/wp-content/uploads/2021/07/iStock-1191001701-cinema-resized-1.jpg
GEO:52.1106766;-2.3267752
X-APPLE-STRUCTURED-LOCATION;VALUE=URI;X-ADDRESS=Malvern Theatres WR14 3HB;X-APPLE-RADIUS=500;X-TITLE=WR14 3HB:geo:-2.3267752,52.1106766
END:VEVENT
END:VCALENDAR