BEGIN:VCALENDAR
VERSION:2.0
PRODID:-//Visit The Malverns - ECPv6.15.20//NONSGML v1.0//EN
CALSCALE:GREGORIAN
METHOD:PUBLISH
X-ORIGINAL-URL:https://www.visitthemalverns.org
X-WR-CALDESC:Events for Visit The Malverns
REFRESH-INTERVAL;VALUE=DURATION:PT1H
X-Robots-Tag:noindex
X-PUBLISHED-TTL:PT1H
BEGIN:VTIMEZONE
TZID:Europe/London
BEGIN:DAYLIGHT
TZOFFSETFROM:+0000
TZOFFSETTO:+0100
TZNAME:BST
DTSTART:20250330T010000
END:DAYLIGHT
BEGIN:STANDARD
TZOFFSETFROM:+0100
TZOFFSETTO:+0000
TZNAME:GMT
DTSTART:20251026T010000
END:STANDARD
BEGIN:DAYLIGHT
TZOFFSETFROM:+0000
TZOFFSETTO:+0100
TZNAME:BST
DTSTART:20260329T010000
END:DAYLIGHT
BEGIN:STANDARD
TZOFFSETFROM:+0100
TZOFFSETTO:+0000
TZNAME:GMT
DTSTART:20261025T010000
END:STANDARD
BEGIN:DAYLIGHT
TZOFFSETFROM:+0000
TZOFFSETTO:+0100
TZNAME:BST
DTSTART:20270328T010000
END:DAYLIGHT
BEGIN:STANDARD
TZOFFSETFROM:+0100
TZOFFSETTO:+0000
TZNAME:GMT
DTSTART:20271031T010000
END:STANDARD
END:VTIMEZONE
BEGIN:VEVENT
DTSTART;TZID=Europe/London:20260213T163000
DTEND;TZID=Europe/London:20260213T170000
DTSTAMP:20260421T062043
CREATED:20260117T150335Z
LAST-MODIFIED:20260117T150335Z
UID:10022268-1771000200-1771002000@www.visitthemalverns.org
SUMMARY:Saipan (15)
DESCRIPTION:Saipan portrays the thrilling story of the infamous confrontation between iconic Republic of Ireland football captain Roy Keane (Eanna Hardwicke) and his national team manager Mick McCarthy (Steve Coogan) during the Irish team’s preparations for the 2002 FIFA World Cup. \nThe intense rivalry between these two personalities transcended the game\, gripping an entire nation and the sporting world as a whole.  The feud appeared\, on the surface\, to be all about standards\, but deep down it was an incredible story of two men whose rivalry and contempt surpassed the sport they loved. \nSaipan is the definitive account of one of the most fractious fallings-out in the history of sport. \nCert:  15 \nPrices:\nEvenings:  £9/£10 (Premium seats)\nMornings and matinees:  £8/£9 (Premium seats)\nConcessions and members discounts apply \nShow Times:\nPlease note:  Film starts at advertised time\nFriday 13 February at 4:30pm\nSunday 15 February at 6:30pm\nThursday 18 February at 7:45pm
URL:https://www.visitthemalverns.org/event/saipan-15/2026-02-13/
LOCATION:Malvern Theatres\, WR14 3HB
CATEGORIES:Cinema,Film
ATTACH;FMTTYPE=image/jpeg:https://www.visitthemalverns.org/wp-content/uploads/2021/07/iStock-1191001701-cinema-resized-1.jpg
GEO:52.1106766;-2.3267752
X-APPLE-STRUCTURED-LOCATION;VALUE=URI;X-ADDRESS=Malvern Theatres WR14 3HB;X-APPLE-RADIUS=500;X-TITLE=WR14 3HB:geo:-2.3267752,52.1106766
END:VEVENT
BEGIN:VEVENT
DTSTART;TZID=Europe/London:20260213T191500
DTEND;TZID=Europe/London:20260213T194500
DTSTAMP:20260421T062043
CREATED:20260117T125639Z
LAST-MODIFIED:20260117T125639Z
UID:10022263-1771010100-1771011900@www.visitthemalverns.org
SUMMARY:28 Years Later: The Bone Temple (18)
DESCRIPTION:28 Years Later: The Bone Temple expands upon the world created by Danny Boyle and Alex Garland in 28 Years Later – but in this latest film\, directed by Nia DaCosta\, that world is turned on its head. \nIn a continuation of the epic story\, Dr Kelson (Ralph Fiennes) finds himself in a shocking new relationship – with consequences that could change the world as they know it – and Spike’s (Alfie Williams) encounter with Jimmy Crystal (Jack O’Connell) becomes a nightmare he can’t escape.  In the world of The Bone Temple\, the infected are no longer the greatest threat to survival – the inhumanity of the survivors can be stranger and more terrifying. \nCert:  18\nAD:  Audio Description available \nPrices:\nEvenings:  £9/£10 (Premium seats)\nMornings and matinees:  £8/£9 (Premium seats)\nConcessions and members discounts apply \nShow Times:\nPlease note:  Film starts at advertised time\nFriday 13 February at 7:15pm\nSaturday 14 February at 7:15pm\nTuesday 17 February at 7:15pm\nWednesday 18 February at 7:15pm\nThursday 19 February at 5pm
URL:https://www.visitthemalverns.org/event/28-years-later-the-bone-temple-18/2026-02-13/
LOCATION:Malvern Theatres\, WR14 3HB
CATEGORIES:Cinema,Film
ATTACH;FMTTYPE=image/jpeg:https://www.visitthemalverns.org/wp-content/uploads/2021/07/iStock-1191001701-cinema-resized-1.jpg
GEO:52.1106766;-2.3267752
X-APPLE-STRUCTURED-LOCATION;VALUE=URI;X-ADDRESS=Malvern Theatres WR14 3HB;X-APPLE-RADIUS=500;X-TITLE=WR14 3HB:geo:-2.3267752,52.1106766
END:VEVENT
END:VCALENDAR