BEGIN:VCALENDAR
VERSION:2.0
PRODID:-//Visit The Malverns - ECPv6.15.20//NONSGML v1.0//EN
CALSCALE:GREGORIAN
METHOD:PUBLISH
X-WR-CALNAME:Visit The Malverns
X-ORIGINAL-URL:https://www.visitthemalverns.org
X-WR-CALDESC:Events for Visit The Malverns
REFRESH-INTERVAL;VALUE=DURATION:PT1H
X-Robots-Tag:noindex
X-PUBLISHED-TTL:PT1H
BEGIN:VTIMEZONE
TZID:Europe/London
BEGIN:DAYLIGHT
TZOFFSETFROM:+0000
TZOFFSETTO:+0100
TZNAME:BST
DTSTART:20250330T010000
END:DAYLIGHT
BEGIN:STANDARD
TZOFFSETFROM:+0100
TZOFFSETTO:+0000
TZNAME:GMT
DTSTART:20251026T010000
END:STANDARD
BEGIN:DAYLIGHT
TZOFFSETFROM:+0000
TZOFFSETTO:+0100
TZNAME:BST
DTSTART:20260329T010000
END:DAYLIGHT
BEGIN:STANDARD
TZOFFSETFROM:+0100
TZOFFSETTO:+0000
TZNAME:GMT
DTSTART:20261025T010000
END:STANDARD
BEGIN:DAYLIGHT
TZOFFSETFROM:+0000
TZOFFSETTO:+0100
TZNAME:BST
DTSTART:20270328T010000
END:DAYLIGHT
BEGIN:STANDARD
TZOFFSETFROM:+0100
TZOFFSETTO:+0000
TZNAME:GMT
DTSTART:20271031T010000
END:STANDARD
END:VTIMEZONE
BEGIN:VEVENT
DTSTART;TZID=Europe/London:20260221T110000
DTEND;TZID=Europe/London:20260221T123000
DTSTAMP:20260421T060953
CREATED:20260102T163933Z
LAST-MODIFIED:20260102T163933Z
UID:10022031-1771671600-1771677000@www.visitthemalverns.org
SUMMARY:The SpongeBob Movie: Search for SquarePants (U)
DESCRIPTION:SpongeBob and his Bikini Bottom friends set sail in their biggest\, all-new\, can’t miss cinematic event ever…The SpongeBob Movie: Search for SquarePants. Desperate to be a big guy\, SpongeBob sets out to prove his bravery to Mr. Krabs by following The Flying Dutchman – a mysterious swashbuckling ghost pirate – on a seafaring comedy-adventure that takes him to the deepest depths of the deep sea\, where no Sponge has gone before.
URL:https://www.visitthemalverns.org/event/the-spongebob-movie-search-for-squarepants-u/
LOCATION:Regal Tenbury Wells\, 49 Teme Street\, Tenbury Wells WR15 8AE
CATEGORIES:Children,Cinema,Film,Tenbury Wells
ATTACH;FMTTYPE=image/jpeg:https://www.visitthemalverns.org/wp-content/uploads/2021/07/iStock-1191001701-cinema-resized-1.jpg
GEO:52.3124173;-2.5943612
X-APPLE-STRUCTURED-LOCATION;VALUE=URI;X-ADDRESS=Regal Tenbury Wells 49 Teme Street Tenbury Wells WR15 8AE;X-APPLE-RADIUS=500;X-TITLE=49 Teme Street\, Tenbury Wells WR15 8AE:geo:-2.5943612,52.3124173
END:VEVENT
BEGIN:VEVENT
DTSTART;TZID=Europe/London:20260221T160000
DTEND;TZID=Europe/London:20260221T163000
DTSTAMP:20260421T060953
CREATED:20260124T123236Z
LAST-MODIFIED:20260124T123236Z
UID:10022326-1771689600-1771691400@www.visitthemalverns.org
SUMMARY:Wuthering Heights (15)
DESCRIPTION:Starring Margot Robbie as Cathy and Jacob Elordi as Heathcliff\, Emerald Fennell’s Wuthering Heights is a bold and original imagining of one of the greatest love stories of all time in which Cathy and Heathcliff’s forbidden passion for one another turns from romantic to intoxicating in an epic tale of lust\, love and madness. \nCert:  15\nRunning time:  2hrs 10mins\nAD:  Audio Description available\nDS:  Descriptive Subtitles:  Monday 23 February at 7:15pm \nPrices:\nEvenings:  £9/£10 (Premium seats)\nMornings and matinees:  £8/£9 (Premium seats)\nConcessions and members discounts apply \nShow Times:\nPlease note:  Film starts at advertised time\nFriday 20 February at 4pm and 7:15pm\nSaturday 21 February at 4pm and 7:15pm\nSunday 22 February at 3pm and 6:30pm\nMonday 23 February at 7:15pm (with DS)\nTuesday 24 February at 11am\, 4pm and 7:15pm\nWednesday 25 February at 7:15pm\nThursday 26 February at 1pm and 4pm\nFriday 27 February at 4pm\nSaturday 28 February at 7:15pm\nSunday 1 March at 3pm\nMonday 2 March at 7:15pm\nTuesday 3 March at 4pm\nThursday 5 March at 4:30pm
URL:https://www.visitthemalverns.org/event/wuthering-heights-15/2026-02-21/1/
LOCATION:Malvern Theatres\, WR14 3HB
CATEGORIES:Cinema,Film
ATTACH;FMTTYPE=image/jpeg:https://www.visitthemalverns.org/wp-content/uploads/2021/07/iStock-1191001701-cinema-resized-1.jpg
GEO:52.1106766;-2.3267752
X-APPLE-STRUCTURED-LOCATION;VALUE=URI;X-ADDRESS=Malvern Theatres WR14 3HB;X-APPLE-RADIUS=500;X-TITLE=WR14 3HB:geo:-2.3267752,52.1106766
END:VEVENT
BEGIN:VEVENT
DTSTART;TZID=Europe/London:20260221T191500
DTEND;TZID=Europe/London:20260221T194500
DTSTAMP:20260421T060953
CREATED:20260124T123236Z
LAST-MODIFIED:20260124T123236Z
UID:10022327-1771701300-1771703100@www.visitthemalverns.org
SUMMARY:Wuthering Heights (15)
DESCRIPTION:Starring Margot Robbie as Cathy and Jacob Elordi as Heathcliff\, Emerald Fennell’s Wuthering Heights is a bold and original imagining of one of the greatest love stories of all time in which Cathy and Heathcliff’s forbidden passion for one another turns from romantic to intoxicating in an epic tale of lust\, love and madness. \nCert:  15\nRunning time:  2hrs 10mins\nAD:  Audio Description available\nDS:  Descriptive Subtitles:  Monday 23 February at 7:15pm \nPrices:\nEvenings:  £9/£10 (Premium seats)\nMornings and matinees:  £8/£9 (Premium seats)\nConcessions and members discounts apply \nShow Times:\nPlease note:  Film starts at advertised time\nFriday 20 February at 4pm and 7:15pm\nSaturday 21 February at 4pm and 7:15pm\nSunday 22 February at 3pm and 6:30pm\nMonday 23 February at 7:15pm (with DS)\nTuesday 24 February at 11am\, 4pm and 7:15pm\nWednesday 25 February at 7:15pm\nThursday 26 February at 1pm and 4pm\nFriday 27 February at 4pm\nSaturday 28 February at 7:15pm\nSunday 1 March at 3pm\nMonday 2 March at 7:15pm\nTuesday 3 March at 4pm\nThursday 5 March at 4:30pm
URL:https://www.visitthemalverns.org/event/wuthering-heights-15/2026-02-21/2/
LOCATION:Malvern Theatres\, WR14 3HB
CATEGORIES:Cinema,Film
ATTACH;FMTTYPE=image/jpeg:https://www.visitthemalverns.org/wp-content/uploads/2021/07/iStock-1191001701-cinema-resized-1.jpg
GEO:52.1106766;-2.3267752
X-APPLE-STRUCTURED-LOCATION;VALUE=URI;X-ADDRESS=Malvern Theatres WR14 3HB;X-APPLE-RADIUS=500;X-TITLE=WR14 3HB:geo:-2.3267752,52.1106766
END:VEVENT
END:VCALENDAR