BEGIN:VCALENDAR
VERSION:2.0
PRODID:-//Visit The Malverns - ECPv6.15.20//NONSGML v1.0//EN
CALSCALE:GREGORIAN
METHOD:PUBLISH
X-ORIGINAL-URL:https://www.visitthemalverns.org
X-WR-CALDESC:Events for Visit The Malverns
REFRESH-INTERVAL;VALUE=DURATION:PT1H
X-Robots-Tag:noindex
X-PUBLISHED-TTL:PT1H
BEGIN:VTIMEZONE
TZID:Europe/London
BEGIN:DAYLIGHT
TZOFFSETFROM:+0000
TZOFFSETTO:+0100
TZNAME:BST
DTSTART:20250330T010000
END:DAYLIGHT
BEGIN:STANDARD
TZOFFSETFROM:+0100
TZOFFSETTO:+0000
TZNAME:GMT
DTSTART:20251026T010000
END:STANDARD
BEGIN:DAYLIGHT
TZOFFSETFROM:+0000
TZOFFSETTO:+0100
TZNAME:BST
DTSTART:20260329T010000
END:DAYLIGHT
BEGIN:STANDARD
TZOFFSETFROM:+0100
TZOFFSETTO:+0000
TZNAME:GMT
DTSTART:20261025T010000
END:STANDARD
BEGIN:DAYLIGHT
TZOFFSETFROM:+0000
TZOFFSETTO:+0100
TZNAME:BST
DTSTART:20270328T010000
END:DAYLIGHT
BEGIN:STANDARD
TZOFFSETFROM:+0100
TZOFFSETTO:+0000
TZNAME:GMT
DTSTART:20271031T010000
END:STANDARD
END:VTIMEZONE
BEGIN:VEVENT
DTSTART;TZID=Europe/London:20260228T120000
DTEND;TZID=Europe/London:20260228T140000
DTSTAMP:20260421T043419
CREATED:20260105T134514Z
LAST-MODIFIED:20260105T141718Z
UID:10022035-1772280000-1772287200@www.visitthemalverns.org
SUMMARY:Children's Saturday Cinema Club screening: Kangaroo (Age: TBC)
DESCRIPTION:KANGAROO is a heart-warming family comedy about ex-TV personality\, Chris Masterman\, who becomes stranded in a town outside Alice Springs (Mparntwe). There\, he teams up with 12-year-old indigenous Australian girl Charlie. The pair form an unlikely friendship and work together to rescue and rehabilitate orphaned joeys in the remote but stunning Outback community – an endeavour that proves to be life-changing for them both. \nDirected by: Kate Woods \nCast includes: Ryan Corr\, Lily Whiteley\, Rachel House
URL:https://www.visitthemalverns.org/event/childrens-saturday-cinema-club-screening-kangaroo-age-tbc/
LOCATION:Regal Tenbury Wells\, 49 Teme Street\, Tenbury Wells WR15 8AE
CATEGORIES:Children,Cinema,Film,Tenbury Wells
ATTACH;FMTTYPE=image/jpeg:https://www.visitthemalverns.org/wp-content/uploads/2021/07/iStock-1191001701-cinema-resized-1.jpg
GEO:52.3124173;-2.5943612
X-APPLE-STRUCTURED-LOCATION;VALUE=URI;X-ADDRESS=Regal Tenbury Wells 49 Teme Street Tenbury Wells WR15 8AE;X-APPLE-RADIUS=500;X-TITLE=49 Teme Street\, Tenbury Wells WR15 8AE:geo:-2.5943612,52.3124173
END:VEVENT
BEGIN:VEVENT
DTSTART;TZID=Europe/London:20260228T160000
DTEND;TZID=Europe/London:20260228T163000
DTSTAMP:20260421T043419
CREATED:20260127T114750Z
LAST-MODIFIED:20260127T114750Z
UID:10022355-1772294400-1772296200@www.visitthemalverns.org
SUMMARY:Hamnet (12A)
DESCRIPTION:From Academy Award® winning writer/director Chloé Zhao\, Hamnet tells the powerful story of love and loss that inspired the creation of Shakespeare’s timeless masterpiece\, Hamlet. \n1580\, England. Impoverished Latin tutor William Shakespeare meets free-spirited Agnes\, and the pair\, enthralled by each another\, strike up a torrid affair that leads to marriage and three children. Yet as Will builds his theatre career in distant London\, Agnes anchors the domestic sphere alone. When tragedy strikes\, the couple’s once-unshakable bond is challenged\, but their shared experience sets the stage for the creation of Shakespeare’s timeless masterpiece\, Hamlet. From Focus Features and Academy Award® winning filmmaker Chloé Zhao (Nomadland\, The Rider) comes a sensitively observed\, flawlessly crafted tale about the complexities of love and the healing power of art and creativity. \nBased on Maggie O’Farrell’s award-winning novel Hamnet and adapted for the screen by Zhao and O’Farrell\, the film stars Academy Award®-nominee Jessie Buckley (The Lost Daughter)\, Academy Award®-nominee Paul Mescal (All of Us Strangers)\, Academy Award®-nominee Emily Watson (Hilary and Jackie\, Breaking the Waves) and Joe Alwyn (The Brutalist). \nCertificate: 12A\nRunning time: 2hrs 5mins\nAD Audio Description available\n \nPrices:\nEvenings:  £9/£10 (Premium seats)\nMornings and matinees:  £8/£9 (Premium seats)\nConcessions and members discounts apply \nShow Times:\nPlease note:  Film starts at advertised time\nFriday 27 February at 7:15pm\nSaturday 28 February at 4pm\nTuesday 3 March at 11am and 7:15pm\nThursday 5 March at 1pm \n 
URL:https://www.visitthemalverns.org/event/hamnet-12a-3/2026-02-28/
LOCATION:Malvern Theatres\, WR14 3HB
CATEGORIES:Cinema,Film
ATTACH;FMTTYPE=image/jpeg:https://www.visitthemalverns.org/wp-content/uploads/2021/07/iStock-1191001701-cinema-resized-1.jpg
GEO:52.1106766;-2.3267752
X-APPLE-STRUCTURED-LOCATION;VALUE=URI;X-ADDRESS=Malvern Theatres WR14 3HB;X-APPLE-RADIUS=500;X-TITLE=WR14 3HB:geo:-2.3267752,52.1106766
END:VEVENT
BEGIN:VEVENT
DTSTART;TZID=Europe/London:20260228T191500
DTEND;TZID=Europe/London:20260228T194500
DTSTAMP:20260421T043419
CREATED:20260124T123236Z
LAST-MODIFIED:20260124T123236Z
UID:10022338-1772306100-1772307900@www.visitthemalverns.org
SUMMARY:Wuthering Heights (15)
DESCRIPTION:Starring Margot Robbie as Cathy and Jacob Elordi as Heathcliff\, Emerald Fennell’s Wuthering Heights is a bold and original imagining of one of the greatest love stories of all time in which Cathy and Heathcliff’s forbidden passion for one another turns from romantic to intoxicating in an epic tale of lust\, love and madness. \nCert:  15\nRunning time:  2hrs 10mins\nAD:  Audio Description available\nDS:  Descriptive Subtitles:  Monday 23 February at 7:15pm \nPrices:\nEvenings:  £9/£10 (Premium seats)\nMornings and matinees:  £8/£9 (Premium seats)\nConcessions and members discounts apply \nShow Times:\nPlease note:  Film starts at advertised time\nFriday 20 February at 4pm and 7:15pm\nSaturday 21 February at 4pm and 7:15pm\nSunday 22 February at 3pm and 6:30pm\nMonday 23 February at 7:15pm (with DS)\nTuesday 24 February at 11am\, 4pm and 7:15pm\nWednesday 25 February at 7:15pm\nThursday 26 February at 1pm and 4pm\nFriday 27 February at 4pm\nSaturday 28 February at 7:15pm\nSunday 1 March at 3pm\nMonday 2 March at 7:15pm\nTuesday 3 March at 4pm\nThursday 5 March at 4:30pm
URL:https://www.visitthemalverns.org/event/wuthering-heights-15/2026-02-28/
LOCATION:Malvern Theatres\, WR14 3HB
CATEGORIES:Cinema,Film
ATTACH;FMTTYPE=image/jpeg:https://www.visitthemalverns.org/wp-content/uploads/2021/07/iStock-1191001701-cinema-resized-1.jpg
GEO:52.1106766;-2.3267752
X-APPLE-STRUCTURED-LOCATION;VALUE=URI;X-ADDRESS=Malvern Theatres WR14 3HB;X-APPLE-RADIUS=500;X-TITLE=WR14 3HB:geo:-2.3267752,52.1106766
END:VEVENT
END:VCALENDAR