BEGIN:VCALENDAR
VERSION:2.0
PRODID:-//Visit The Malverns - ECPv6.15.20//NONSGML v1.0//EN
CALSCALE:GREGORIAN
METHOD:PUBLISH
X-WR-CALNAME:Visit The Malverns
X-ORIGINAL-URL:https://www.visitthemalverns.org
X-WR-CALDESC:Events for Visit The Malverns
REFRESH-INTERVAL;VALUE=DURATION:PT1H
X-Robots-Tag:noindex
X-PUBLISHED-TTL:PT1H
BEGIN:VTIMEZONE
TZID:Europe/London
BEGIN:DAYLIGHT
TZOFFSETFROM:+0000
TZOFFSETTO:+0100
TZNAME:BST
DTSTART:20250330T010000
END:DAYLIGHT
BEGIN:STANDARD
TZOFFSETFROM:+0100
TZOFFSETTO:+0000
TZNAME:GMT
DTSTART:20251026T010000
END:STANDARD
BEGIN:DAYLIGHT
TZOFFSETFROM:+0000
TZOFFSETTO:+0100
TZNAME:BST
DTSTART:20260329T010000
END:DAYLIGHT
BEGIN:STANDARD
TZOFFSETFROM:+0100
TZOFFSETTO:+0000
TZNAME:GMT
DTSTART:20261025T010000
END:STANDARD
BEGIN:DAYLIGHT
TZOFFSETFROM:+0000
TZOFFSETTO:+0100
TZNAME:BST
DTSTART:20270328T010000
END:DAYLIGHT
BEGIN:STANDARD
TZOFFSETFROM:+0100
TZOFFSETTO:+0000
TZNAME:GMT
DTSTART:20271031T010000
END:STANDARD
END:VTIMEZONE
BEGIN:VEVENT
DTSTART;TZID=Europe/London:20260306T000000
DTEND;TZID=Europe/London:20260321T235900
DTSTAMP:20260421T043805
CREATED:20240114T154952Z
LAST-MODIFIED:20251124T121109Z
UID:10004079-1772755200-1774137540@www.visitthemalverns.org
SUMMARY:Borderlines Film Festival 2026
DESCRIPTION:The Borderlines Film Festival returns from 6 – 21 March 2026 at multiple venues throughout Herefordshire\, Shropshire\, Malvern and The Marches. Check the website for the latest updates.
URL:https://www.visitthemalverns.org/event/borderlines-film-festival-2025/
CATEGORIES:Cinema,Festival,Film
ATTACH;FMTTYPE=image/jpeg:https://www.visitthemalverns.org/wp-content/uploads/2021/07/iStock-1191001701-cinema-resized-1.jpg
END:VEVENT
BEGIN:VEVENT
DTSTART;TZID=Europe/London:20260314T110000
DTEND;TZID=Europe/London:20260314T123000
DTSTAMP:20260421T043805
CREATED:20260207T144910Z
LAST-MODIFIED:20260207T144910Z
UID:10022558-1773486000-1773491400@www.visitthemalverns.org
SUMMARY:Only On Earth (15) (Borderlines Film Festival)
DESCRIPTION:Breathtaking visions of wildfires in Galicia centre this stunning reflection on the delicate balance between humans\, animals and the environment. \nAn immersive\, visually striking journey deep into southern Galicia\, one of Europe’s most vulnerable forest fire zones\, where wild horses have curbed flammable undergrowth for centuries under the watch of local cowboys. During the hottest summer ever recorded\, humans and animals alike struggle to cope as inextinguishable fires draw closer. Stunning cinematography and striking soundscapes combine with insightful observation and personal testimony to build a nuanced yet deeply engaging polemic. \nDIRECTOR: Robin Petré\nDENMARK/SPAIN/SWEDEN\, 2025\n1 HOUR 33 MINUTES\nSPANISH/GALICIAN + ENGLISH SUBTITLES
URL:https://www.visitthemalverns.org/event/only-on-earth-15-borderlines-film-festival/
LOCATION:Malvern Theatres\, WR14 3HB
CATEGORIES:Cinema,Festival,Film,Malvern
ATTACH;FMTTYPE=image/jpeg:https://www.visitthemalverns.org/wp-content/uploads/2026/02/Borderlines-2026.jpg
GEO:52.1106766;-2.3267752
X-APPLE-STRUCTURED-LOCATION;VALUE=URI;X-ADDRESS=Malvern Theatres WR14 3HB;X-APPLE-RADIUS=500;X-TITLE=WR14 3HB:geo:-2.3267752,52.1106766
END:VEVENT
BEGIN:VEVENT
DTSTART;TZID=Europe/London:20260314T130000
DTEND;TZID=Europe/London:20260314T153000
DTSTAMP:20260421T043805
CREATED:20260206T161903Z
LAST-MODIFIED:20260213T114451Z
UID:10022621-1773493200-1773502200@www.visitthemalverns.org
SUMMARY:The Testament of Ann Lee (Age TBC) (Borderlines Film Festival)
DESCRIPTION:From award-winning writer-director Mona Fastvold (The World to Come\, The Brutalist) comes the extraordinary true legend of Ann Lee\, founder of the devotional sect known as the Shakers. Academy Award nominee® Amanda Seyfried stars as the Shaker’s irrepressible leader\, who preached gender and1social equality and was revered by her followers. The Testament of Ann Lee captures the ecstasy and agony of her quest to build a utopia\, featuring more than a dozen traditional Shaker hymns reimagined as rapturous movements with choreography by Celia Rowlson-Hall (Vox Lux) and original songs & score by Academy Award winner Daniel Blumberg (The Brutalist). \nDirected by: Mona Fastvold\nCast includes: Amanda Seyfried\, Lewis Pullman\, Thomasin McKenzie \nAlso showing:\nFri 13 Mar\, 1pm\nSat 14 Mar\, 1pm\nMon 16 Mar\, 7pm
URL:https://www.visitthemalverns.org/event/the-testament-of-ann-lee-age-tbc-borderlines-film-festival/2026-03-14/
LOCATION:Regal Tenbury Wells\, 49 Teme Street\, Tenbury Wells WR15 8AE
CATEGORIES:Festival,Film,Tenbury Wells
ATTACH;FMTTYPE=image/jpeg:https://www.visitthemalverns.org/wp-content/uploads/2026/02/Borderlines-2026-1.jpg
GEO:52.3124173;-2.5943612
X-APPLE-STRUCTURED-LOCATION;VALUE=URI;X-ADDRESS=Regal Tenbury Wells 49 Teme Street Tenbury Wells WR15 8AE;X-APPLE-RADIUS=500;X-TITLE=49 Teme Street\, Tenbury Wells WR15 8AE:geo:-2.5943612,52.3124173
END:VEVENT
BEGIN:VEVENT
DTSTART;TZID=Europe/London:20260314T133000
DTEND;TZID=Europe/London:20260314T150000
DTSTAMP:20260421T043805
CREATED:20260207T145154Z
LAST-MODIFIED:20260207T145154Z
UID:10022559-1773495000-1773500400@www.visitthemalverns.org
SUMMARY:Nouvelle Vague (12A) (Borderlines Film Festival)
DESCRIPTION:Richard Linklater reimagines the making of Jean-Luc Godard’s À bout de souffle in a playful\, poignant love letter to cinema. \nAt the dawn of his career\, Godard directs Jean Seberg and Jean-Paul Belmondo as star-crossed lovers\, filming with unorthodox spontaneity on the streets of Paris. Working alongside other key players\, friends and creative collaborators like Francois Truffaut – who’s shooting Les quatre cents coups – Claude Chabrol\, Roberto Rossellini\, Jean-Pierre Melville and Jacques Rivette\, the pressure to produce a masterpiece is impossible to escape. Beautifully shot in monochrome\, this is a homage not just to one single film\, but to a transformative period of youthful rebellion and creative tumult that shaped the French New Wave. \nDIRECTOR: Richard Linklater\nSTARRING: Guillaume Marbeck\, Zoey Deutch\, Aubry Dullin\nFRANCE/US\, 2025\n1 HOUR 46 MINUTES\nFRENCH/ENGLISH/ITALIAN + ENGLISH SUBTITLES
URL:https://www.visitthemalverns.org/event/nouvelle-vague-12a-borderlines-film-festival/
LOCATION:Malvern Theatres\, WR14 3HB
CATEGORIES:Cinema,Festival,Film,Malvern
ATTACH;FMTTYPE=image/jpeg:https://www.visitthemalverns.org/wp-content/uploads/2026/02/Borderlines-2026.jpg
GEO:52.1106766;-2.3267752
X-APPLE-STRUCTURED-LOCATION;VALUE=URI;X-ADDRESS=Malvern Theatres WR14 3HB;X-APPLE-RADIUS=500;X-TITLE=WR14 3HB:geo:-2.3267752,52.1106766
END:VEVENT
BEGIN:VEVENT
DTSTART;TZID=Europe/London:20260314T140000
DTEND;TZID=Europe/London:20260314T153000
DTSTAMP:20260421T043805
CREATED:20260207T145428Z
LAST-MODIFIED:20260207T145428Z
UID:10022560-1773496800-1773502200@www.visitthemalverns.org
SUMMARY:Arco (PG) (Borderlines Film Festival)
DESCRIPTION:In 2075\, 10-year-old Iris witnesses a mysterious boy in a rainbow suit fall from the sky: Arco. \nA magical\, beautifully animated journey through time\, this is a dazzling\, Ghibliesque science fiction fantasy\, produced and championed by Natalie Portman. A 10-yearold boy from an idyllic future accidentally travels back in time to a world in peril. As Arco and Iris develop a touching friendship\, they band together – along with her trusted robot caretaker Mikki – on a quest to get Arco home\, finding that they may also be the only ones who can save the planet. A wondrous odyssey filled with emotion and optimism for the future. \nDirector: Ugo Bienvenu\nWith the voices of: Margot Ringard Oldra\, Oscar Tresanini\, Romy Fay\nUS/France\, 2025\n1 Hr 28 Mins\nEnglish \nShow times\nPlease note: Film starts at advertised time\nSaturday 14 March 2026 at 2.00pm (Relaxed Screening)\nSunday 15 March 2026 at 4.00pm
URL:https://www.visitthemalverns.org/event/arco-pg-borderlines-film-festival/2026-03-14/
LOCATION:Malvern Theatres\, WR14 3HB
CATEGORIES:Cinema,Festival,Film,Malvern
ATTACH;FMTTYPE=image/jpeg:https://www.visitthemalverns.org/wp-content/uploads/2026/02/Borderlines-2026.jpg
GEO:52.1106766;-2.3267752
X-APPLE-STRUCTURED-LOCATION;VALUE=URI;X-ADDRESS=Malvern Theatres WR14 3HB;X-APPLE-RADIUS=500;X-TITLE=WR14 3HB:geo:-2.3267752,52.1106766
END:VEVENT
BEGIN:VEVENT
DTSTART;TZID=Europe/London:20260314T161500
DTEND;TZID=Europe/London:20260314T183000
DTSTAMP:20260421T043805
CREATED:20260207T142920Z
LAST-MODIFIED:20260207T142920Z
UID:10022548-1773504900-1773513000@www.visitthemalverns.org
SUMMARY:The Stranger (15) (Borderlines Film Festival)
DESCRIPTION:Prolific writer-director François Ozon (When Autumn Falls\, The Crime is Mine) adapts Albert Camus’ classic existentialist novel. \nAlgiers\, 1938. An unassuming man in his early thirties\, Meursault attends his mother’s funeral\, at which he does not cry. The next day\, he begins a casual affair with Marie and slips back into his daily routine. Then\, one blisteringly hot afternoon\, an inexplicable\, tragic event occurs on a beach; one that will see Meursault’s moral standing brought into question. Voisin is terrific as the unnervingly disaffected Meursault. Shot in cool black-and-white\, the film brings a contemporary slant to Camus’ tale of alienation\, capturing a charged society – 1930s French-colonised Algeria – on the boil. \nDIRECTOR: François Ozon\nSTARRING: Benjamin Voisin\, Rebecca Marder\, Pierre Lottin\, Swann Arlaud\nFRANCE/BELGIUM\, 2025\n2 HOURS 2 MINUTES\nFRENCH + ENGLISH SUBTITLES \nShow times\nPlease note: Film starts at advertised time\nThursday 12 March 2026 at 7.30pm\nSaturday 14 March 2026 at 4.15pm
URL:https://www.visitthemalverns.org/event/the-stranger-15-borderlines-film-festival/2026-03-14/
LOCATION:Malvern Theatres\, WR14 3HB
CATEGORIES:Cinema,Festival,Film,Malvern
ATTACH;FMTTYPE=image/jpeg:https://www.visitthemalverns.org/wp-content/uploads/2026/02/Borderlines-2026.jpg
GEO:52.1106766;-2.3267752
X-APPLE-STRUCTURED-LOCATION;VALUE=URI;X-ADDRESS=Malvern Theatres WR14 3HB;X-APPLE-RADIUS=500;X-TITLE=WR14 3HB:geo:-2.3267752,52.1106766
END:VEVENT
BEGIN:VEVENT
DTSTART;TZID=Europe/London:20260314T163000
DTEND;TZID=Europe/London:20260314T180000
DTSTAMP:20260421T043805
CREATED:20260207T151415Z
LAST-MODIFIED:20260207T151415Z
UID:10022562-1773505800-1773511200@www.visitthemalverns.org
SUMMARY:My Father’s Shadow (12A) (Borderlines Film Festival)
DESCRIPTION:British Nigerian Akinola Davies Jr’s bold and poetic debut is a semi-autobiographical tale set over the course of a single day in Lagos as political unrest looms. \nNigeria\, 1993: Kid brothers Remi and Akin are gifted a day with their estranged father Folarin. Together\, they voyage into Lagos for the first time\, the boys taking in both the colossal city and the obstacles to getting there. Folarin’s mission is threatened by the unfolding presidential election – the first since the military takeover 10 years previously – and the chaos he fears will follow. It is a vivid and intensely personal drama\, a child’s eye view of a mysterious father and a country on the edge of political turmoil. \nDirector: Akinola Davies Jr.\nSTARRING: Sope Dirisu\, Godwin Egbo\, Chibuike Marvelous Egbo\nUK/NIGERIA/IRELAND\, 2025\n1 HOUR 33 MINUTES\nENGLISH/NIGERIAN PIDGIN (NAIJA)/YORUBA + ENGLISH SUBTITLES \nShow times\nPlease note: Film starts at advertised time\nSaturday 14 March 2026 at 4.30pm – Studio One\nWednesday 18 March 2026 at 1.45pm – Cinema
URL:https://www.visitthemalverns.org/event/my-fathers-shadow-12a-borderlines-film-festival/2026-03-14/
LOCATION:Malvern Theatres\, WR14 3HB
CATEGORIES:Cinema,Festival,Film,Malvern
ATTACH;FMTTYPE=image/jpeg:https://www.visitthemalverns.org/wp-content/uploads/2026/02/Borderlines-2026.jpg
GEO:52.1106766;-2.3267752
X-APPLE-STRUCTURED-LOCATION;VALUE=URI;X-ADDRESS=Malvern Theatres WR14 3HB;X-APPLE-RADIUS=500;X-TITLE=WR14 3HB:geo:-2.3267752,52.1106766
END:VEVENT
BEGIN:VEVENT
DTSTART;TZID=Europe/London:20260314T190000
DTEND;TZID=Europe/London:20260314T213000
DTSTAMP:20260421T043805
CREATED:20260206T162353Z
LAST-MODIFIED:20260206T162353Z
UID:10022523-1773514800-1773523800@www.visitthemalverns.org
SUMMARY:Wuthering Heights (15)
DESCRIPTION:Emerald Fennell’s 2026 Wuthering Heights is a bold\, visually striking adaptation of Emily Brontë’s novel\, starring Margot Robbie as Catherine and Jacob Elordi as Heathcliff\, focusing on their intense\, destructive passion against the Yorkshire moors\, promising an epic of lust\, love\, and madness with a modern\, possibly gothic-erotic twist\, featuring a soundtrack by Charli XCX. \nShowing:\nSat 14th March\, 7:00pm\nWed 18th March\, 1pm
URL:https://www.visitthemalverns.org/event/wuthering-heights-15-2/2026-03-14/
LOCATION:Regal Tenbury Wells\, 49 Teme Street\, Tenbury Wells WR15 8AE
CATEGORIES:Cinema,Film,Tenbury Wells
ATTACH;FMTTYPE=image/jpeg:https://www.visitthemalverns.org/wp-content/uploads/2021/07/iStock-1191001701-cinema-resized-1.jpg
GEO:52.3124173;-2.5943612
X-APPLE-STRUCTURED-LOCATION;VALUE=URI;X-ADDRESS=Regal Tenbury Wells 49 Teme Street Tenbury Wells WR15 8AE;X-APPLE-RADIUS=500;X-TITLE=49 Teme Street\, Tenbury Wells WR15 8AE:geo:-2.5943612,52.3124173
END:VEVENT
BEGIN:VEVENT
DTSTART;TZID=Europe/London:20260314T191500
DTEND;TZID=Europe/London:20260314T203000
DTSTAMP:20260421T043805
CREATED:20260207T151720Z
LAST-MODIFIED:20260207T151720Z
UID:10022564-1773515700-1773520200@www.visitthemalverns.org
SUMMARY:Queer As Punk (15) (Borderlines Film Festival)
DESCRIPTION:In Malaysia\, where LGBT identities face legal challenges\, a trans man named Faris and his punk band defy norms and build camaraderie. \nChoosing the name “Shh…Diam!”\, meaning “shut up!” in Malay\, this LGBT punk band persists in shouting out its truth in a country that denies queer rights. We’re invited into the lives of band members Faris\, Yon and Yoyo\, as their momentum as a group grows within the suffocating environment of Malaysia’s state-endorsed monopolies on religion\, desire and identity. Their candid conversations explore themes of self-expression\,  bodily transformation\, love\, parental expectations\, anxiety and political participation. Through hardships\, the band perseveres with infectious energy\, using rebellious punk music and gigs to vent\, flirt and share laughs. \nDIRECTOR: Yihwen Chen\nMALAYSIA/INDONESIA\, 2025\n1 HOUR 28 MINUTES\nMALAY + ENGLISH SUBTITLE
URL:https://www.visitthemalverns.org/event/queer-as-punk-15-borderlines-film-festival/
LOCATION:Malvern Theatres\, WR14 3HB
CATEGORIES:Cinema,Festival,Film,Malvern
ATTACH;FMTTYPE=image/jpeg:https://www.visitthemalverns.org/wp-content/uploads/2026/02/Borderlines-2026.jpg
GEO:52.1106766;-2.3267752
X-APPLE-STRUCTURED-LOCATION;VALUE=URI;X-ADDRESS=Malvern Theatres WR14 3HB;X-APPLE-RADIUS=500;X-TITLE=WR14 3HB:geo:-2.3267752,52.1106766
END:VEVENT
BEGIN:VEVENT
DTSTART;TZID=Europe/London:20260314T193000
DTEND;TZID=Europe/London:20260314T220000
DTSTAMP:20260421T043805
CREATED:20260207T144205Z
LAST-MODIFIED:20260207T144205Z
UID:10022554-1773516600-1773525600@www.visitthemalverns.org
SUMMARY:No Other Choice (15) (Borderlines Film Festival)
DESCRIPTION:This deliriously entertaining satire involves disposing of competitors for a coveted job. \nMan-soo has a loving wife and kids\, the beautiful woodland house where he grew up\, two exceptional dogs. After 25 years at Solar Paper\, he’s given the axe. Desperate to win a new position at Moon Paper\, he hatches a diabolical scheme to despatch his rivals. Park Chan-wook (Decision to Leave) transplants 1997 crime thriller by Donald E. Westlake\, The Ax\, to present-day South Korea. A chilling state-of-the-nation story mocks workplace politics and cutthroat status-seeking\, mixing wickedly absurd set pieces with a poignant sense of the true awfulness of it all. \nDIRECTOR: Park Chan-wook\nSTARRING: Lee Byung-hun\, Son Ye-jin\, Park Hee-soon\, Lee Sung-min\nSOUTH KOREA\, 2025\n2 HOURS 19 MINUTES\,\nKOREAN + ENGLISH SUBTITLES \nShow times\nPlease note: Film starts at advertised time\nFriday 13 March 2026 at 7.15pm – Studio One\nSaturday 14 March 2026 at 7.30pm – Cinema
URL:https://www.visitthemalverns.org/event/no-other-choice-15-borderlines-film-festival/2026-03-14/
LOCATION:Malvern Theatres\, WR14 3HB
CATEGORIES:Cinema,Festival,Film
ATTACH;FMTTYPE=image/jpeg:https://www.visitthemalverns.org/wp-content/uploads/2026/02/Borderlines-2026.jpg
GEO:52.1106766;-2.3267752
X-APPLE-STRUCTURED-LOCATION;VALUE=URI;X-ADDRESS=Malvern Theatres WR14 3HB;X-APPLE-RADIUS=500;X-TITLE=WR14 3HB:geo:-2.3267752,52.1106766
END:VEVENT
END:VCALENDAR