BEGIN:VCALENDAR
VERSION:2.0
PRODID:-//Visit The Malverns - ECPv6.15.20//NONSGML v1.0//EN
CALSCALE:GREGORIAN
METHOD:PUBLISH
X-ORIGINAL-URL:https://www.visitthemalverns.org
X-WR-CALDESC:Events for Visit The Malverns
REFRESH-INTERVAL;VALUE=DURATION:PT1H
X-Robots-Tag:noindex
X-PUBLISHED-TTL:PT1H
BEGIN:VTIMEZONE
TZID:Europe/London
BEGIN:DAYLIGHT
TZOFFSETFROM:+0000
TZOFFSETTO:+0100
TZNAME:BST
DTSTART:20250330T010000
END:DAYLIGHT
BEGIN:STANDARD
TZOFFSETFROM:+0100
TZOFFSETTO:+0000
TZNAME:GMT
DTSTART:20251026T010000
END:STANDARD
BEGIN:DAYLIGHT
TZOFFSETFROM:+0000
TZOFFSETTO:+0100
TZNAME:BST
DTSTART:20260329T010000
END:DAYLIGHT
BEGIN:STANDARD
TZOFFSETFROM:+0100
TZOFFSETTO:+0000
TZNAME:GMT
DTSTART:20261025T010000
END:STANDARD
BEGIN:DAYLIGHT
TZOFFSETFROM:+0000
TZOFFSETTO:+0100
TZNAME:BST
DTSTART:20270328T010000
END:DAYLIGHT
BEGIN:STANDARD
TZOFFSETFROM:+0100
TZOFFSETTO:+0000
TZNAME:GMT
DTSTART:20271031T010000
END:STANDARD
END:VTIMEZONE
BEGIN:VEVENT
DTSTART;TZID=Europe/London:20260418T163000
DTEND;TZID=Europe/London:20260418T170000
DTSTAMP:20260421T011705
CREATED:20260414T105208Z
LAST-MODIFIED:20260414T105208Z
UID:10023532-1776529800-1776531600@www.visitthemalverns.org
SUMMARY:The Drama (15)
DESCRIPTION:Happily engaged couple Emma (Zendaya) and Charlie (Robert Pattinson) are put to the test when an unexpected turn sends their wedding week off the rails. \nA cinematic engagement of spiralling tension and transformative revelations co-starring Alana Haim and Mamoudou Athie. \nCert:  15\nRunning time:  1hr 45mins\nAD  Audio Description available \nPrices:\nEvenings:  £9.50/£10.50 (Premium seats)\nMornings and matinees:  £8.50/£9.50 (Premium seats)\nConcessions and members discounts apply \nShow Times:\nPlease note:  Film starts at advertised time\nFriday 17 April at 7:15pm\nSaturday 18 April at 4:30pm and 7:15pm\nTuesday 21 April at 7:15pm\nThursday 23 April at 7:45pm
URL:https://www.visitthemalverns.org/event/the-drama-15/2026-04-18/1/
LOCATION:Malvern Theatres\, WR14 3HB
CATEGORIES:Cinema,Film
ATTACH;FMTTYPE=image/jpeg:https://www.visitthemalverns.org/wp-content/uploads/2021/07/iStock-1191001701-cinema-resized-1.jpg
GEO:52.1106766;-2.3267752
X-APPLE-STRUCTURED-LOCATION;VALUE=URI;X-ADDRESS=Malvern Theatres WR14 3HB;X-APPLE-RADIUS=500;X-TITLE=WR14 3HB:geo:-2.3267752,52.1106766
END:VEVENT
BEGIN:VEVENT
DTSTART;TZID=Europe/London:20260418T191500
DTEND;TZID=Europe/London:20260418T194500
DTSTAMP:20260421T011705
CREATED:20260414T105208Z
LAST-MODIFIED:20260414T105208Z
UID:10023533-1776539700-1776541500@www.visitthemalverns.org
SUMMARY:The Drama (15)
DESCRIPTION:Happily engaged couple Emma (Zendaya) and Charlie (Robert Pattinson) are put to the test when an unexpected turn sends their wedding week off the rails. \nA cinematic engagement of spiralling tension and transformative revelations co-starring Alana Haim and Mamoudou Athie. \nCert:  15\nRunning time:  1hr 45mins\nAD  Audio Description available \nPrices:\nEvenings:  £9.50/£10.50 (Premium seats)\nMornings and matinees:  £8.50/£9.50 (Premium seats)\nConcessions and members discounts apply \nShow Times:\nPlease note:  Film starts at advertised time\nFriday 17 April at 7:15pm\nSaturday 18 April at 4:30pm and 7:15pm\nTuesday 21 April at 7:15pm\nThursday 23 April at 7:45pm
URL:https://www.visitthemalverns.org/event/the-drama-15/2026-04-18/2/
LOCATION:Malvern Theatres\, WR14 3HB
CATEGORIES:Cinema,Film
ATTACH;FMTTYPE=image/jpeg:https://www.visitthemalverns.org/wp-content/uploads/2021/07/iStock-1191001701-cinema-resized-1.jpg
GEO:52.1106766;-2.3267752
X-APPLE-STRUCTURED-LOCATION;VALUE=URI;X-ADDRESS=Malvern Theatres WR14 3HB;X-APPLE-RADIUS=500;X-TITLE=WR14 3HB:geo:-2.3267752,52.1106766
END:VEVENT
BEGIN:VEVENT
DTSTART;TZID=Europe/London:20260418T193000
DTEND;TZID=Europe/London:20260418T210000
DTSTAMP:20260421T011705
CREATED:20260403T134342Z
LAST-MODIFIED:20260403T134342Z
UID:10023488-1776540600-1776546000@www.visitthemalverns.org
SUMMARY:Reminders of Him (12A)
DESCRIPTION:There was before you and there was during you. For some reason\, I never thought there would be an after you. \nThe literary phenomenon from #1 New York Times bestselling author Colleen Hoover becomes a transformative feature film about motherhood\, forgiveness and the power of love to overcome even the worst mistake. \nDirected by: Vanessa Caswill\nCast includes: Maika Monroe\, Tyriq Withers\, Rudy Pankow
URL:https://www.visitthemalverns.org/event/reminders-of-him-12a/
LOCATION:Regal Tenbury Wells\, 49 Teme Street\, Tenbury Wells WR15 8AE
CATEGORIES:Cinema,Film,Tenbury Wells
ATTACH;FMTTYPE=image/jpeg:https://www.visitthemalverns.org/wp-content/uploads/2021/07/iStock-1191001701-cinema-resized-1.jpg
GEO:52.3124173;-2.5943612
X-APPLE-STRUCTURED-LOCATION;VALUE=URI;X-ADDRESS=Regal Tenbury Wells 49 Teme Street Tenbury Wells WR15 8AE;X-APPLE-RADIUS=500;X-TITLE=49 Teme Street\, Tenbury Wells WR15 8AE:geo:-2.5943612,52.3124173
END:VEVENT
END:VCALENDAR