BEGIN:VCALENDAR
VERSION:2.0
PRODID:-//Visit The Malverns - ECPv6.15.20//NONSGML v1.0//EN
CALSCALE:GREGORIAN
METHOD:PUBLISH
X-ORIGINAL-URL:https://www.visitthemalverns.org
X-WR-CALDESC:Events for Visit The Malverns
REFRESH-INTERVAL;VALUE=DURATION:PT1H
X-Robots-Tag:noindex
X-PUBLISHED-TTL:PT1H
BEGIN:VTIMEZONE
TZID:Europe/London
BEGIN:DAYLIGHT
TZOFFSETFROM:+0000
TZOFFSETTO:+0100
TZNAME:BST
DTSTART:20250330T010000
END:DAYLIGHT
BEGIN:STANDARD
TZOFFSETFROM:+0100
TZOFFSETTO:+0000
TZNAME:GMT
DTSTART:20251026T010000
END:STANDARD
BEGIN:DAYLIGHT
TZOFFSETFROM:+0000
TZOFFSETTO:+0100
TZNAME:BST
DTSTART:20260329T010000
END:DAYLIGHT
BEGIN:STANDARD
TZOFFSETFROM:+0100
TZOFFSETTO:+0000
TZNAME:GMT
DTSTART:20261025T010000
END:STANDARD
BEGIN:DAYLIGHT
TZOFFSETFROM:+0000
TZOFFSETTO:+0100
TZNAME:BST
DTSTART:20270328T010000
END:DAYLIGHT
BEGIN:STANDARD
TZOFFSETFROM:+0100
TZOFFSETTO:+0000
TZNAME:GMT
DTSTART:20271031T010000
END:STANDARD
END:VTIMEZONE
BEGIN:VEVENT
DTSTART;TZID=Europe/London:20260606T190000
DTEND;TZID=Europe/London:20260606T210000
DTSTAMP:20260421T061323
CREATED:20260406T110902Z
LAST-MODIFIED:20260406T110902Z
UID:10023509-1780772400-1780779600@www.visitthemalverns.org
SUMMARY:The Devil Wears Prada 2 (Age TBC)
DESCRIPTION:The Devil Wears Prada 2 follows a veteran Miranda Priestly (Meryl Streep) navigating the decline of print media\, forcing her to contend with her former assistant\, Emily Charlton (Emily Blunt)\, now a high-powered executive controlling the advertising revenue Runway desperately needs. Andy Sachs (Anne Hathaway) also returns.
URL:https://www.visitthemalverns.org/event/the-devil-wears-prada-2-age-tbc/2026-06-06/
LOCATION:Regal Tenbury Wells\, 49 Teme Street\, Tenbury Wells WR15 8AE
CATEGORIES:Cinema,Film,Tenbury Wells
ATTACH;FMTTYPE=image/jpeg:https://www.visitthemalverns.org/wp-content/uploads/2021/07/iStock-1191001701-cinema-resized-1.jpg
GEO:52.3124173;-2.5943612
X-APPLE-STRUCTURED-LOCATION;VALUE=URI;X-ADDRESS=Regal Tenbury Wells 49 Teme Street Tenbury Wells WR15 8AE;X-APPLE-RADIUS=500;X-TITLE=49 Teme Street\, Tenbury Wells WR15 8AE:geo:-2.5943612,52.3124173
END:VEVENT
BEGIN:VEVENT
DTSTART;TZID=Europe/London:20260606T190000
DTEND;TZID=Europe/London:20260606T210000
DTSTAMP:20260421T061323
CREATED:20260417T154602Z
LAST-MODIFIED:20260417T154602Z
UID:10023606-1780772400-1780779600@www.visitthemalverns.org
SUMMARY:The Sheep Detectives (PG)
DESCRIPTION:In this witty\, new breed of mystery\, George (Hugh Jackman) is a shepherd who reads detective novels to his beloved sheep every night\, assuming they can’t possibly understand. But when a mysterious incident disrupts life on the farm\, the sheep realize they must become the detectives. As they follow the clues and investigate human suspects\, they prove that even sheep can be brilliant crime-solvers. \nDirected by: Kyle Balda\nCast includes: Hugh Jackman\, Julia Louis-Dreyfus\, Nicholas Braun
URL:https://www.visitthemalverns.org/event/the-sheep-detectives-pg/
LOCATION:Regal Tenbury Wells\, 49 Teme Street\, Tenbury Wells WR15 8AE
CATEGORIES:Cinema,Film,Tenbury Wells
ATTACH;FMTTYPE=image/jpeg:https://www.visitthemalverns.org/wp-content/uploads/2021/07/iStock-1191001701-cinema-resized-1.jpg
GEO:52.3124173;-2.5943612
X-APPLE-STRUCTURED-LOCATION;VALUE=URI;X-ADDRESS=Regal Tenbury Wells 49 Teme Street Tenbury Wells WR15 8AE;X-APPLE-RADIUS=500;X-TITLE=49 Teme Street\, Tenbury Wells WR15 8AE:geo:-2.5943612,52.3124173
END:VEVENT
END:VCALENDAR