BEGIN:VCALENDAR
VERSION:2.0
PRODID:-//Visit The Malverns - ECPv6.15.20//NONSGML v1.0//EN
CALSCALE:GREGORIAN
METHOD:PUBLISH
X-WR-CALNAME:Visit The Malverns
X-ORIGINAL-URL:https://www.visitthemalverns.org
X-WR-CALDESC:Events for Visit The Malverns
REFRESH-INTERVAL;VALUE=DURATION:PT1H
X-Robots-Tag:noindex
X-PUBLISHED-TTL:PT1H
BEGIN:VTIMEZONE
TZID:Europe/London
BEGIN:DAYLIGHT
TZOFFSETFROM:+0000
TZOFFSETTO:+0100
TZNAME:BST
DTSTART:20250330T010000
END:DAYLIGHT
BEGIN:STANDARD
TZOFFSETFROM:+0100
TZOFFSETTO:+0000
TZNAME:GMT
DTSTART:20251026T010000
END:STANDARD
BEGIN:DAYLIGHT
TZOFFSETFROM:+0000
TZOFFSETTO:+0100
TZNAME:BST
DTSTART:20260329T010000
END:DAYLIGHT
BEGIN:STANDARD
TZOFFSETFROM:+0100
TZOFFSETTO:+0000
TZNAME:GMT
DTSTART:20261025T010000
END:STANDARD
BEGIN:DAYLIGHT
TZOFFSETFROM:+0000
TZOFFSETTO:+0100
TZNAME:BST
DTSTART:20270328T010000
END:DAYLIGHT
BEGIN:STANDARD
TZOFFSETFROM:+0100
TZOFFSETTO:+0000
TZNAME:GMT
DTSTART:20271031T010000
END:STANDARD
END:VTIMEZONE
BEGIN:VEVENT
DTSTART;TZID=Europe/London:20260614T151500
DTEND;TZID=Europe/London:20260614T173000
DTSTAMP:20260421T061822
CREATED:20250913T155554Z
LAST-MODIFIED:20250913T155554Z
UID:10020464-1781450100-1781458200@www.visitthemalverns.org
SUMMARY:La Reine Margot (18) (Malvern French Film Centre)
DESCRIPTION:She is beautiful\, she is Catholic\, she is the King’s sister\, her name is Marguerite de Valois. Her brother has nicknamed her Margot. Henri de Navarre is Protestant and said to be ill-mannered\, unshaven and to smell of garlic and sweat. They are wed by force. \nIt is motivated by political considerations: they need to reconcile France\, torn apart by religious wars. Six days after the marriage at the Notre Dame Cathedral is the Saint Bartholomew Day massacre of the Huguenots. In the middle of this night of horror\, a young man wounded by several sword injuries frantically knocks on Margot’s door; La Môle because he is Protestant must die like all the others. Margot hides him\, nurses him and grows to love him. That night everything is thrown into confusion. \nIn adapting the accepted historically inaccurate novel by Alexandre Dumas\, Chéreau’s long association with theatre and opera reaches its zenith\, culminating in one of the most spectacularly overblown sequences in French cinema: the bloody Huguenot massacre of 1572. In attempting to portray one of the most chaotic and violent periods of French history\, the director knowingly takes liberties with the already tainted source material. You have been warned! \nEnglish title: Queen Margot\nDirector: Patrice Chéreau\nRelease date: 1994\nLavish historical drama/literary adaption\nRunning time: 2hrs 39mins\nCertificate: 18\nFrench with English subtitles \nShow times\nSunday 14 June 2026\, 3.15pm\nSunday 14 June 2026\, 6.45pm
URL:https://www.visitthemalverns.org/event/la-reine-margot-18-malvern-french-film-centre/2026-06-14/1/
LOCATION:Malvern Theatres\, WR14 3HB
CATEGORIES:Cinema,Film
ATTACH;FMTTYPE=image/jpeg:https://www.visitthemalverns.org/wp-content/uploads/2025/09/La-Reine-Margot.jpg
GEO:52.1106766;-2.3267752
X-APPLE-STRUCTURED-LOCATION;VALUE=URI;X-ADDRESS=Malvern Theatres WR14 3HB;X-APPLE-RADIUS=500;X-TITLE=WR14 3HB:geo:-2.3267752,52.1106766
END:VEVENT
BEGIN:VEVENT
DTSTART;TZID=Europe/London:20260614T184500
DTEND;TZID=Europe/London:20260614T210000
DTSTAMP:20260421T061822
CREATED:20250913T155554Z
LAST-MODIFIED:20250913T155554Z
UID:10020465-1781462700-1781470800@www.visitthemalverns.org
SUMMARY:La Reine Margot (18) (Malvern French Film Centre)
DESCRIPTION:She is beautiful\, she is Catholic\, she is the King’s sister\, her name is Marguerite de Valois. Her brother has nicknamed her Margot. Henri de Navarre is Protestant and said to be ill-mannered\, unshaven and to smell of garlic and sweat. They are wed by force. \nIt is motivated by political considerations: they need to reconcile France\, torn apart by religious wars. Six days after the marriage at the Notre Dame Cathedral is the Saint Bartholomew Day massacre of the Huguenots. In the middle of this night of horror\, a young man wounded by several sword injuries frantically knocks on Margot’s door; La Môle because he is Protestant must die like all the others. Margot hides him\, nurses him and grows to love him. That night everything is thrown into confusion. \nIn adapting the accepted historically inaccurate novel by Alexandre Dumas\, Chéreau’s long association with theatre and opera reaches its zenith\, culminating in one of the most spectacularly overblown sequences in French cinema: the bloody Huguenot massacre of 1572. In attempting to portray one of the most chaotic and violent periods of French history\, the director knowingly takes liberties with the already tainted source material. You have been warned! \nEnglish title: Queen Margot\nDirector: Patrice Chéreau\nRelease date: 1994\nLavish historical drama/literary adaption\nRunning time: 2hrs 39mins\nCertificate: 18\nFrench with English subtitles \nShow times\nSunday 14 June 2026\, 3.15pm\nSunday 14 June 2026\, 6.45pm
URL:https://www.visitthemalverns.org/event/la-reine-margot-18-malvern-french-film-centre/2026-06-14/2/
LOCATION:Malvern Theatres\, WR14 3HB
CATEGORIES:Cinema,Film
ATTACH;FMTTYPE=image/jpeg:https://www.visitthemalverns.org/wp-content/uploads/2025/09/La-Reine-Margot.jpg
GEO:52.1106766;-2.3267752
X-APPLE-STRUCTURED-LOCATION;VALUE=URI;X-ADDRESS=Malvern Theatres WR14 3HB;X-APPLE-RADIUS=500;X-TITLE=WR14 3HB:geo:-2.3267752,52.1106766
END:VEVENT
END:VCALENDAR