BEGIN:VCALENDAR
VERSION:2.0
PRODID:-//Visit The Malverns - ECPv6.15.20//NONSGML v1.0//EN
CALSCALE:GREGORIAN
METHOD:PUBLISH
X-WR-CALNAME:Visit The Malverns
X-ORIGINAL-URL:https://www.visitthemalverns.org
X-WR-CALDESC:Events for Visit The Malverns
REFRESH-INTERVAL;VALUE=DURATION:PT1H
X-Robots-Tag:noindex
X-PUBLISHED-TTL:PT1H
BEGIN:VTIMEZONE
TZID:Europe/London
BEGIN:DAYLIGHT
TZOFFSETFROM:+0000
TZOFFSETTO:+0100
TZNAME:BST
DTSTART:20250330T010000
END:DAYLIGHT
BEGIN:STANDARD
TZOFFSETFROM:+0100
TZOFFSETTO:+0000
TZNAME:GMT
DTSTART:20251026T010000
END:STANDARD
BEGIN:DAYLIGHT
TZOFFSETFROM:+0000
TZOFFSETTO:+0100
TZNAME:BST
DTSTART:20260329T010000
END:DAYLIGHT
BEGIN:STANDARD
TZOFFSETFROM:+0100
TZOFFSETTO:+0000
TZNAME:GMT
DTSTART:20261025T010000
END:STANDARD
BEGIN:DAYLIGHT
TZOFFSETFROM:+0000
TZOFFSETTO:+0100
TZNAME:BST
DTSTART:20270328T010000
END:DAYLIGHT
BEGIN:STANDARD
TZOFFSETFROM:+0100
TZOFFSETTO:+0000
TZNAME:GMT
DTSTART:20271031T010000
END:STANDARD
END:VTIMEZONE
BEGIN:VEVENT
DTSTART;TZID=Europe/London:20260608T130000
DTEND;TZID=Europe/London:20260608T150000
DTSTAMP:20260421T055955
CREATED:20260406T110902Z
LAST-MODIFIED:20260406T110902Z
UID:10023510-1780923600-1780930800@www.visitthemalverns.org
SUMMARY:The Devil Wears Prada 2 (Age TBC)
DESCRIPTION:The Devil Wears Prada 2 follows a veteran Miranda Priestly (Meryl Streep) navigating the decline of print media\, forcing her to contend with her former assistant\, Emily Charlton (Emily Blunt)\, now a high-powered executive controlling the advertising revenue Runway desperately needs. Andy Sachs (Anne Hathaway) also returns.
URL:https://www.visitthemalverns.org/event/the-devil-wears-prada-2-age-tbc/2026-06-08/
LOCATION:Regal Tenbury Wells\, 49 Teme Street\, Tenbury Wells WR15 8AE
CATEGORIES:Cinema,Film,Tenbury Wells
ATTACH;FMTTYPE=image/jpeg:https://www.visitthemalverns.org/wp-content/uploads/2021/07/iStock-1191001701-cinema-resized-1.jpg
GEO:52.3124173;-2.5943612
X-APPLE-STRUCTURED-LOCATION;VALUE=URI;X-ADDRESS=Regal Tenbury Wells 49 Teme Street Tenbury Wells WR15 8AE;X-APPLE-RADIUS=500;X-TITLE=49 Teme Street\, Tenbury Wells WR15 8AE:geo:-2.5943612,52.3124173
END:VEVENT
BEGIN:VEVENT
DTSTART;TZID=Europe/London:20260614T151500
DTEND;TZID=Europe/London:20260614T173000
DTSTAMP:20260421T055955
CREATED:20250913T155554Z
LAST-MODIFIED:20250913T155554Z
UID:10020464-1781450100-1781458200@www.visitthemalverns.org
SUMMARY:La Reine Margot (18) (Malvern French Film Centre)
DESCRIPTION:She is beautiful\, she is Catholic\, she is the King’s sister\, her name is Marguerite de Valois. Her brother has nicknamed her Margot. Henri de Navarre is Protestant and said to be ill-mannered\, unshaven and to smell of garlic and sweat. They are wed by force. \nIt is motivated by political considerations: they need to reconcile France\, torn apart by religious wars. Six days after the marriage at the Notre Dame Cathedral is the Saint Bartholomew Day massacre of the Huguenots. In the middle of this night of horror\, a young man wounded by several sword injuries frantically knocks on Margot’s door; La Môle because he is Protestant must die like all the others. Margot hides him\, nurses him and grows to love him. That night everything is thrown into confusion. \nIn adapting the accepted historically inaccurate novel by Alexandre Dumas\, Chéreau’s long association with theatre and opera reaches its zenith\, culminating in one of the most spectacularly overblown sequences in French cinema: the bloody Huguenot massacre of 1572. In attempting to portray one of the most chaotic and violent periods of French history\, the director knowingly takes liberties with the already tainted source material. You have been warned! \nEnglish title: Queen Margot\nDirector: Patrice Chéreau\nRelease date: 1994\nLavish historical drama/literary adaption\nRunning time: 2hrs 39mins\nCertificate: 18\nFrench with English subtitles \nShow times\nSunday 14 June 2026\, 3.15pm\nSunday 14 June 2026\, 6.45pm
URL:https://www.visitthemalverns.org/event/la-reine-margot-18-malvern-french-film-centre/2026-06-14/1/
LOCATION:Malvern Theatres\, WR14 3HB
CATEGORIES:Cinema,Film
ATTACH;FMTTYPE=image/jpeg:https://www.visitthemalverns.org/wp-content/uploads/2025/09/La-Reine-Margot.jpg
GEO:52.1106766;-2.3267752
X-APPLE-STRUCTURED-LOCATION;VALUE=URI;X-ADDRESS=Malvern Theatres WR14 3HB;X-APPLE-RADIUS=500;X-TITLE=WR14 3HB:geo:-2.3267752,52.1106766
END:VEVENT
BEGIN:VEVENT
DTSTART;TZID=Europe/London:20260614T184500
DTEND;TZID=Europe/London:20260614T210000
DTSTAMP:20260421T055955
CREATED:20250913T155554Z
LAST-MODIFIED:20250913T155554Z
UID:10020465-1781462700-1781470800@www.visitthemalverns.org
SUMMARY:La Reine Margot (18) (Malvern French Film Centre)
DESCRIPTION:She is beautiful\, she is Catholic\, she is the King’s sister\, her name is Marguerite de Valois. Her brother has nicknamed her Margot. Henri de Navarre is Protestant and said to be ill-mannered\, unshaven and to smell of garlic and sweat. They are wed by force. \nIt is motivated by political considerations: they need to reconcile France\, torn apart by religious wars. Six days after the marriage at the Notre Dame Cathedral is the Saint Bartholomew Day massacre of the Huguenots. In the middle of this night of horror\, a young man wounded by several sword injuries frantically knocks on Margot’s door; La Môle because he is Protestant must die like all the others. Margot hides him\, nurses him and grows to love him. That night everything is thrown into confusion. \nIn adapting the accepted historically inaccurate novel by Alexandre Dumas\, Chéreau’s long association with theatre and opera reaches its zenith\, culminating in one of the most spectacularly overblown sequences in French cinema: the bloody Huguenot massacre of 1572. In attempting to portray one of the most chaotic and violent periods of French history\, the director knowingly takes liberties with the already tainted source material. You have been warned! \nEnglish title: Queen Margot\nDirector: Patrice Chéreau\nRelease date: 1994\nLavish historical drama/literary adaption\nRunning time: 2hrs 39mins\nCertificate: 18\nFrench with English subtitles \nShow times\nSunday 14 June 2026\, 3.15pm\nSunday 14 June 2026\, 6.45pm
URL:https://www.visitthemalverns.org/event/la-reine-margot-18-malvern-french-film-centre/2026-06-14/2/
LOCATION:Malvern Theatres\, WR14 3HB
CATEGORIES:Cinema,Film
ATTACH;FMTTYPE=image/jpeg:https://www.visitthemalverns.org/wp-content/uploads/2025/09/La-Reine-Margot.jpg
GEO:52.1106766;-2.3267752
X-APPLE-STRUCTURED-LOCATION;VALUE=URI;X-ADDRESS=Malvern Theatres WR14 3HB;X-APPLE-RADIUS=500;X-TITLE=WR14 3HB:geo:-2.3267752,52.1106766
END:VEVENT
BEGIN:VEVENT
DTSTART;TZID=Europe/London:20260622T130000
DTEND;TZID=Europe/London:20260622T150000
DTSTAMP:20260421T055955
CREATED:20260406T132019Z
LAST-MODIFIED:20260406T132019Z
UID:10023515-1782133200-1782140400@www.visitthemalverns.org
SUMMARY:Fairyland (Age TBC)
DESCRIPTION:Following the sudden and tragic death of her mother\, young Alysia is uprooted by her father Steve in hopes of restarting his life. They move to 1970s San Francisco where Steve develops his poetic and personal writing and begins to openly date men. Steve’s bohemian lifestyle clashes with the expectations of parenthood from both the outside world and Alysia herself\, who occasionally wishes for less of the independence her father gives her. As Alysia grows into a young woman on the cusp of adulthood\, their bonds and duty to each other are tested in painful and sudden ways. \n\nDirected by: Andrew Durham\nCast includes: Emilia Jones\, Scoot McNairy\, Cody Fern
URL:https://www.visitthemalverns.org/event/fairyland-age-tbc/2026-06-22/1/
LOCATION:Regal Tenbury Wells\, 49 Teme Street\, Tenbury Wells WR15 8AE
CATEGORIES:Cinema,Film,Tenbury Wells
ATTACH;FMTTYPE=image/jpeg:https://www.visitthemalverns.org/wp-content/uploads/2021/07/iStock-1191001701-cinema-resized-1.jpg
GEO:52.3124173;-2.5943612
X-APPLE-STRUCTURED-LOCATION;VALUE=URI;X-ADDRESS=Regal Tenbury Wells 49 Teme Street Tenbury Wells WR15 8AE;X-APPLE-RADIUS=500;X-TITLE=49 Teme Street\, Tenbury Wells WR15 8AE:geo:-2.5943612,52.3124173
END:VEVENT
BEGIN:VEVENT
DTSTART;TZID=Europe/London:20260622T190000
DTEND;TZID=Europe/London:20260622T210000
DTSTAMP:20260421T055955
CREATED:20260406T132019Z
LAST-MODIFIED:20260406T132019Z
UID:10023516-1782154800-1782162000@www.visitthemalverns.org
SUMMARY:Fairyland (Age TBC)
DESCRIPTION:Following the sudden and tragic death of her mother\, young Alysia is uprooted by her father Steve in hopes of restarting his life. They move to 1970s San Francisco where Steve develops his poetic and personal writing and begins to openly date men. Steve’s bohemian lifestyle clashes with the expectations of parenthood from both the outside world and Alysia herself\, who occasionally wishes for less of the independence her father gives her. As Alysia grows into a young woman on the cusp of adulthood\, their bonds and duty to each other are tested in painful and sudden ways. \n\nDirected by: Andrew Durham\nCast includes: Emilia Jones\, Scoot McNairy\, Cody Fern
URL:https://www.visitthemalverns.org/event/fairyland-age-tbc/2026-06-22/2/
LOCATION:Regal Tenbury Wells\, 49 Teme Street\, Tenbury Wells WR15 8AE
CATEGORIES:Cinema,Film,Tenbury Wells
ATTACH;FMTTYPE=image/jpeg:https://www.visitthemalverns.org/wp-content/uploads/2021/07/iStock-1191001701-cinema-resized-1.jpg
GEO:52.3124173;-2.5943612
X-APPLE-STRUCTURED-LOCATION;VALUE=URI;X-ADDRESS=Regal Tenbury Wells 49 Teme Street Tenbury Wells WR15 8AE;X-APPLE-RADIUS=500;X-TITLE=49 Teme Street\, Tenbury Wells WR15 8AE:geo:-2.5943612,52.3124173
END:VEVENT
END:VCALENDAR