BEGIN:VCALENDAR
VERSION:2.0
PRODID:-//Visit The Malverns - ECPv6.15.20//NONSGML v1.0//EN
CALSCALE:GREGORIAN
METHOD:PUBLISH
X-WR-CALNAME:Visit The Malverns
X-ORIGINAL-URL:https://www.visitthemalverns.org
X-WR-CALDESC:Events for Visit The Malverns
REFRESH-INTERVAL;VALUE=DURATION:PT1H
X-Robots-Tag:noindex
X-PUBLISHED-TTL:PT1H
BEGIN:VTIMEZONE
TZID:Europe/London
BEGIN:DAYLIGHT
TZOFFSETFROM:+0000
TZOFFSETTO:+0100
TZNAME:BST
DTSTART:20250330T010000
END:DAYLIGHT
BEGIN:STANDARD
TZOFFSETFROM:+0100
TZOFFSETTO:+0000
TZNAME:GMT
DTSTART:20251026T010000
END:STANDARD
BEGIN:DAYLIGHT
TZOFFSETFROM:+0000
TZOFFSETTO:+0100
TZNAME:BST
DTSTART:20260329T010000
END:DAYLIGHT
BEGIN:STANDARD
TZOFFSETFROM:+0100
TZOFFSETTO:+0000
TZNAME:GMT
DTSTART:20261025T010000
END:STANDARD
BEGIN:DAYLIGHT
TZOFFSETFROM:+0000
TZOFFSETTO:+0100
TZNAME:BST
DTSTART:20270328T010000
END:DAYLIGHT
BEGIN:STANDARD
TZOFFSETFROM:+0100
TZOFFSETTO:+0000
TZNAME:GMT
DTSTART:20271031T010000
END:STANDARD
END:VTIMEZONE
BEGIN:VEVENT
DTSTART;TZID=Europe/London:20260420T130000
DTEND;TZID=Europe/London:20260420T143000
DTSTAMP:20260420T215932
CREATED:20260403T142207Z
LAST-MODIFIED:20260403T142207Z
UID:10023489-1776690000-1776695400@www.visitthemalverns.org
SUMMARY:Midwinter Break (12A)
DESCRIPTION:Based on the acclaimed novel\, Midwinter Break is a compelling story about the enduring power of love\, commitment\, and lost faith as a long-time couple takes a life-changing trip to Amsterdam. \nBased on the acclaimed novel by Bernard MacLaverty\, first-time feature director Polly Findlay crafts a powerful debut that poses important questions about the nature of faith and commitment\, and the enduring power of love. \nDirected by: Polly Findlay\nCast includes: Lesley Manville\, Ciarán Hinds\, Julie Lamberton
URL:https://www.visitthemalverns.org/event/midwinter-break-12a/
LOCATION:Regal Tenbury Wells\, 49 Teme Street\, Tenbury Wells WR15 8AE
CATEGORIES:Cinema,Film,Tenbury Wells
ATTACH;FMTTYPE=image/jpeg:https://www.visitthemalverns.org/wp-content/uploads/2021/07/iStock-1191001701-cinema-resized-1.jpg
GEO:52.3124173;-2.5943612
X-APPLE-STRUCTURED-LOCATION;VALUE=URI;X-ADDRESS=Regal Tenbury Wells 49 Teme Street Tenbury Wells WR15 8AE;X-APPLE-RADIUS=500;X-TITLE=49 Teme Street\, Tenbury Wells WR15 8AE:geo:-2.5943612,52.3124173
END:VEVENT
BEGIN:VEVENT
DTSTART;TZID=Europe/London:20260420T191500
DTEND;TZID=Europe/London:20260420T194500
DTSTAMP:20260420T215932
CREATED:20260414T103225Z
LAST-MODIFIED:20260414T103225Z
UID:10023529-1776712500-1776714300@www.visitthemalverns.org
SUMMARY:Orwell: 2+2=5 (15)
DESCRIPTION:George Orwell was one of the most visionary authors of the 20th Century\, whose novels 1984 and Animal Farm foretold a chilling\, all-too-believable authoritarian future. \nWorking in collaboration with the Orwell Estate\, acclaimed Director\, Raoul Peck\, seamlessly interweaves historical clips\, readings from Orwell’s diary\, cinematic references\, and dynamic modern day footage to craft not only a definitive portrait of the writer himself\, but an entirely fresh take on how remarkably relevant and prophetic his work has become\, championing Orwell as a man from the past who just might hold the key to the world’s future. \nCert:  15\nRunning time:  2hrs\nAD Audio Description available \nPrices:\nEvenings:  £9.50/£10.50 (Premium seats)\nMornings and matinees:  £8.50/£9.50 (Premium seats)\nConcessions and members discounts apply \nShow Times:\nPlease note:  Film starts at advertised time\nFriday 17 April at 4:30pm\nMonday 20 April at 7:15pm\nTuesday 21 April at 4:30pm \n 
URL:https://www.visitthemalverns.org/event/orwell-225-15/2026-04-20/
LOCATION:Malvern Theatres\, WR14 3HB
CATEGORIES:Cinema,Film
ATTACH;FMTTYPE=image/jpeg:https://www.visitthemalverns.org/wp-content/uploads/2021/07/iStock-1191001701-cinema-resized-1.jpg
GEO:52.1106766;-2.3267752
X-APPLE-STRUCTURED-LOCATION;VALUE=URI;X-ADDRESS=Malvern Theatres WR14 3HB;X-APPLE-RADIUS=500;X-TITLE=WR14 3HB:geo:-2.3267752,52.1106766
END:VEVENT
END:VCALENDAR