BEGIN:VCALENDAR
VERSION:2.0
PRODID:-//Visit The Malverns - ECPv6.15.20//NONSGML v1.0//EN
CALSCALE:GREGORIAN
METHOD:PUBLISH
X-WR-CALNAME:Visit The Malverns
X-ORIGINAL-URL:https://www.visitthemalverns.org
X-WR-CALDESC:Events for Visit The Malverns
REFRESH-INTERVAL;VALUE=DURATION:PT1H
X-Robots-Tag:noindex
X-PUBLISHED-TTL:PT1H
BEGIN:VTIMEZONE
TZID:Europe/London
BEGIN:DAYLIGHT
TZOFFSETFROM:+0000
TZOFFSETTO:+0100
TZNAME:BST
DTSTART:20240331T010000
END:DAYLIGHT
BEGIN:STANDARD
TZOFFSETFROM:+0100
TZOFFSETTO:+0000
TZNAME:GMT
DTSTART:20241027T010000
END:STANDARD
BEGIN:DAYLIGHT
TZOFFSETFROM:+0000
TZOFFSETTO:+0100
TZNAME:BST
DTSTART:20250330T010000
END:DAYLIGHT
BEGIN:STANDARD
TZOFFSETFROM:+0100
TZOFFSETTO:+0000
TZNAME:GMT
DTSTART:20251026T010000
END:STANDARD
BEGIN:DAYLIGHT
TZOFFSETFROM:+0000
TZOFFSETTO:+0100
TZNAME:BST
DTSTART:20260329T010000
END:DAYLIGHT
BEGIN:STANDARD
TZOFFSETFROM:+0100
TZOFFSETTO:+0000
TZNAME:GMT
DTSTART:20261025T010000
END:STANDARD
END:VTIMEZONE
BEGIN:VEVENT
DTSTART;TZID=Europe/London:20250501T080000
DTEND;TZID=Europe/London:20250531T170000
DTSTAMP:20260419T202117
CREATED:20250509T154622Z
LAST-MODIFIED:20250519T133120Z
UID:10019297-1746086400-1748710800@www.visitthemalverns.org
SUMMARY:Farewell to Malvern Hills Gallery
DESCRIPTION:After 25 years supporting and showcasing local artists and craftspeople\, Malvern Hills Gallery will be closing its doors at the end of May 2025. Whether you’re a regular customer\, an occasional visitor or have never been before\, we welcome you to pop in for a chat and a browse. Unique\, locally crafted items as usual\, plus some items on sale at reduced prices. To find out what our artists are doing next\, please visit the Malvern Hills Gallery Facebook page. \nThe Malvern Hills Gallery hopes to be open every day until the end of May. Please do call ahead if making a special journey. \nHandmade Malvern is a new curated directory celebrating the vibrant community of artists and craftspeople living and working in the area.
URL:https://www.visitthemalverns.org/event/farewell-to-malvern-hills-gallery/
LOCATION:Malvern Hills Art Gallery\, 1 Worcester Road\, Malvern WR14 4QY
CATEGORIES:Community,Craft,Exhibition,Malvern,Shopping
ATTACH;FMTTYPE=image/jpeg:https://www.visitthemalverns.org/wp-content/uploads/2025/05/Farewell-to-Malvern-Hills-Gallery-banner.jpg
GEO:52.11218;-2.3303619
X-APPLE-STRUCTURED-LOCATION;VALUE=URI;X-ADDRESS=Malvern Hills Art Gallery 1 Worcester Road Malvern WR14 4QY;X-APPLE-RADIUS=500;X-TITLE=1 Worcester Road\, Malvern WR14 4QY:geo:-2.3303619,52.11218
END:VEVENT
BEGIN:VEVENT
DTSTART;VALUE=DATE:20250510
DTEND;VALUE=DATE:20250511
DTSTAMP:20260419T202117
CREATED:20250415T153409Z
LAST-MODIFIED:20250418T153044Z
UID:10019156-1746835200-1746921599@www.visitthemalverns.org
SUMMARY:VE Day Celebrations
DESCRIPTION:Come along for a day of shared celebrations as Malvern Town Council celebrates VE day on 10 May 2025 from 10am – 5pm at the Park View Community Room and Victoria Park.  \nThe day will see plenty of fun with talks from local historians\, light refreshments\, a display of military vehicles\, live music\, and children’s activities\, plus much more.  \nThis event is free to attend.
URL:https://www.visitthemalverns.org/event/ve-day-celebrations/
LOCATION:Victoria Park\, Pickersleigh Avenue\, Malvern\, WR14 2LW
CATEGORIES:Children,Community,Drink,Family,Food,Free,History,Malvern,Music,Talk
ATTACH;FMTTYPE=image/jpeg:https://www.visitthemalverns.org/wp-content/uploads/2025/04/VE-DAY.jpg
GEO:52.12654;-2.31367
X-APPLE-STRUCTURED-LOCATION;VALUE=URI;X-ADDRESS=Victoria Park Pickersleigh Avenue Malvern WR14 2LW;X-APPLE-RADIUS=500;X-TITLE=Pickersleigh Avenue:geo:-2.31367,52.12654
END:VEVENT
BEGIN:VEVENT
DTSTART;TZID=Europe/London:20250510T100000
DTEND;TZID=Europe/London:20250510T130000
DTSTAMP:20260419T202117
CREATED:20250129T171356Z
LAST-MODIFIED:20250603T153407Z
UID:10017780-1746871200-1746882000@www.visitthemalverns.org
SUMMARY:Malvern Hills Literary Loop: Tolkien\, Lewis\, Darwin & Dickens
DESCRIPTION:Legendary fantasy authors JRR Tolkien and CS Lewis were frequent visitors to the Malvern Hills around the middle of the 20th century and the distinctive landscape may have inspired features of Middle Earth and Narnia\, like the Giant’s Cave from the Hobbit and the Victorian gas lamps from The Lion\, the Witch & the Wardrobe. \nA century earlier\, authors Charles Darwin and Charles Dickens visited Malvern for the Water Cure and most of the treatment centres and guest houses still remain. \nThe Malvern Hills Literary Loop starts at the Mr. Tumnus bench in Priory Park and heads up past Knotsford House where Dickens stayed to Lewis’s former school Cherbourg House before pausing at the Lewis Memorial in Rosebank Gardens and following the gas lamps up to St. Ann’s Well cafe. \nAfter admiring the views around North Hill\, the trail descends to Alexandra Rd where Lewis’s close friend & biographer George Sayers lived\, opposite the former home of composer Edward Elgar. \nThe loop then heads up past Montreal House where Darwin stayed during his daughter’s treatment and past Lewis & Tolkien’s favourite pub The Unicorn Inn before passing the Hobbit door and down to Malvern Priory to find Anne Darwin’s grave and potentially the original Narnian gas lamp. \nDates and booking\nThe walks are available on many dates\, often with the option of two start times on the same day. For more information\, including prices\, availability and to book. visit the Malvern Hills Literary Loop: Tolkien\, Lewis\, Darwin & Dickens page on Airbnb.
URL:https://www.visitthemalverns.org/event/malvern-hills-cultural-walk-3/2025-05-10/1/
CATEGORIES:History,Malvern,Talk,Trail,Walks
ATTACH;FMTTYPE=image/jpeg:https://www.visitthemalverns.org/wp-content/uploads/2024/04/Priory-and-Gas-Lamps-from-D-Johnson.jpg
END:VEVENT
BEGIN:VEVENT
DTSTART;TZID=Europe/London:20250510T103000
DTEND;TZID=Europe/London:20250510T113000
DTSTAMP:20260419T202117
CREATED:20250406T115104Z
LAST-MODIFIED:20250409T153407Z
UID:10018982-1746873000-1746876600@www.visitthemalverns.org
SUMMARY:Purple Heart Song Circle at St Ann's Well (Well Dressing)
DESCRIPTION:Enjoy a performance by Purple Heart Song Circle at St Ann’s Well as part of the 2025 Malvern Well Dressing Festival. \nSt Ann’s Well Cafe should be open on the day.
URL:https://www.visitthemalverns.org/event/purple-heart-song-circle-at-st-anns-well-well-dressing/
LOCATION:St Ann’s Well\, St Ann's Road\, Malvern\, WR14 4RF
CATEGORIES:Community,Malvern,Music
ATTACH;FMTTYPE=image/jpeg:https://www.visitthemalverns.org/wp-content/uploads/2025/04/Malvern-Water-Fest-logo-2025-1200x675-1.jpg
GEO:52.11009;-2.334
X-APPLE-STRUCTURED-LOCATION;VALUE=URI;X-ADDRESS=St Ann’s Well St Ann's Road Malvern WR14 4RF;X-APPLE-RADIUS=500;X-TITLE=St Ann's Road:geo:-2.334,52.11009
END:VEVENT
BEGIN:VEVENT
DTSTART;TZID=Europe/London:20250510T140000
DTEND;TZID=Europe/London:20250510T170000
DTSTAMP:20260419T202117
CREATED:20250129T171356Z
LAST-MODIFIED:20250603T153407Z
UID:10017781-1746885600-1746896400@www.visitthemalverns.org
SUMMARY:Malvern Hills Literary Loop: Tolkien\, Lewis\, Darwin & Dickens
DESCRIPTION:Legendary fantasy authors JRR Tolkien and CS Lewis were frequent visitors to the Malvern Hills around the middle of the 20th century and the distinctive landscape may have inspired features of Middle Earth and Narnia\, like the Giant’s Cave from the Hobbit and the Victorian gas lamps from The Lion\, the Witch & the Wardrobe. \nA century earlier\, authors Charles Darwin and Charles Dickens visited Malvern for the Water Cure and most of the treatment centres and guest houses still remain. \nThe Malvern Hills Literary Loop starts at the Mr. Tumnus bench in Priory Park and heads up past Knotsford House where Dickens stayed to Lewis’s former school Cherbourg House before pausing at the Lewis Memorial in Rosebank Gardens and following the gas lamps up to St. Ann’s Well cafe. \nAfter admiring the views around North Hill\, the trail descends to Alexandra Rd where Lewis’s close friend & biographer George Sayers lived\, opposite the former home of composer Edward Elgar. \nThe loop then heads up past Montreal House where Darwin stayed during his daughter’s treatment and past Lewis & Tolkien’s favourite pub The Unicorn Inn before passing the Hobbit door and down to Malvern Priory to find Anne Darwin’s grave and potentially the original Narnian gas lamp. \nDates and booking\nThe walks are available on many dates\, often with the option of two start times on the same day. For more information\, including prices\, availability and to book. visit the Malvern Hills Literary Loop: Tolkien\, Lewis\, Darwin & Dickens page on Airbnb.
URL:https://www.visitthemalverns.org/event/malvern-hills-cultural-walk-3/2025-05-10/2/
CATEGORIES:History,Malvern,Talk,Trail,Walks
ATTACH;FMTTYPE=image/jpeg:https://www.visitthemalverns.org/wp-content/uploads/2024/04/Priory-and-Gas-Lamps-from-D-Johnson.jpg
END:VEVENT
BEGIN:VEVENT
DTSTART;TZID=Europe/London:20250510T190000
DTEND;TZID=Europe/London:20250510T213000
DTSTAMP:20260419T202117
CREATED:20250305T163111Z
LAST-MODIFIED:20250403T160203Z
UID:10018216-1746903600-1746912600@www.visitthemalverns.org
SUMMARY:Malvern Festival Chorus: Puccini's 'Messa di Gloria' and Fauré's 'Requiem'
DESCRIPTION:Malvern Festival Chorus\, conducted by Jonathan Brown\, returns to Great Malvern Priory to perform Puccini’s ‘Messa di Gloria’ and Fauré’s ‘Requiem’. \nOrganist: Hilary Norris\nTenor soloist: James Atherton\nBass soloist: Alexander Jones \nTickets: £18 / £12 for 17 – 21s / Free for 16 & under with paying adult – available online in advance and on the door
URL:https://www.visitthemalverns.org/event/malvern-festival-chorus-puccinis-messa-di-gloria-and-faures-requiem/
LOCATION:Great Malvern Priory\, WR14 2AY
CATEGORIES:Concert,Malvern,Music
ATTACH;FMTTYPE=image/jpeg:https://www.visitthemalverns.org/wp-content/uploads/2025/03/Choir-image-by-David-Beale-on-Unsplash.jpg
GEO:52.11060672681;-2.3285150529525
X-APPLE-STRUCTURED-LOCATION;VALUE=URI;X-ADDRESS=Great Malvern Priory WR14 2AY;X-APPLE-RADIUS=500;X-TITLE=WR14 2AY:geo:-2.3285150529525,52.11060672681
END:VEVENT
BEGIN:VEVENT
DTSTART;TZID=Europe/London:20250510T193000
DTEND;TZID=Europe/London:20250510T213000
DTSTAMP:20260419T202117
CREATED:20241227T124934Z
LAST-MODIFIED:20241227T124934Z
UID:10017331-1746905400-1746912600@www.visitthemalverns.org
SUMMARY:UK Pink Floyd Experience
DESCRIPTION:Marking five decades since the release of the Wish You Were Here album\, UK Pink Floyd Experience recreates the atmosphere of seeing Floyd live – featuring top-flight musicians\, a stunning light show and over two hours of incredible music. \nThe brand-new show for 2025 includes all the songs from Wish You Were Here\, as well as favourites from The Division Bell\, The Wall\, Animals and – of course – The Dark Side of The Moon. \nThis featured Syd song this year is Lucifer Sam – and the 2025 set list also includes\, as requested by audiences\, Childhood’s End from Obscured By Clouds too! \nCome along to Malvern Theatres on 10 May 2025 and share the passion for Pink Floyd’s music\, in our true celebration of all things Floyd!
URL:https://www.visitthemalverns.org/event/uk-pink-floyd-experience-3/
LOCATION:Malvern Theatres\, WR14 3HB
CATEGORIES:Concert,Malvern,Music
ATTACH;FMTTYPE=image/jpeg:https://www.visitthemalverns.org/wp-content/uploads/2021/08/iStock-688015678-music-Resized-1.jpg
GEO:52.1106766;-2.3267752
X-APPLE-STRUCTURED-LOCATION;VALUE=URI;X-ADDRESS=Malvern Theatres WR14 3HB;X-APPLE-RADIUS=500;X-TITLE=WR14 3HB:geo:-2.3267752,52.1106766
END:VEVENT
END:VCALENDAR