BEGIN:VCALENDAR
VERSION:2.0
PRODID:-//Visit The Malverns - ECPv6.15.20//NONSGML v1.0//EN
CALSCALE:GREGORIAN
METHOD:PUBLISH
X-WR-CALNAME:Visit The Malverns
X-ORIGINAL-URL:https://www.visitthemalverns.org
X-WR-CALDESC:Events for Visit The Malverns
REFRESH-INTERVAL;VALUE=DURATION:PT1H
X-Robots-Tag:noindex
X-PUBLISHED-TTL:PT1H
BEGIN:VTIMEZONE
TZID:Europe/London
BEGIN:DAYLIGHT
TZOFFSETFROM:+0000
TZOFFSETTO:+0100
TZNAME:BST
DTSTART:20250330T010000
END:DAYLIGHT
BEGIN:STANDARD
TZOFFSETFROM:+0100
TZOFFSETTO:+0000
TZNAME:GMT
DTSTART:20251026T010000
END:STANDARD
BEGIN:DAYLIGHT
TZOFFSETFROM:+0000
TZOFFSETTO:+0100
TZNAME:BST
DTSTART:20260329T010000
END:DAYLIGHT
BEGIN:STANDARD
TZOFFSETFROM:+0100
TZOFFSETTO:+0000
TZNAME:GMT
DTSTART:20261025T010000
END:STANDARD
BEGIN:DAYLIGHT
TZOFFSETFROM:+0000
TZOFFSETTO:+0100
TZNAME:BST
DTSTART:20270328T010000
END:DAYLIGHT
BEGIN:STANDARD
TZOFFSETFROM:+0100
TZOFFSETTO:+0000
TZNAME:GMT
DTSTART:20271031T010000
END:STANDARD
END:VTIMEZONE
BEGIN:VEVENT
DTSTART;TZID=Europe/London:20260306T193000
DTEND;TZID=Europe/London:20260319T223000
DTSTAMP:20260421T200530
CREATED:20260112T113444Z
LAST-MODIFIED:20260112T113444Z
UID:10022112-1772825400-1773959400@www.visitthemalverns.org
SUMMARY:Regal Folk Festival 2026
DESCRIPTION:The Regal Folk Festival features a diverse line up of talented folk musicians\, the festival guarantees captivating performances and a vibrant celebration of folk music.
URL:https://www.visitthemalverns.org/event/regal-folk-festival-2026/
LOCATION:Regal Tenbury Wells\, 49 Teme Street\, Tenbury Wells WR15 8AE
CATEGORIES:Concert,Festival,Music,Tenbury Wells
ATTACH;FMTTYPE=image/jpeg:https://www.visitthemalverns.org/wp-content/uploads/2021/08/iStock-688015678-music-Resized-1.jpg
GEO:52.3124173;-2.5943612
X-APPLE-STRUCTURED-LOCATION;VALUE=URI;X-ADDRESS=Regal Tenbury Wells 49 Teme Street Tenbury Wells WR15 8AE;X-APPLE-RADIUS=500;X-TITLE=49 Teme Street\, Tenbury Wells WR15 8AE:geo:-2.5943612,52.3124173
END:VEVENT
BEGIN:VEVENT
DTSTART;TZID=Europe/London:20260308T143000
DTEND;TZID=Europe/London:20260308T163000
DTSTAMP:20260421T200530
CREATED:20251213T120631Z
LAST-MODIFIED:20251213T120631Z
UID:10021648-1772980200-1772987400@www.visitthemalverns.org
SUMMARY:Michael Starring Ben
DESCRIPTION:Step back in time to remember one of the world’s greatest pop icons: Michael Jackson – the man\, the music and the magic. \nMichael Starring Ben is a hit theatre production (from the London Palladium) starring the UK’s ultimate Michael Jackson tribute artist\, Ben Bowman. Not only does he look and sound like the King of Pop\, but he’s honed his routine so meticulously that audiences truly believe they are watching Michael Jackson himself. \nThe show is supported by a live band\, striking costumes and the performer’s iconic dance routines. Audiences will enjoy the greatest hits of Michael Jackson and also of The Jackson 5 including Beat It\, Billie Jean\, Thriller and Man in the Mirror. \nThose aged under 14 must be accompanied by an adult. \nPlease note that this is a tribute production not associated with or endorsed by the Michael Jackson Estate. \nShow times\nSunday 8 March 2026\, 2.30pm\nSunday 8 March 2026\, 7.30pm
URL:https://www.visitthemalverns.org/event/michael-starring-ben/2026-03-08/1/
LOCATION:Malvern Theatres\, WR14 3HB
CATEGORIES:Concert,Malvern,Music
ATTACH;FMTTYPE=image/jpeg:https://www.visitthemalverns.org/wp-content/uploads/2021/08/iStock-688015678-music-Resized-1.jpg
GEO:52.1106766;-2.3267752
X-APPLE-STRUCTURED-LOCATION;VALUE=URI;X-ADDRESS=Malvern Theatres WR14 3HB;X-APPLE-RADIUS=500;X-TITLE=WR14 3HB:geo:-2.3267752,52.1106766
END:VEVENT
BEGIN:VEVENT
DTSTART;TZID=Europe/London:20260308T193000
DTEND;TZID=Europe/London:20260308T213000
DTSTAMP:20260421T200530
CREATED:20251213T120631Z
LAST-MODIFIED:20251213T120631Z
UID:10021649-1772998200-1773005400@www.visitthemalverns.org
SUMMARY:Michael Starring Ben
DESCRIPTION:Step back in time to remember one of the world’s greatest pop icons: Michael Jackson – the man\, the music and the magic. \nMichael Starring Ben is a hit theatre production (from the London Palladium) starring the UK’s ultimate Michael Jackson tribute artist\, Ben Bowman. Not only does he look and sound like the King of Pop\, but he’s honed his routine so meticulously that audiences truly believe they are watching Michael Jackson himself. \nThe show is supported by a live band\, striking costumes and the performer’s iconic dance routines. Audiences will enjoy the greatest hits of Michael Jackson and also of The Jackson 5 including Beat It\, Billie Jean\, Thriller and Man in the Mirror. \nThose aged under 14 must be accompanied by an adult. \nPlease note that this is a tribute production not associated with or endorsed by the Michael Jackson Estate. \nShow times\nSunday 8 March 2026\, 2.30pm\nSunday 8 March 2026\, 7.30pm
URL:https://www.visitthemalverns.org/event/michael-starring-ben/2026-03-08/2/
LOCATION:Malvern Theatres\, WR14 3HB
CATEGORIES:Concert,Malvern,Music
ATTACH;FMTTYPE=image/jpeg:https://www.visitthemalverns.org/wp-content/uploads/2021/08/iStock-688015678-music-Resized-1.jpg
GEO:52.1106766;-2.3267752
X-APPLE-STRUCTURED-LOCATION;VALUE=URI;X-ADDRESS=Malvern Theatres WR14 3HB;X-APPLE-RADIUS=500;X-TITLE=WR14 3HB:geo:-2.3267752,52.1106766
END:VEVENT
END:VCALENDAR