BEGIN:VCALENDAR
VERSION:2.0
PRODID:-//Visit The Malverns - ECPv6.15.20//NONSGML v1.0//EN
CALSCALE:GREGORIAN
METHOD:PUBLISH
X-WR-CALNAME:Visit The Malverns
X-ORIGINAL-URL:https://www.visitthemalverns.org
X-WR-CALDESC:Events for Visit The Malverns
REFRESH-INTERVAL;VALUE=DURATION:PT1H
X-Robots-Tag:noindex
X-PUBLISHED-TTL:PT1H
BEGIN:VTIMEZONE
TZID:Europe/London
BEGIN:DAYLIGHT
TZOFFSETFROM:+0000
TZOFFSETTO:+0100
TZNAME:BST
DTSTART:20250330T010000
END:DAYLIGHT
BEGIN:STANDARD
TZOFFSETFROM:+0100
TZOFFSETTO:+0000
TZNAME:GMT
DTSTART:20251026T010000
END:STANDARD
BEGIN:DAYLIGHT
TZOFFSETFROM:+0000
TZOFFSETTO:+0100
TZNAME:BST
DTSTART:20260329T010000
END:DAYLIGHT
BEGIN:STANDARD
TZOFFSETFROM:+0100
TZOFFSETTO:+0000
TZNAME:GMT
DTSTART:20261025T010000
END:STANDARD
BEGIN:DAYLIGHT
TZOFFSETFROM:+0000
TZOFFSETTO:+0100
TZNAME:BST
DTSTART:20270328T010000
END:DAYLIGHT
BEGIN:STANDARD
TZOFFSETFROM:+0100
TZOFFSETTO:+0000
TZNAME:GMT
DTSTART:20271031T010000
END:STANDARD
END:VTIMEZONE
BEGIN:VEVENT
DTSTART;TZID=Europe/London:20260325T160000
DTEND;TZID=Europe/London:20260325T190000
DTSTAMP:20260421T200613
CREATED:20251213T125803Z
LAST-MODIFIED:20251213T125803Z
UID:10021663-1774454400-1774465200@www.visitthemalverns.org
SUMMARY:MET: Tristan und Isolde (Recorded Broadcast)
DESCRIPTION:A new production from The Met of Richard Wagner’s Tristan und Isolde \nAfter years of eager anticipation\, a genuinely unmissable event arrives in cinemas around the world as the electrifying Lise Davidsen tackles one of the ultimate roles for dramatic soprano: the Irish princess Isolde in Wagner’s transcendent meditation on love and death. Heroic tenor Michael Spyres co-stars as the love-drunk Tristan.
URL:https://www.visitthemalverns.org/event/met-tristan-und-isolde-recorded-broadcast/
LOCATION:Malvern Theatres\, WR14 3HB
CATEGORIES:Cinema,Concert,Malvern,Music
ATTACH;FMTTYPE=image/jpeg:https://www.visitthemalverns.org/wp-content/uploads/2021/08/iStock-688015678-music-Resized-1.jpg
GEO:52.1106766;-2.3267752
X-APPLE-STRUCTURED-LOCATION;VALUE=URI;X-ADDRESS=Malvern Theatres WR14 3HB;X-APPLE-RADIUS=500;X-TITLE=WR14 3HB:geo:-2.3267752,52.1106766
END:VEVENT
BEGIN:VEVENT
DTSTART;TZID=Europe/London:20260325T193000
DTEND;TZID=Europe/London:20260325T213000
DTSTAMP:20260421T200613
CREATED:20251217T170303Z
LAST-MODIFIED:20251217T170303Z
UID:10021743-1774467000-1774474200@www.visitthemalverns.org
SUMMARY:Someone Like You – The Adele Songbook
DESCRIPTION:A decade on from its debut tour\, Someone Like You – The Adele Songbook is back in theatres around the world with a re-imagined live concert performance for 2026. \nLed by the stunning vocals of Katie Markham\, alongside a talented live band\, the show brings Adele’s extensive repertoire to life – drawing inspiration from her visually spectacular 100-night show residency at Caesars Palace in Las Vegas. Expect fan favourites including Make You Feel My Love\, Someone Like You\, Rolling in the Deep and Skyfall\, as well as recent hits such as Easy on Me and Oh My God. \nThis new show also includes brand new songs from Adele’s influences who inspired the singer-songwriter on her compelling journey to becoming a British music icon. \nBeautifully crafted acoustic renditions and intimate duets work wonderfully alongside the iconic ballads and vocal showstoppers that you would expect to hear\, making Someone Like You the ideal concert for any music lover.
URL:https://www.visitthemalverns.org/event/someone-like-you-the-adele-songbook-2/
LOCATION:Malvern Theatres\, WR14 3HB
CATEGORIES:Concert,Malvern,Music
ATTACH;FMTTYPE=image/jpeg:https://www.visitthemalverns.org/wp-content/uploads/2021/08/iStock-688015678-music-Resized-1.jpg
GEO:52.1106766;-2.3267752
X-APPLE-STRUCTURED-LOCATION;VALUE=URI;X-ADDRESS=Malvern Theatres WR14 3HB;X-APPLE-RADIUS=500;X-TITLE=WR14 3HB:geo:-2.3267752,52.1106766
END:VEVENT
END:VCALENDAR