BEGIN:VCALENDAR
VERSION:2.0
PRODID:-//Visit The Malverns - ECPv6.15.20//NONSGML v1.0//EN
CALSCALE:GREGORIAN
METHOD:PUBLISH
X-ORIGINAL-URL:https://www.visitthemalverns.org
X-WR-CALDESC:Events for Visit The Malverns
REFRESH-INTERVAL;VALUE=DURATION:PT1H
X-Robots-Tag:noindex
X-PUBLISHED-TTL:PT1H
BEGIN:VTIMEZONE
TZID:Europe/London
BEGIN:DAYLIGHT
TZOFFSETFROM:+0000
TZOFFSETTO:+0100
TZNAME:BST
DTSTART:20250330T010000
END:DAYLIGHT
BEGIN:STANDARD
TZOFFSETFROM:+0100
TZOFFSETTO:+0000
TZNAME:GMT
DTSTART:20251026T010000
END:STANDARD
BEGIN:DAYLIGHT
TZOFFSETFROM:+0000
TZOFFSETTO:+0100
TZNAME:BST
DTSTART:20260329T010000
END:DAYLIGHT
BEGIN:STANDARD
TZOFFSETFROM:+0100
TZOFFSETTO:+0000
TZNAME:GMT
DTSTART:20261025T010000
END:STANDARD
BEGIN:DAYLIGHT
TZOFFSETFROM:+0000
TZOFFSETTO:+0100
TZNAME:BST
DTSTART:20270328T010000
END:DAYLIGHT
BEGIN:STANDARD
TZOFFSETFROM:+0100
TZOFFSETTO:+0000
TZNAME:GMT
DTSTART:20271031T010000
END:STANDARD
END:VTIMEZONE
BEGIN:VEVENT
DTSTART;TZID=Europe/London:20260403T080000
DTEND;TZID=Europe/London:20260405T170000
DTSTAMP:20260421T181837
CREATED:20260327T165836Z
LAST-MODIFIED:20260327T165836Z
UID:10023458-1775203200-1775408400@www.visitthemalverns.org
SUMMARY:Malvern Rocks Easter Surprise
DESCRIPTION:Spring has arrived and with it your chance to kick off the Easter weekend with something special: Malvern Rocks Easter – a mini-festival of fantastic live music spread across three brilliant local pubs\, one each day! \nNo big stages or tickets required – just turn up\, buy a drink\, and enjoy some of the best talent from the Malvern music scene. Entry is free to all events (though donations to support the artists are always appreciated!). \nProgramme\nFriday 3 April 2026: The Red Lion\, Cradley\n6pm: Connie\n7pm: Hennesea\n8pm: Funky Junky Monkeys\n9pm: Miss Pearl & the Rough Diamonds \nSaturday 4 April 2026: The Royal Oak\, Leigh Sinton\n3pm: A Bloke Called Maddy\n4pm: Ray Hadden & Guest\n5pm: Sea Monkeys\n6pm: Connor the Piano Man\n7pm: Ray Mytton Band \nSunday 5 April 2026: The Morgan\, Clarence Road\, Malvern\n3pm: Kate Bayliss\n4pm: Enzo\n5pm: Steve Linforth\n6pm: Jay Clark\n7pm: Nothin’ But Dust
URL:https://www.visitthemalverns.org/event/malvern-rocks-easter-surprise-2/
CATEGORIES:Community,Concert,Free,Malvern,Music
ATTACH;FMTTYPE=image/jpeg:https://www.visitthemalverns.org/wp-content/uploads/2025/01/Electric-guitar-by-Simon-Weisser-on-Unsplash.jpg
END:VEVENT
BEGIN:VEVENT
DTSTART;TZID=Europe/London:20260404T193000
DTEND;TZID=Europe/London:20260404T220000
DTSTAMP:20260421T181837
CREATED:20260112T150327Z
LAST-MODIFIED:20260112T150327Z
UID:10022123-1775331000-1775340000@www.visitthemalverns.org
SUMMARY:A Foreigner's Journey
DESCRIPTION:For over a decade\, A Foreigners Journey have thrilled audiences across the UK and Europe with their powerful celebration of two of rock’s most iconic bands. Blending the anthems of Foreigner and Journey into one unforgettable show\, they’ve headlined major festivals\, packed out theatres\, and earned a devoted following for their energy\, musicianship\, and authenticity. \nFronted by the outstanding Adam J Oades\, the band delivers a perfectly balanced set of rock classics and soaring ballads — from Don’t Stop Believin’\, Cold As Ice and Juke Box Hero to I Want to Know What Love Is\, Faithfully and Open Arms. Every song is performed with passion and precision\, creating a show that’s far more than a tribute — it’s a full-throttle rock experience.
URL:https://www.visitthemalverns.org/event/a-foreigners-journey-2/
LOCATION:Regal Tenbury Wells\, 49 Teme Street\, Tenbury Wells WR15 8AE
CATEGORIES:Concert,Music,Tenbury Wells
ATTACH;FMTTYPE=image/jpeg:https://www.visitthemalverns.org/wp-content/uploads/2021/08/iStock-688015678-music-Resized-1.jpg
GEO:52.3124173;-2.5943612
X-APPLE-STRUCTURED-LOCATION;VALUE=URI;X-ADDRESS=Regal Tenbury Wells 49 Teme Street Tenbury Wells WR15 8AE;X-APPLE-RADIUS=500;X-TITLE=49 Teme Street\, Tenbury Wells WR15 8AE:geo:-2.5943612,52.3124173
END:VEVENT
END:VCALENDAR