BEGIN:VCALENDAR
VERSION:2.0
PRODID:-//Visit The Malverns - ECPv6.15.20//NONSGML v1.0//EN
CALSCALE:GREGORIAN
METHOD:PUBLISH
X-WR-CALNAME:Visit The Malverns
X-ORIGINAL-URL:https://www.visitthemalverns.org
X-WR-CALDESC:Events for Visit The Malverns
REFRESH-INTERVAL;VALUE=DURATION:PT1H
X-Robots-Tag:noindex
X-PUBLISHED-TTL:PT1H
BEGIN:VTIMEZONE
TZID:Europe/London
BEGIN:DAYLIGHT
TZOFFSETFROM:+0000
TZOFFSETTO:+0100
TZNAME:BST
DTSTART:20250330T010000
END:DAYLIGHT
BEGIN:STANDARD
TZOFFSETFROM:+0100
TZOFFSETTO:+0000
TZNAME:GMT
DTSTART:20251026T010000
END:STANDARD
BEGIN:DAYLIGHT
TZOFFSETFROM:+0000
TZOFFSETTO:+0100
TZNAME:BST
DTSTART:20260329T010000
END:DAYLIGHT
BEGIN:STANDARD
TZOFFSETFROM:+0100
TZOFFSETTO:+0000
TZNAME:GMT
DTSTART:20261025T010000
END:STANDARD
BEGIN:DAYLIGHT
TZOFFSETFROM:+0000
TZOFFSETTO:+0100
TZNAME:BST
DTSTART:20270328T010000
END:DAYLIGHT
BEGIN:STANDARD
TZOFFSETFROM:+0100
TZOFFSETTO:+0000
TZNAME:GMT
DTSTART:20271031T010000
END:STANDARD
END:VTIMEZONE
BEGIN:VEVENT
DTSTART;TZID=Europe/London:20260411T200000
DTEND;TZID=Europe/London:20260411T220000
DTSTAMP:20260421T181827
CREATED:20260308T121723Z
LAST-MODIFIED:20260308T121723Z
UID:10023212-1775937600-1775944800@www.visitthemalverns.org
SUMMARY:Tyler Massey Quartet + Connie
DESCRIPTION:The Tyler Massey Quartet returns to home turf\, bringing a sardonic yet upbeat Americana vibe and prescient lyrics\, supported by the amazing Connie Gordon who will open the show. There will be some special surprises (including some new songs as the band swells to a Quintet with Connie singing). \nAll ages and quiet dogs are welcome. \nDon’t leave it to chance: get your (very reasonably-priced) tickets now! \nDoors open at 7.30pm; music starts at 8pm. \nTickets: £6.50 including booking fee – available online at Ticketsource
URL:https://www.visitthemalverns.org/event/tyler-massey-quartet-connie/
LOCATION:West Malvern Social Club\, West Malvern Road\, WR14 4AY
CATEGORIES:Concert,Malvern,Music
ATTACH;FMTTYPE=image/jpeg:https://www.visitthemalverns.org/wp-content/uploads/2023/12/Live-music-stock-image-e1731250009379.jpg
GEO:52.1171648;-2.346193
X-APPLE-STRUCTURED-LOCATION;VALUE=URI;X-ADDRESS=West Malvern Social Club West Malvern Road WR14 4AY;X-APPLE-RADIUS=500;X-TITLE=West Malvern Road\, WR14 4AY:geo:-2.346193,52.1171648
END:VEVENT
END:VCALENDAR