BEGIN:VCALENDAR
VERSION:2.0
PRODID:-//Visit The Malverns - ECPv6.15.20//NONSGML v1.0//EN
CALSCALE:GREGORIAN
METHOD:PUBLISH
X-WR-CALNAME:Visit The Malverns
X-ORIGINAL-URL:https://www.visitthemalverns.org
X-WR-CALDESC:Events for Visit The Malverns
REFRESH-INTERVAL;VALUE=DURATION:PT1H
X-Robots-Tag:noindex
X-PUBLISHED-TTL:PT1H
BEGIN:VTIMEZONE
TZID:Europe/London
BEGIN:DAYLIGHT
TZOFFSETFROM:+0000
TZOFFSETTO:+0100
TZNAME:BST
DTSTART:20250330T010000
END:DAYLIGHT
BEGIN:STANDARD
TZOFFSETFROM:+0100
TZOFFSETTO:+0000
TZNAME:GMT
DTSTART:20251026T010000
END:STANDARD
BEGIN:DAYLIGHT
TZOFFSETFROM:+0000
TZOFFSETTO:+0100
TZNAME:BST
DTSTART:20260329T010000
END:DAYLIGHT
BEGIN:STANDARD
TZOFFSETFROM:+0100
TZOFFSETTO:+0000
TZNAME:GMT
DTSTART:20261025T010000
END:STANDARD
BEGIN:DAYLIGHT
TZOFFSETFROM:+0000
TZOFFSETTO:+0100
TZNAME:BST
DTSTART:20270328T010000
END:DAYLIGHT
BEGIN:STANDARD
TZOFFSETFROM:+0100
TZOFFSETTO:+0000
TZNAME:GMT
DTSTART:20271031T010000
END:STANDARD
END:VTIMEZONE
BEGIN:VEVENT
DTSTART;TZID=Europe/London:20260412T160000
DTEND;TZID=Europe/London:20260412T163000
DTSTAMP:20260421T181811
CREATED:20260131T160345Z
LAST-MODIFIED:20260404T100343Z
UID:10022442-1776009600-1776011400@www.visitthemalverns.org
SUMMARY:Aster Presents: Orbit Part 1 'Sun'
DESCRIPTION:Launching at Line Up Festival 2025 as Plastic Moonrise x Alex Kera\, the newly named duo\, Aster\, consisting of poets and experimental sound-makers Catherine Norris and Alex Keramidas\, will now be performing at the Theatre of Small Convenience. Aster will curate 2 x 30-minute shows under the title Orbit. The first half\, ‘Sun’ (at 4pm)\, will be an awakening into the spring\, which will have just arrived at the vernal equinox\, and the second half\, ‘Moon’ (at 5pm)\, will be a reminder to remember the dreams we incubated during the winter before. Aster use samples\, loops and vocals to create a liminality which their audiences can rest within. \nBook ‘Sun’ online at Ticketsource. \nBook ‘Moon’ online at Ticketsource.
URL:https://www.visitthemalverns.org/event/aster-presents-orbit-part-1-sun/
LOCATION:Theatre of Small Convenience\, Edith Walk\,\, Malvern\, Worcestershire\, WR14 4QH
CATEGORIES:Community,Concert,Malvern,Music,Poetry
ATTACH;FMTTYPE=image/jpeg:https://www.visitthemalverns.org/wp-content/uploads/2026/04/Theatre-of-Small-Convenience-logo.jpg
GEO:52.1119818;-2.3293146
X-APPLE-STRUCTURED-LOCATION;VALUE=URI;X-ADDRESS=Theatre of Small Convenience Edith Walk Malvern Worcestershire WR14 4QH;X-APPLE-RADIUS=500;X-TITLE=Edith Walk\,:geo:-2.3293146,52.1119818
END:VEVENT
BEGIN:VEVENT
DTSTART;TZID=Europe/London:20260412T170000
DTEND;TZID=Europe/London:20260412T173000
DTSTAMP:20260421T181811
CREATED:20260131T160552Z
LAST-MODIFIED:20260404T101246Z
UID:10022443-1776013200-1776015000@www.visitthemalverns.org
SUMMARY:Aster Presents: Orbit Part 2 'Moon'
DESCRIPTION:Launching at Line Up Festival 2025 as Plastic Moonrise x Alex Kera\, the newly named duo\, Aster\, consisting of poets and experimental sound-makers Catherine Norris and Alex Keramidas\, will now be performing at the Theatre of Small Convenience. Aster will curate 2 x 30-minute shows under the title Orbit. The first half\, ‘Sun’ (at 4pm)\, will be an awakening into the spring\, which will have just arrived at the vernal equinox\, and the second half\, ‘Moon’ (at 5pm)\, will be a reminder to remember the dreams we incubated during the winter before. Aster use samples\, loops and vocals to create a liminality which their audiences can rest within. \nBook ‘Sun’ online at Ticketsource. \nBook ‘Moon’ online at Ticketsource.
URL:https://www.visitthemalverns.org/event/aster-presents-orbit-part-2-moon/
LOCATION:Theatre of Small Convenience\, Edith Walk\,\, Malvern\, Worcestershire\, WR14 4QH
CATEGORIES:Community,Concert,Malvern,Music,Poetry
ATTACH;FMTTYPE=image/jpeg:https://www.visitthemalverns.org/wp-content/uploads/2026/04/Theatre-of-Small-Convenience-logo.jpg
GEO:52.1119818;-2.3293146
X-APPLE-STRUCTURED-LOCATION;VALUE=URI;X-ADDRESS=Theatre of Small Convenience Edith Walk Malvern Worcestershire WR14 4QH;X-APPLE-RADIUS=500;X-TITLE=Edith Walk\,:geo:-2.3293146,52.1119818
END:VEVENT
BEGIN:VEVENT
DTSTART;TZID=Europe/London:20260412T193000
DTEND;TZID=Europe/London:20260412T213000
DTSTAMP:20260421T181811
CREATED:20251220T161818Z
LAST-MODIFIED:20251220T161818Z
UID:10021793-1776022200-1776029400@www.visitthemalverns.org
SUMMARY:Endless Love The Show – A Tribute to Diana Ross and Lionel Richie
DESCRIPTION:Step into a night of show-stopping vocals\, dazzling performances\, and a sensational live band in Endless Love The Show – the ultimate celebration of Diana Ross and Lionel Richie. \nBrimming with iconic hits and timeless classics\, this spectacular show features chart-toppers such as I’m Coming Out\, Dancing on the Ceiling\, Upside Down\, Say You Say Me\, Chain Reaction\, All Night Long\, Ain’t No Mountain High Enough\, Hello\, You Can’t Hurry Love and\, of course\, the No. 1 duet of all time\, Endless Love\, plus many more! \nWith authentic arrangements inspired by Lionel’s and Diana’s original touring productions\, Endless Love is a thrilling\, joy-filled journey through some of popular music’s biggest hits. This show will have you singing\, dancing\, and reminiscing from start to finish. \nA truly dazzling production that captures the glamour\, emotion\, and energy of these two musical icons together for the first time in one unique show. From the magical Motown era\, irresistible ’80s & ’90s anthems\, and infectious dance floor hits – Endless Love has it all. \nYou already know every word – so warm up those vocals\, put on your dancing shoes\, and get ready to party… All Night Long!
URL:https://www.visitthemalverns.org/event/endless-love-the-show-a-tribute-to-diana-ross-and-lionel-richie/
LOCATION:Malvern Theatres\, WR14 3HB
CATEGORIES:Concert,Malvern,Music
ATTACH;FMTTYPE=image/jpeg:https://www.visitthemalverns.org/wp-content/uploads/2021/08/iStock-688015678-music-Resized-1.jpg
GEO:52.1106766;-2.3267752
X-APPLE-STRUCTURED-LOCATION;VALUE=URI;X-ADDRESS=Malvern Theatres WR14 3HB;X-APPLE-RADIUS=500;X-TITLE=WR14 3HB:geo:-2.3267752,52.1106766
END:VEVENT
END:VCALENDAR