BEGIN:VCALENDAR
VERSION:2.0
PRODID:-//Visit The Malverns - ECPv6.15.20//NONSGML v1.0//EN
CALSCALE:GREGORIAN
METHOD:PUBLISH
X-WR-CALNAME:Visit The Malverns
X-ORIGINAL-URL:https://www.visitthemalverns.org
X-WR-CALDESC:Events for Visit The Malverns
REFRESH-INTERVAL;VALUE=DURATION:PT1H
X-Robots-Tag:noindex
X-PUBLISHED-TTL:PT1H
BEGIN:VTIMEZONE
TZID:Europe/London
BEGIN:DAYLIGHT
TZOFFSETFROM:+0000
TZOFFSETTO:+0100
TZNAME:BST
DTSTART:20250330T010000
END:DAYLIGHT
BEGIN:STANDARD
TZOFFSETFROM:+0100
TZOFFSETTO:+0000
TZNAME:GMT
DTSTART:20251026T010000
END:STANDARD
BEGIN:DAYLIGHT
TZOFFSETFROM:+0000
TZOFFSETTO:+0100
TZNAME:BST
DTSTART:20260329T010000
END:DAYLIGHT
BEGIN:STANDARD
TZOFFSETFROM:+0100
TZOFFSETTO:+0000
TZNAME:GMT
DTSTART:20261025T010000
END:STANDARD
BEGIN:DAYLIGHT
TZOFFSETFROM:+0000
TZOFFSETTO:+0100
TZNAME:BST
DTSTART:20270328T010000
END:DAYLIGHT
BEGIN:STANDARD
TZOFFSETFROM:+0100
TZOFFSETTO:+0000
TZNAME:GMT
DTSTART:20271031T010000
END:STANDARD
END:VTIMEZONE
BEGIN:VEVENT
DTSTART;TZID=Europe/London:20260418T190000
DTEND;TZID=Europe/London:20260418T210000
DTSTAMP:20260421T181811
CREATED:20260213T135214Z
LAST-MODIFIED:20260213T135214Z
UID:10022624-1776538800-1776546000@www.visitthemalverns.org
SUMMARY:The Hildasholm Festival Ensemble
DESCRIPTION:Musicians\nElisabeth Zeuthen Schneider – Violin\nToke Møldrup – Cello\nDaniele Rinaldo – Piano \nThis talented trio played at Hellens in summer 2025 and the organisers are delighted to welcome them again in April 2026. \nThe first half of the programme opens with a grand Bach piece: a ‘Triosonata’ where three voices -violin\, left and right hand of keyboard – tease and baffle. \nThe Debussy cello sonata was conceived as a tribute to the baroque masters Couperin and Rameau and has a beautiful intimate atmosphere \nThe Janácek ‘Pohádka’ (Fairytale) is inspired by an epic Russian poem and rounds off the first half of the concert on a fantastic note. \nAfter the break we set sail for the Beethoven trio: The name ‘Archduke’ refers to the dedication from Rudolph of Austria\, an amateur pianist\, a friend and piano student of Beethoven. The title shadows a bit for the wonderful inspired piece\, which happened to become the last piece that Beethoven performed in public. His deafness was at this point so grave that he could not hear himself – let alone the violin and cello. Despite the intense anguish Beethoven must have felt at this time\, he composes a piece of great beauty and optimism. The programme is a tour de force – all pieces playing up to the large\, wonderful Beethoven trio that is one of Beethoven’s greatest works. \nTickets: £20 (free to full-time students and carers) – available to book via the Hellens website
URL:https://www.visitthemalverns.org/event/the-hildasholm-festival-ensemble-2/
LOCATION:Hellens\, Much Marcle\, HR8 2LY
CATEGORIES:Concert,Malvern,Music
ATTACH;FMTTYPE=image/jpeg:https://www.visitthemalverns.org/wp-content/uploads/2025/01/Hildasholm-Festival-Ensemble.jpg
GEO:51.9948718;-2.4993251
X-APPLE-STRUCTURED-LOCATION;VALUE=URI;X-ADDRESS=Hellens Much Marcle HR8 2LY;X-APPLE-RADIUS=500;X-TITLE=Much Marcle\, HR8 2LY:geo:-2.4993251,51.9948718
END:VEVENT
BEGIN:VEVENT
DTSTART;TZID=Europe/London:20260418T190000
DTEND;TZID=Europe/London:20260418T210000
DTSTAMP:20260421T181811
CREATED:20260327T171951Z
LAST-MODIFIED:20260327T171951Z
UID:10023459-1776538800-1776546000@www.visitthemalverns.org
SUMMARY:Songs for a Spring Evening
DESCRIPTION:A concert by the Oakville Singers with the choir of Great Malvern Primary School\, providing a great opportunity to hear this wonderful choir singing a wide variety of songs. \nTickets: £10 (adults) / £5 (children aged 11 – 16) / Free (children under 10) – pre-book via communications@worcestermu.org.uk \nProceeds from the concert will go to the Mothers’ Union 150th Appeal.
URL:https://www.visitthemalverns.org/event/songs-for-a-spring-evening/
LOCATION:Christ Church\, Avenue Road\, Malvern\, WR14 3BG
CATEGORIES:Charity,Concert,Malvern,Music
ATTACH;FMTTYPE=image/jpeg:https://www.visitthemalverns.org/wp-content/uploads/2025/03/Choir-image-by-David-Beale-on-Unsplash.jpg
GEO:52.1095932;-2.315847
X-APPLE-STRUCTURED-LOCATION;VALUE=URI;X-ADDRESS=Christ Church Avenue Road Malvern WR14 3BG;X-APPLE-RADIUS=500;X-TITLE=Avenue Road:geo:-2.315847,52.1095932
END:VEVENT
BEGIN:VEVENT
DTSTART;TZID=Europe/London:20260418T190000
DTEND;TZID=Europe/London:20260418T213000
DTSTAMP:20260421T181811
CREATED:20260220T131411Z
LAST-MODIFIED:20260418T160153Z
UID:10022776-1776538800-1776547800@www.visitthemalverns.org
SUMMARY:Male Voice Choir Spectacular
DESCRIPTION:70 Voices. One Roof. One Unmissable Night: Male Voice Choir Spectacular Set to Shake Great Malvern Priory \nMalvern is set to resonate with powerful harmony this spring as three dynamic male voice choirs unite for one unforgettable musical event. \nOn Saturday 18 April 2026 at 7pm\, the stunning Great Malvern Priory will host a Male Voice Choir Spectacular – a rare coming together of voices\, tradition\, and sheer vocal power. \nLeading the evening is Malvern Male Voice Choir\, proudly part of the town’s musical heartbeat for over a century. They’ll be joined by two exceptional visiting ensembles: the vibrant Bois Goetre-Hen Male Choir from Bridgend\, South Wales\, and the newly united Vauxhall Luton Male Voice Choir\, blending proud Bedfordshire legacies into one exciting sound. \nBois Goetre-Hen may be one of Wales’ newer choirs – founded in 2009 – but it’s already hitting remarkable heights\, chalking up an astonishing number of performances – this concert in Malvern being its 350th – with a fresh\, modern repertoire alongside beloved Welsh classics. \nMeanwhile\, Vauxhall Luton Male Voice Choir represents a bold new chapter\, formed from the merger of two long-standing choirs\, bringing renewed energy\, ambition\, and musical flair. \nMalvern’s own conductor\, Charles Pavey\, explains: ‘Malvern Male Voice Choir has been a well-known part of the town’s musical fabric since 1922. During last year both of the visiting choirs contacted us separately and\, very quickly\, the idea of a massed choir concert was born. We are wishing to stage something very special and our visitors are wishing to explore the beauty of the Malvern Hills and enjoy the glories of the best acoustic in town! So come and enjoy a couple of hours of song with the considerable sound of three choirs\, offering a wonderfully varied mix of music to guarantee a thoroughly entertaining evening.’ \nInterval refreshments available. \nDon’t miss your chance to experience the thrilling sound of three choirs as one – this is Malvern at its musical best. \nTickets: £15 (adults) / £5 (under 18s) – available to book online as well as on the door
URL:https://www.visitthemalverns.org/event/male-voice-choir-spectacular/
LOCATION:Great Malvern Priory\, WR14 2AY
CATEGORIES:Community,Concert,Malvern,Music
ATTACH;FMTTYPE=image/jpeg:https://www.visitthemalverns.org/wp-content/uploads/2026/04/Malvern-Male-Voice-Choir-pic-by-Tarquin-Shaw-Young-.jpeg
GEO:52.11060672681;-2.3285150529525
X-APPLE-STRUCTURED-LOCATION;VALUE=URI;X-ADDRESS=Great Malvern Priory WR14 2AY;X-APPLE-RADIUS=500;X-TITLE=WR14 2AY:geo:-2.3285150529525,52.11060672681
END:VEVENT
BEGIN:VEVENT
DTSTART;TZID=Europe/London:20260418T200000
DTEND;TZID=Europe/London:20260418T230000
DTSTAMP:20260421T181811
CREATED:20260109T155320Z
LAST-MODIFIED:20260109T155320Z
UID:10022087-1776542400-1776553200@www.visitthemalverns.org
SUMMARY:John Bramwell with support from Ben De La Cour
DESCRIPTION:This will be John’s fourth visit to West Malvern Social Club\, where his blend of alt folk goes down a treat. \nAs the singer in I Am Kloot from 1999 to 2014\, Bramwell achieved a Mercury Prize nomination for 2010’s The Sky At Night\, a Top 10 chart position for 2013’s Let It All In\, numerous UK and European tours and a triumphant farewell at the Queen Elizabeth Hall with an orchestra in 2014. \nNow\, as a solo artist\, Bramwell treads a very different path\, a path that criss-crosses the length and breadth of the UK with a humble agenda of taking his heart-warming songs to the stage and enjoying another moment in time with his devoted fans. \nDoors open at 7.30pm and music starts at 8pm. \nTickets: £27.10 including booking fee – available to book online at Ticketsource
URL:https://www.visitthemalverns.org/event/john-bramwell-with-support-from-ben-de-la-cour/
LOCATION:West Malvern Social Club\, West Malvern Road\, WR14 4AY
CATEGORIES:Concert,Malvern,Music
ATTACH;FMTTYPE=image/jpeg:https://www.visitthemalverns.org/wp-content/uploads/2023/12/Live-music-stock-image-e1731250009379.jpg
GEO:52.1171648;-2.346193
X-APPLE-STRUCTURED-LOCATION;VALUE=URI;X-ADDRESS=West Malvern Social Club West Malvern Road WR14 4AY;X-APPLE-RADIUS=500;X-TITLE=West Malvern Road\, WR14 4AY:geo:-2.346193,52.1171648
END:VEVENT
END:VCALENDAR