BEGIN:VCALENDAR
VERSION:2.0
PRODID:-//Visit The Malverns - ECPv6.15.20//NONSGML v1.0//EN
CALSCALE:GREGORIAN
METHOD:PUBLISH
X-WR-CALNAME:Visit The Malverns
X-ORIGINAL-URL:https://www.visitthemalverns.org
X-WR-CALDESC:Events for Visit The Malverns
REFRESH-INTERVAL;VALUE=DURATION:PT1H
X-Robots-Tag:noindex
X-PUBLISHED-TTL:PT1H
BEGIN:VTIMEZONE
TZID:Europe/London
BEGIN:DAYLIGHT
TZOFFSETFROM:+0000
TZOFFSETTO:+0100
TZNAME:BST
DTSTART:20250330T010000
END:DAYLIGHT
BEGIN:STANDARD
TZOFFSETFROM:+0100
TZOFFSETTO:+0000
TZNAME:GMT
DTSTART:20251026T010000
END:STANDARD
BEGIN:DAYLIGHT
TZOFFSETFROM:+0000
TZOFFSETTO:+0100
TZNAME:BST
DTSTART:20260329T010000
END:DAYLIGHT
BEGIN:STANDARD
TZOFFSETFROM:+0100
TZOFFSETTO:+0000
TZNAME:GMT
DTSTART:20261025T010000
END:STANDARD
BEGIN:DAYLIGHT
TZOFFSETFROM:+0000
TZOFFSETTO:+0100
TZNAME:BST
DTSTART:20270328T010000
END:DAYLIGHT
BEGIN:STANDARD
TZOFFSETFROM:+0100
TZOFFSETTO:+0000
TZNAME:GMT
DTSTART:20271031T010000
END:STANDARD
END:VTIMEZONE
BEGIN:VEVENT
DTSTART;TZID=Europe/London:20260423T193000
DTEND;TZID=Europe/London:20260423T213000
DTSTAMP:20260421T164212
CREATED:20251223T160222Z
LAST-MODIFIED:20251223T160222Z
UID:10021845-1776972600-1776979800@www.visitthemalverns.org
SUMMARY:The Bootleg Beatles in Concert
DESCRIPTION:After the success of their last concert celebrating the songs of the Beatles’ iconic five films\, The Bootleg Beatles return in 2026 with their focus on another Famous Five. \nThis year\, it’s The Beatles’ top five selling albums – the Dylan-influenced Rubber Soul\, the experimental Revolver\, Sgt Pepper heralding the Summer of Love and psychedelia\, The White Album with its glorious eclectic mish mash of styles\, and their grand finale\, the musically sophisticated Abbey Road. \nFor Beatles enthusiasts of all generations\, this concert is not to be missed on any account. \nShow times\nThursday 23 April 2026 at 7.30pm\nFriday 24 April 2026 at 7.30pm
URL:https://www.visitthemalverns.org/event/the-bootleg-beatles-in-concert/2026-04-23/
LOCATION:Malvern Theatres\, WR14 3HB
CATEGORIES:Concert,Malvern,Music
ATTACH;FMTTYPE=image/jpeg:https://www.visitthemalverns.org/wp-content/uploads/2021/08/iStock-688015678-music-Resized-1.jpg
GEO:52.1106766;-2.3267752
X-APPLE-STRUCTURED-LOCATION;VALUE=URI;X-ADDRESS=Malvern Theatres WR14 3HB;X-APPLE-RADIUS=500;X-TITLE=WR14 3HB:geo:-2.3267752,52.1106766
END:VEVENT
END:VCALENDAR