BEGIN:VCALENDAR
VERSION:2.0
PRODID:-//Visit The Malverns - ECPv6.15.20//NONSGML v1.0//EN
CALSCALE:GREGORIAN
METHOD:PUBLISH
X-WR-CALNAME:Visit The Malverns
X-ORIGINAL-URL:https://www.visitthemalverns.org
X-WR-CALDESC:Events for Visit The Malverns
REFRESH-INTERVAL;VALUE=DURATION:PT1H
X-Robots-Tag:noindex
X-PUBLISHED-TTL:PT1H
BEGIN:VTIMEZONE
TZID:Europe/London
BEGIN:DAYLIGHT
TZOFFSETFROM:+0000
TZOFFSETTO:+0100
TZNAME:BST
DTSTART:20250330T010000
END:DAYLIGHT
BEGIN:STANDARD
TZOFFSETFROM:+0100
TZOFFSETTO:+0000
TZNAME:GMT
DTSTART:20251026T010000
END:STANDARD
BEGIN:DAYLIGHT
TZOFFSETFROM:+0000
TZOFFSETTO:+0100
TZNAME:BST
DTSTART:20260329T010000
END:DAYLIGHT
BEGIN:STANDARD
TZOFFSETFROM:+0100
TZOFFSETTO:+0000
TZNAME:GMT
DTSTART:20261025T010000
END:STANDARD
BEGIN:DAYLIGHT
TZOFFSETFROM:+0000
TZOFFSETTO:+0100
TZNAME:BST
DTSTART:20270328T010000
END:DAYLIGHT
BEGIN:STANDARD
TZOFFSETFROM:+0100
TZOFFSETTO:+0000
TZNAME:GMT
DTSTART:20271031T010000
END:STANDARD
END:VTIMEZONE
BEGIN:VEVENT
DTSTART;TZID=Europe/London:20260426T150000
DTEND;TZID=Europe/London:20260426T163000
DTSTAMP:20260421T181826
CREATED:20260401T170423Z
LAST-MODIFIED:20260418T160201Z
UID:10023481-1777215600-1777221000@www.visitthemalverns.org
SUMMARY:Debussy Reflections - A Journey Through the Piano Music of Claude Debussy with Marie-Louise Taylor
DESCRIPTION:Pianist Marie-Louise Taylor will be retuning to Elmslie House on 26 April 2026 to play a programme of beautiful piano music by Debussy\, Couperin\, Chopin\, Faure\, Bach and Ravel and to reflect on who and what inspired the piano music of Claude Debussy. \nDoors will open at 2.30pm ahead of the recital beginning promptly at 3pm. \nSeats are all unreserved. \nThere will be a short interval\, and there will be the opportunity to buy tea and cake at the bar at Elmslie\, both before the recital begins and during the interval. \nTickets: £12.70 including booking fee – book online at Ticket Tailor
URL:https://www.visitthemalverns.org/event/debussy-reflections-a-journey-through-the-piano-music-of-claude-debussy-with-marie-louise-taylor/
LOCATION:Elmslie House\, WR14 3AG
CATEGORIES:Concert,Malvern,Music
ATTACH;FMTTYPE=image/jpeg:https://www.visitthemalverns.org/wp-content/uploads/2026/01/Grand-piano-by-Lulu-Wu-on-Unsplash.jpg
GEO:52.11065;-2.32279
X-APPLE-STRUCTURED-LOCATION;VALUE=URI;X-ADDRESS=Elmslie House WR14 3AG;X-APPLE-RADIUS=500;X-TITLE=WR14 3AG:geo:-2.32279,52.11065
END:VEVENT
BEGIN:VEVENT
DTSTART;TZID=Europe/London:20260426T193000
DTEND;TZID=Europe/London:20260426T210000
DTSTAMP:20260421T181826
CREATED:20251213T113908Z
LAST-MODIFIED:20260307T155705Z
UID:10021638-1777231800-1777237200@www.visitthemalverns.org
SUMMARY:Malvern Concert Club: Isata Kanneh-Mason
DESCRIPTION:Isata Kanneh-Mason piano \nProgramme\nBeethoven Sonata No.2\, Op.27\nNo.2 Moonlight\nRavel Gaspard de la Nuit\nBeethoven Sonata No.21\, Op.53 Waldstein \nIsata Kanneh-Mason offers eclectic and interesting recital programmes with repertoire from Haydn and Mozart\, Fanny Mendelssohn and Clara Schumann\, Chopin and Brahms to Gershwin and beyond\, and is in high demand worldwide. \nFollowing her concerto debut at the BBC Proms in 2023\, she was invited to open the 2024 festival with the BBCSO and Elim Chan\, to stellar reviews. She appeared as concerto soloist with the European Union Youth Orchestra and Iván Fischer in 2024 at Carnegie Hall\, the Grafenegg Festival and Bolzano Festival. \nImage © John Davis
URL:https://www.visitthemalverns.org/event/malvern-concert-club-isata-kanneh-mason-2/
LOCATION:Malvern Theatres\, WR14 3HB
CATEGORIES:Concert,Malvern,Music
ATTACH;FMTTYPE=image/jpeg:https://www.visitthemalverns.org/wp-content/uploads/2026/03/IKM-5-credit-John-Davis.jpg
GEO:52.1106766;-2.3267752
X-APPLE-STRUCTURED-LOCATION;VALUE=URI;X-ADDRESS=Malvern Theatres WR14 3HB;X-APPLE-RADIUS=500;X-TITLE=WR14 3HB:geo:-2.3267752,52.1106766
END:VEVENT
END:VCALENDAR