BEGIN:VCALENDAR
VERSION:2.0
PRODID:-//Visit The Malverns - ECPv6.15.20//NONSGML v1.0//EN
CALSCALE:GREGORIAN
METHOD:PUBLISH
X-ORIGINAL-URL:https://www.visitthemalverns.org
X-WR-CALDESC:Events for Visit The Malverns
REFRESH-INTERVAL;VALUE=DURATION:PT1H
X-Robots-Tag:noindex
X-PUBLISHED-TTL:PT1H
BEGIN:VTIMEZONE
TZID:Europe/London
BEGIN:DAYLIGHT
TZOFFSETFROM:+0000
TZOFFSETTO:+0100
TZNAME:BST
DTSTART:20250330T010000
END:DAYLIGHT
BEGIN:STANDARD
TZOFFSETFROM:+0100
TZOFFSETTO:+0000
TZNAME:GMT
DTSTART:20251026T010000
END:STANDARD
BEGIN:DAYLIGHT
TZOFFSETFROM:+0000
TZOFFSETTO:+0100
TZNAME:BST
DTSTART:20260329T010000
END:DAYLIGHT
BEGIN:STANDARD
TZOFFSETFROM:+0100
TZOFFSETTO:+0000
TZNAME:GMT
DTSTART:20261025T010000
END:STANDARD
BEGIN:DAYLIGHT
TZOFFSETFROM:+0000
TZOFFSETTO:+0100
TZNAME:BST
DTSTART:20270328T010000
END:DAYLIGHT
BEGIN:STANDARD
TZOFFSETFROM:+0100
TZOFFSETTO:+0000
TZNAME:GMT
DTSTART:20271031T010000
END:STANDARD
END:VTIMEZONE
BEGIN:VEVENT
DTSTART;TZID=Europe/London:20260506T080000
DTEND;TZID=Europe/London:20260510T170000
DTSTAMP:20260421T200659
CREATED:20240414T103947Z
LAST-MODIFIED:20260121T173822Z
UID:10014564-1778054400-1778432400@www.visitthemalverns.org
SUMMARY:Hellensmusic 2026
DESCRIPTION:Hellensmusic\, held in the Great Barn at Hellens as well as the local church and pub in the village of Much Marcle\, is a classical music festival that strives to bring the finest music-making to the heart of rural Herefordshire and to create an environment where all – concertgoers\, local schoolchildren\, aspiring musicians\, world-class artists – are warmly encouraged to explore\, be curious and enjoy music to the fullest! \nThis year’s festival runs from 6 – 10 May and\, as in previous years\, the organisers’ dream is to bring you world music with soloists you have known in the past\, and wonderful new artists\, with a great bunch of gifted students from all over the place to show and share how it is done\, and what it takes! \nPlease note that although the location is listed on this page as Hellens and most events do take place there\, some are at St Bartholomew’s Church or The Walwyn Arms. \nFor more information\, full programme (when available) and booking\, visit the Hellensmusic website.
URL:https://www.visitthemalverns.org/event/hellensmusic-2026/
LOCATION:Hellens\, Much Marcle\, HR8 2LY
CATEGORIES:Concert,Festival,Music
ATTACH;FMTTYPE=image/jpeg:https://www.visitthemalverns.org/wp-content/uploads/2026/01/Hellens-Music-2026.jpg
GEO:51.9948718;-2.4993251
X-APPLE-STRUCTURED-LOCATION;VALUE=URI;X-ADDRESS=Hellens Much Marcle HR8 2LY;X-APPLE-RADIUS=500;X-TITLE=Much Marcle\, HR8 2LY:geo:-2.4993251,51.9948718
END:VEVENT
BEGIN:VEVENT
DTSTART;TZID=Europe/London:20260508T200000
DTEND;TZID=Europe/London:20260508T220000
DTSTAMP:20260421T200659
CREATED:20260307T165721Z
LAST-MODIFIED:20260307T165721Z
UID:10023209-1778270400-1778277600@www.visitthemalverns.org
SUMMARY:Charlie Dore with Gareth Huw Davies
DESCRIPTION:After far too long an interval\, the wonderful Charlie Dore returns to the Ale House\, with the hugely-talented multi-instrumentalist Gareth Huw Davies accompanying. \nAmong the UK’s most respected and quietly influential songwriters\, Charlie is back on the road in 2026 with Still Curious\, a tour that celebrates a lifetime of sharp observation and musical craft. \nTickets: £20 – book online via the Ale House website \nDoors open at 7.30pm. \nThere is no bar at the Ale House\, so this is a ‘bring-your-own’ event.
URL:https://www.visitthemalverns.org/event/charlie-dore-with-gareth-huw-davies/
LOCATION:The Ale House\, Mill Lane\, Colwall\, WR13 6HJ
CATEGORIES:Concert,Malvern,Music
ATTACH;FMTTYPE=image/jpeg:https://www.visitthemalverns.org/wp-content/uploads/2021/08/iStock-688015678-music-Resized-1.jpg
GEO:52.07851;-2.38189
X-APPLE-STRUCTURED-LOCATION;VALUE=URI;X-ADDRESS=The Ale House Mill Lane Colwall WR13 6HJ;X-APPLE-RADIUS=500;X-TITLE=Mill Lane:geo:-2.38189,52.07851
END:VEVENT
END:VCALENDAR