BEGIN:VCALENDAR
VERSION:2.0
PRODID:-//Visit The Malverns - ECPv6.15.20//NONSGML v1.0//EN
CALSCALE:GREGORIAN
METHOD:PUBLISH
X-ORIGINAL-URL:https://www.visitthemalverns.org
X-WR-CALDESC:Events for Visit The Malverns
REFRESH-INTERVAL;VALUE=DURATION:PT1H
X-Robots-Tag:noindex
X-PUBLISHED-TTL:PT1H
BEGIN:VTIMEZONE
TZID:Europe/London
BEGIN:DAYLIGHT
TZOFFSETFROM:+0000
TZOFFSETTO:+0100
TZNAME:BST
DTSTART:20250330T010000
END:DAYLIGHT
BEGIN:STANDARD
TZOFFSETFROM:+0100
TZOFFSETTO:+0000
TZNAME:GMT
DTSTART:20251026T010000
END:STANDARD
BEGIN:DAYLIGHT
TZOFFSETFROM:+0000
TZOFFSETTO:+0100
TZNAME:BST
DTSTART:20260329T010000
END:DAYLIGHT
BEGIN:STANDARD
TZOFFSETFROM:+0100
TZOFFSETTO:+0000
TZNAME:GMT
DTSTART:20261025T010000
END:STANDARD
BEGIN:DAYLIGHT
TZOFFSETFROM:+0000
TZOFFSETTO:+0100
TZNAME:BST
DTSTART:20270328T010000
END:DAYLIGHT
BEGIN:STANDARD
TZOFFSETFROM:+0100
TZOFFSETTO:+0000
TZNAME:GMT
DTSTART:20271031T010000
END:STANDARD
END:VTIMEZONE
BEGIN:VEVENT
DTSTART;TZID=Europe/London:20260523T000000
DTEND;TZID=Europe/London:20260531T000000
DTSTAMP:20260421T200756
CREATED:20260306T164657Z
LAST-MODIFIED:20260306T165155Z
UID:10005425-1779494400-1780185600@www.visitthemalverns.org
SUMMARY:The Elgar Festival 2026
DESCRIPTION:Our featured composer this year is 97-year-old icon of British music\, Thea Musgrave\, whose music abounds in colour\, emotion\, drama and impact. We hear Elgar’s last major orchestral work\, the beloved Cello Concerto\, alongside his first\, The Black Knight. As always we welcome some of the best musicians in the world to Worcester for the week\, including Robert Hollingworth and I Fagiolini\, oboist Nicholas Daniel\, pianist and composer Huw Watkins\, violist Rosalind Ventris alongside classic FM presenter Zeb Soanes\, world renowned Elgar record producer Andrew Keener and many more. I can’t wait to give that first upbeat – please join us!’ \nKenneth Woods\, Artistic Director
URL:https://www.visitthemalverns.org/event/the-elgar-festival-2/
CATEGORIES:Children,Concert,Festival,History,Malvern,Music
ATTACH;FMTTYPE=image/jpeg:https://www.visitthemalverns.org/wp-content/uploads/2026/03/Elgar-Festival-final-2026.jpg
END:VEVENT
BEGIN:VEVENT
DTSTART;TZID=Europe/London:20260524T143000
DTEND;TZID=Europe/London:20260524T163000
DTSTAMP:20260421T200756
CREATED:20260415T152442Z
LAST-MODIFIED:20260415T152442Z
UID:10023569-1779633000-1779640200@www.visitthemalverns.org
SUMMARY:Music in the Park 2026
DESCRIPTION:Malvern Town Council’s annual Music in the Park programme begins on Sunday 10 May 2026\, with concerts due to take place every Sunday at 2.30pm until 13 September in Priory Park. Once again\, there’s a fabulous range of musical genres to enjoy\, including alternative\, light rock\, country/folk and jazz\, as well as the more traditional and ever-popular brass bands. \nDon’t forget to bring along your chairs\, blankets\, and picnics (or buy a takeaway treat from one of our town centre shops)\, and enjoy an afternoon of music in the scenic Priory Park against the backdrop of the beautiful Malvern Hills. \nBest of all\, these events are free to attend! \nProgramme 2026\n10 May: Gloucestershire Constabulary Brass Band\n17 May: West Coast Sound (jazz)\n24 May: Flat Tonic (alternative)\n31 May: Kitchen Island Band (folk)\n7 June: Malvern Hills District Brass Band\n14 June: Nothin’ But Dust (alternative)\n21 June: Family 3 Steel (Celebration of National Windrush Day)\n28 June: Cinderford Brass Band (Celebration of Armed Forces Day)\n5 July: The Retros (Blues retrospective)\n12 July: The Barflys (alternative)\n19 July: Hereford Concert Band (brass)\n26 July: Idle Moments (jazz)\n2 August: ARIEL (alternative)\n9 August: Alcester Victoria Brass Band\n16 August: Sunset Levels (alternative)\n23 August: Bourbon Alley (Blues)\n30 August: Worcestershire Rock School (alternative)\n6 September: The Jamesons (folk)\n13 September: Malvern Big Band (jazz)
URL:https://www.visitthemalverns.org/event/music-in-the-park-2026/2026-05-24/
LOCATION:Priory Park\, Great Malvern
CATEGORIES:Community,Concert,Family,Free,Malvern,Music
ATTACH;FMTTYPE=image/jpeg:https://www.visitthemalverns.org/wp-content/uploads/2026/04/Music-in-the-Park.jpg
GEO:52.109991323292;-2.3260413614411
X-APPLE-STRUCTURED-LOCATION;VALUE=URI;X-ADDRESS=Priory Park Great Malvern;X-APPLE-RADIUS=500;X-TITLE=Great Malvern:geo:-2.3260413614411,52.109991323292
END:VEVENT
BEGIN:VEVENT
DTSTART;TZID=Europe/London:20260524T190000
DTEND;TZID=Europe/London:20260524T210000
DTSTAMP:20260421T200756
CREATED:20251224T120804Z
LAST-MODIFIED:20251224T120804Z
UID:10021875-1779649200-1779656400@www.visitthemalverns.org
SUMMARY:The '80s Show
DESCRIPTION:Prepare to travel back in time and relive the iconic sounds of the greatest musical era as The ’80s Show takes you on a nostalgic journey\, celebrating the memorable hits that defined a generation! \nFrom the infectious pop melodies of Duran Duran\, Spandau Ballet and Wham! to the rock anthems of Bon Jovi and Tears for Fears\, as well as a few more surprises\, this show will have everyone dancing and singing along to their favourite tunes from the decade. \nBoasting an exceptional group of musicians\, The 80s Show promises an authentic and high-energy performance that will bring to life the essence of the era\, the music enhanced by visually stunning big screen footage and a dazzling light and laser show\, ensuring a truly unforgettable and immersive spectacle.
URL:https://www.visitthemalverns.org/event/the-80s-show-2/
LOCATION:Malvern Theatres\, WR14 3HB
CATEGORIES:Concert,Malvern,Music
ATTACH;FMTTYPE=image/jpeg:https://www.visitthemalverns.org/wp-content/uploads/2021/08/iStock-688015678-music-Resized-1.jpg
GEO:52.1106766;-2.3267752
X-APPLE-STRUCTURED-LOCATION;VALUE=URI;X-ADDRESS=Malvern Theatres WR14 3HB;X-APPLE-RADIUS=500;X-TITLE=WR14 3HB:geo:-2.3267752,52.1106766
END:VEVENT
END:VCALENDAR