BEGIN:VCALENDAR
VERSION:2.0
PRODID:-//Visit The Malverns - ECPv6.15.20//NONSGML v1.0//EN
CALSCALE:GREGORIAN
METHOD:PUBLISH
X-WR-CALNAME:Visit The Malverns
X-ORIGINAL-URL:https://www.visitthemalverns.org
X-WR-CALDESC:Events for Visit The Malverns
REFRESH-INTERVAL;VALUE=DURATION:PT1H
X-Robots-Tag:noindex
X-PUBLISHED-TTL:PT1H
BEGIN:VTIMEZONE
TZID:Europe/London
BEGIN:DAYLIGHT
TZOFFSETFROM:+0000
TZOFFSETTO:+0100
TZNAME:BST
DTSTART:20250330T010000
END:DAYLIGHT
BEGIN:STANDARD
TZOFFSETFROM:+0100
TZOFFSETTO:+0000
TZNAME:GMT
DTSTART:20251026T010000
END:STANDARD
BEGIN:DAYLIGHT
TZOFFSETFROM:+0000
TZOFFSETTO:+0100
TZNAME:BST
DTSTART:20260329T010000
END:DAYLIGHT
BEGIN:STANDARD
TZOFFSETFROM:+0100
TZOFFSETTO:+0000
TZNAME:GMT
DTSTART:20261025T010000
END:STANDARD
BEGIN:DAYLIGHT
TZOFFSETFROM:+0000
TZOFFSETTO:+0100
TZNAME:BST
DTSTART:20270328T010000
END:DAYLIGHT
BEGIN:STANDARD
TZOFFSETFROM:+0100
TZOFFSETTO:+0000
TZNAME:GMT
DTSTART:20271031T010000
END:STANDARD
END:VTIMEZONE
BEGIN:VEVENT
DTSTART;TZID=Europe/London:20260523T000000
DTEND;TZID=Europe/London:20260531T000000
DTSTAMP:20260421T201703
CREATED:20260306T164657Z
LAST-MODIFIED:20260306T165155Z
UID:10005425-1779494400-1780185600@www.visitthemalverns.org
SUMMARY:The Elgar Festival 2026
DESCRIPTION:Our featured composer this year is 97-year-old icon of British music\, Thea Musgrave\, whose music abounds in colour\, emotion\, drama and impact. We hear Elgar’s last major orchestral work\, the beloved Cello Concerto\, alongside his first\, The Black Knight. As always we welcome some of the best musicians in the world to Worcester for the week\, including Robert Hollingworth and I Fagiolini\, oboist Nicholas Daniel\, pianist and composer Huw Watkins\, violist Rosalind Ventris alongside classic FM presenter Zeb Soanes\, world renowned Elgar record producer Andrew Keener and many more. I can’t wait to give that first upbeat – please join us!’ \nKenneth Woods\, Artistic Director
URL:https://www.visitthemalverns.org/event/the-elgar-festival-2/
CATEGORIES:Children,Concert,Festival,History,Malvern,Music
ATTACH;FMTTYPE=image/jpeg:https://www.visitthemalverns.org/wp-content/uploads/2026/03/Elgar-Festival-final-2026.jpg
END:VEVENT
BEGIN:VEVENT
DTSTART;TZID=Europe/London:20260527T193000
DTEND;TZID=Europe/London:20260527T213000
DTSTAMP:20260421T201703
CREATED:20251224T122753Z
LAST-MODIFIED:20251224T122753Z
UID:10021877-1779910200-1779917400@www.visitthemalverns.org
SUMMARY:VOCES8: Give Me Your Stars
DESCRIPTION:Give Me Your Stars explores the profound and diverse beauty of music that has been inspired by the heavens\, human connection\, and the places we call home. At its heart is Lucy Walker’s eponymous new work\, written specially for VOCES8\, which reflects in music the delicate balance between celestial wonder and the deep\, personal connections that make us human. \nThe programme covers centuries of choral music\, ranging from the luminous polyphony of Tomás Luis de Victoria’s Regina Caeli to timeless jazz standards. On the journey\, we find the reflective sentiments of Eric Whitacre’s All Seems Beautiful to Me and Ola Gjeilo’s Ubi Caritas\, folk traditions in Danny Boy and Michael McGlynn’s Dúlamán\, and evocative tales of cities and starlight in April in Paris and New York\, New York. \nFollow the link to the Malvern Theatres website for the full programme.
URL:https://www.visitthemalverns.org/event/voces8-give-me-your-stars/
LOCATION:Malvern Theatres\, WR14 3HB
CATEGORIES:Concert,Malvern,Music
ATTACH;FMTTYPE=image/jpeg:https://www.visitthemalverns.org/wp-content/uploads/2025/03/Choir-image-by-David-Beale-on-Unsplash.jpg
GEO:52.1106766;-2.3267752
X-APPLE-STRUCTURED-LOCATION;VALUE=URI;X-ADDRESS=Malvern Theatres WR14 3HB;X-APPLE-RADIUS=500;X-TITLE=WR14 3HB:geo:-2.3267752,52.1106766
END:VEVENT
END:VCALENDAR